BEGIN:VCALENDAR
VERSION:2.0
PRODID:IEEE vTools.Events//EN
CALSCALE:GREGORIAN
BEGIN:VTIMEZONE
TZID:America/Sao_Paulo
BEGIN:DAYLIGHT
DTSTART:20380119T001407
TZOFFSETFROM:-0300
TZOFFSETTO:-0300
RRULE:FREQ=YEARLY;BYDAY=3TU;BYMONTH=1
TZNAME:-03
END:DAYLIGHT
BEGIN:STANDARD
DTSTART:20190216T230000
TZOFFSETFROM:-0200
TZOFFSETTO:-0300
RRULE:FREQ=YEARLY;BYDAY=3SA;BYMONTH=2
TZNAME:-03
END:STANDARD
END:VTIMEZONE
BEGIN:VEVENT
DTSTAMP:20240317T123350Z
UID:9E90A8FE-65CE-4B0D-9CE7-0AA0C7BB8FFD
DTSTART;TZID=America/Sao_Paulo:20240313T183000
DTEND;TZID=America/Sao_Paulo:20240313T203000
DESCRIPTION:Meeting with doctors and researchers professors of Applied Arti
 ficial Intelligence Laboratory at Federal University of Paraiba.\nTalk abo
 ut topics for participation of Med Minds Hackathon Powered by Unimed JP co
 mpany https://www.unimedjp.com.br/med.minds/\n\nVirtual: https://events.vt
 ools.ieee.org/m/411241
LOCATION:Virtual: https://events.vtools.ieee.org/m/411241
ORGANIZER:cs.cis.ufpb@gmail.com
SEQUENCE:29
SUMMARY:CS &amp; CIS UFPB - Meeting with doctors and researchers about AI for H
 ealth area
URL;VALUE=URI:https://events.vtools.ieee.org/m/411241
X-ALT-DESC:Description: &lt;br /&gt;&lt;p&gt;Meeting with doctors and researchers profe
 ssors of Applied Artificial Intelligence Laboratory at Federal University 
 of Paraiba.&amp;nbsp\;&lt;br&gt;Talk about topics for participation of Med Minds Hac
 kathon Powered by Unimed JP company https://www.unimedjp.com.br/med.minds/
 &lt;/p&gt;
END:VEVENT
END:VCALENDAR

