BEGIN:VCALENDAR
VERSION:2.0
PRODID:IEEE vTools.Events//EN
CALSCALE:GREGORIAN
BEGIN:VTIMEZONE
TZID:America/Los_Angeles
BEGIN:DAYLIGHT
DTSTART:20240310T030000
TZOFFSETFROM:-0800
TZOFFSETTO:-0700
RRULE:FREQ=YEARLY;BYDAY=2SU;BYMONTH=3
TZNAME:PDT
END:DAYLIGHT
BEGIN:STANDARD
DTSTART:20241103T010000
TZOFFSETFROM:-0700
TZOFFSETTO:-0800
RRULE:FREQ=YEARLY;BYDAY=1SU;BYMONTH=11
TZNAME:PST
END:STANDARD
END:VTIMEZONE
BEGIN:VEVENT
DTSTAMP:20240609T232844Z
UID:82781F2C-E722-4B21-A983-7D02B7CAA852
DTSTART;TZID=America/Los_Angeles:20240315T150000
DTEND;TZID=America/Los_Angeles:20240315T160000
DESCRIPTION:[Bowling alley]\n\nJoin us for an unforgettable evening of cama
 raderie and strikes at our IEEE Strikes &amp; Social event! Step onto the lane
 s and roll with the best as we enjoy a night of friendly competition and l
 aughter. Whether you&#39;re a seasoned bowler or just looking to have some fun
 \, all skill levels are welcome to participate. Plus\, enjoy complimentary
  snacks and refreshments throughout the evening. Don&#39;t miss out on this op
 portunity to unwind and connect with fellow IEEE members in a relaxed and 
 enjoyable atmosphere. See you there!\n\nCo-sponsored by: Optica - Algonqui
 n college student chapter\n\nAgenda: \nPayment at location: $15 per hour\n
 \nRoom:  Unit X130\, Wolves Den Restaurant\, 1385 Woodroffe Ave\, Nepean\,
  Ontario\, Canada\, K2G 1V8
LOCATION:Room:  Unit X130\, Wolves Den Restaurant\, 1385 Woodroffe Ave\, Ne
 pean\, Ontario\, Canada\, K2G 1V8
ORGANIZER:rim.cherif@ieee.org
SEQUENCE:60
SUMMARY:IEEE Strikes &amp; Social: A Night on the Lanes
URL;VALUE=URI:https://events.vtools.ieee.org/m/411417
X-ALT-DESC:Description: &lt;br /&gt;&lt;div class=&quot;container&quot;&gt;\n&lt;div class=&quot;image-co
 ntainer&quot;&gt;\n&lt;figure class=&quot;image image_resized&quot;&gt;&lt;img src=&quot;https://s10896.pc
 dn.co/wp-content/uploads/2022/09/wd-games-room-3.jpg&quot; alt=&quot;Bowling alley&quot; 
 width=&quot;508&quot; height=&quot;286&quot;&gt;&lt;/figure&gt;\n&lt;/div&gt;\n&lt;div class=&quot;content-container&quot;
 &gt;\n&lt;p class=&quot;content&quot;&gt;&lt;strong&gt;J&lt;/strong&gt;oin us for an unforgettable evenin
 g of camaraderie and strikes at our IEEE Strikes &amp;amp\; Social event! Step
  onto the lanes and roll with the best as we enjoy a night of friendly com
 petition and laughter. Whether you&#39;re a seasoned bowler or just looking to
  have some fun\, all skill levels are welcome to participate. Plus\, enjoy
  complimentary snacks and refreshments throughout the evening. Don&#39;t miss 
 out on this opportunity to unwind and connect with fellow IEEE members in 
 a relaxed and enjoyable atmosphere. See you there!&lt;/p&gt;\n&lt;/div&gt;\n&lt;/div&gt;&lt;br 
 /&gt;&lt;br /&gt;Agenda: &lt;br /&gt;&lt;p&gt;&lt;strong&gt;Payment at location: $15 per hour&lt;/strong
 &gt;&lt;/p&gt;
END:VEVENT
END:VCALENDAR

