BEGIN:VCALENDAR
VERSION:2.0
PRODID:IEEE vTools.Events//EN
CALSCALE:GREGORIAN
BEGIN:VTIMEZONE
TZID:America/Los_Angeles
BEGIN:DAYLIGHT
DTSTART:20240310T030000
TZOFFSETFROM:-0800
TZOFFSETTO:-0700
RRULE:FREQ=YEARLY;BYDAY=2SU;BYMONTH=3
TZNAME:PDT
END:DAYLIGHT
BEGIN:STANDARD
DTSTART:20241103T010000
TZOFFSETFROM:-0700
TZOFFSETTO:-0800
RRULE:FREQ=YEARLY;BYDAY=1SU;BYMONTH=11
TZNAME:PST
END:STANDARD
END:VTIMEZONE
BEGIN:VEVENT
DTSTAMP:20240703T140501Z
UID:1E955CC3-8540-4D98-B64C-0CF6913C2E23
DTSTART;TZID=America/Los_Angeles:20240415T183000
DTEND;TZID=America/Los_Angeles:20240415T200000
DESCRIPTION:Climate change presents one of the most pressing challenges of 
 our time\, demanding concerted efforts from individuals\, organizations\, 
 and governments worldwide. In this context\, harnessing the potential of y
 oung professionals is crucial for driving innovative solutions and catalyz
 ing meaningful change.\n\nRecognizing the significance of engaging young p
 rofessionals in the fight against climate change\, the IEEE Young Professi
 onals program has emerged as a key player in fostering a sustainable futur
 e. The aim of the [panel forum](https://ieee-sustech.org/program/ieee-youn
 g-professionals-for-climate-change-action-reception-and-panel-discussion/)
  at the [SusTech 2024 Conference](https://ieee-sustech.org/) is to highlig
 ht the pivotal role of IEEE Young Professionals in the realm of climate ch
 ange\, exploring their current contributions and outlining strategies for 
 more proactive engagement.\n\nThis event would be of value to:\n\n- Gradua
 te and undergraduate students\, members of the IEEE Young Professionals co
 mmunity from diverse technical backgrounds\, including engineering\, compu
 ter science\, environmental science\, and related fields\, would find valu
 e in participating. This audience brings fresh perspectives and innovative
  ideas to the discussion.\n- Professionals working in industries related t
 o energy\, technology\, sustainability\, and environmental management can 
 contribute their practical insights and experiences to the forum. Their ex
 pertise enriches the dialogue and provides real-world perspectives on impl
 ementing sustainable solutions.\n- Scholars and researchers specializing i
 n climate science\, renewable energy\, sustainable development\, and relat
 ed fields can offer valuable insights into the latest trends\, innovations
 \, and best practices. Their research findings can inform discussions and 
 inspire collaborative efforts.\n- Representatives from government agencies
 \, non-governmental organizations (NGOs)\, and advocacy groups involved in
  climate policy and environmental advocacy can provide insights into the p
 olicy landscape\, regulatory frameworks\, and advocacy strategies relevant
  to sustainable climate solutions.\n\nSpeaker(s): Dr. Sajith Wijesuriya\, 
 Dr. Sneha Satish Hegde\, Sukanya S Meher \, Cybele Ghanem\, Kayna Mendoza
  Trujillo\, Naznin Akter\, Dr. Prantik Saha\n\nUniversity Place Hotel 310 
 SW Lincoln St\, Portland\, Oregon\, United States\, 97201\, Virtual: https
 ://events.vtools.ieee.org/m/411492
LOCATION:University Place Hotel 310 SW Lincoln St\, Portland\, Oregon\, Uni
 ted States\, 97201\, Virtual: https://events.vtools.ieee.org/m/411492
ORGANIZER:naznin@ieee.org
SEQUENCE:8
SUMMARY:Leveraging IEEE Young Professionals for Climate Change Action
URL;VALUE=URI:https://events.vtools.ieee.org/m/411492
X-ALT-DESC:Description: &lt;br /&gt;&lt;p&gt;&amp;nbsp\;&lt;/p&gt;\n&lt;p&gt;&lt;img src=&quot;https://events.v
 tools.ieee.org/vtools_ui/media/display/18990f58-de31-4b1e-a466-d1191cbbb4c
 1&quot;&gt;&lt;/p&gt;\n&lt;p&gt;&amp;nbsp\;&lt;/p&gt;\n&lt;p&gt;&amp;nbsp\;&lt;/p&gt;\n&lt;p&gt;Climate change presents one of
  the most pressing challenges of our time\, demanding concerted efforts fr
 om individuals\, organizations\, and governments worldwide. In this contex
 t\, harnessing the potential of young professionals is crucial for driving
  innovative solutions and catalyzing meaningful change.&lt;/p&gt;\n&lt;p&gt;Recognizin
 g the significance of engaging young professionals in the fight against cl
 imate change\, the IEEE Young Professionals program has emerged as a key p
 layer in fostering a sustainable future. The aim of the &lt;a href=&quot;https://i
 eee-sustech.org/program/ieee-young-professionals-for-climate-change-action
 -reception-and-panel-discussion/&quot;&gt;panel forum&lt;/a&gt; at the &lt;a href=&quot;https://
 ieee-sustech.org/&quot;&gt;SusTech 2024 Conference&lt;/a&gt; is to highlight the pivotal
  role of IEEE Young Professionals in the realm of climate change\, explori
 ng their current contributions and outlining strategies for more proactive
  engagement.&lt;/p&gt;\n&lt;p&gt;This event would be of value to:&lt;/p&gt;\n&lt;ul&gt;\n&lt;li&gt;Gradu
 ate and undergraduate students\, members of the IEEE Young Professionals c
 ommunity from diverse technical backgrounds\, including engineering\, comp
 uter science\, environmental science\, and related fields\, would find val
 ue in participating. This audience brings fresh perspectives and innovativ
 e ideas to the discussion.&lt;/li&gt;\n&lt;li&gt;Professionals working in industries r
 elated to energy\, technology\, sustainability\, and environmental managem
 ent can contribute their practical insights and experiences to the forum. 
 Their expertise enriches the dialogue and provides real-world perspectives
  on implementing sustainable solutions.&lt;/li&gt;\n&lt;li&gt;Scholars and researchers
  specializing in climate science\, renewable energy\, sustainable developm
 ent\, and related fields can offer valuable insights into the latest trend
 s\, innovations\, and best practices. Their research findings can inform d
 iscussions and inspire collaborative efforts.&lt;/li&gt;\n&lt;li&gt;Representatives fr
 om government agencies\, non-governmental organizations (NGOs)\, and advoc
 acy groups involved in climate policy and environmental advocacy can provi
 de insights into the policy landscape\, regulatory frameworks\, and advoca
 cy strategies relevant to sustainable climate solutions.&lt;/li&gt;\n&lt;/ul&gt;
END:VEVENT
END:VCALENDAR

