BEGIN:VCALENDAR
VERSION:2.0
PRODID:IEEE vTools.Events//EN
CALSCALE:GREGORIAN
BEGIN:VTIMEZONE
TZID:America/Bogota
BEGIN:DAYLIGHT
DTSTART:20380118T221407
TZOFFSETFROM:-0500
TZOFFSETTO:-0500
RRULE:FREQ=YEARLY;BYDAY=3MO;BYMONTH=1
TZNAME:-05
END:DAYLIGHT
BEGIN:STANDARD
DTSTART:19930206T230000
TZOFFSETFROM:-0400
TZOFFSETTO:-0500
RRULE:FREQ=YEARLY;BYDAY=1SA;BYMONTH=2
TZNAME:-05
END:STANDARD
END:VTIMEZONE
BEGIN:VEVENT
DTSTAMP:20240313T210545Z
UID:98F4E0EA-C03F-4F11-994B-FDFC5E310F57
DTSTART;TZID=America/Bogota:20240228T155600
DTEND;TZID=America/Bogota:20240228T165600
DESCRIPTION:Se realizo la primera reunión el año para seleccionar a la nu
 eva junta directiva a cargo de IEEE\, además que se hizo un tentativo del
  cronograma para este año respecto a los eventos que se harán desde facu
 ltad y los objetivos que se quieren lograr por parte de IEEE y de los semi
 lleros de la universidad en ayuda de IEEE.\n\nCARRERA 9 51 11\, BOGOTÁ\, 
 Distrito Capital de Bogota\, Colombia\, 110231
LOCATION:CARRERA 9 51 11\, BOGOTÁ\, Distrito Capital de Bogota\, Colombia\
 , 110231
ORGANIZER:lorenzomartinez@usantotomas.edu.co
SEQUENCE:14
SUMMARY:PRIMERA REUNION 2024
URL;VALUE=URI:https://events.vtools.ieee.org/m/411710
X-ALT-DESC:Description: &lt;br /&gt;&lt;p&gt;Se realizo la primera reuni&amp;oacute\;n el a
 &amp;ntilde\;o para seleccionar a la nueva junta directiva a cargo de IEEE\, a
 dem&amp;aacute\;s que se hizo un tentativo del cronograma para este a&amp;ntilde\;
 o respecto a los eventos que se har&amp;aacute\;n desde facultad y los objetiv
 os que se quieren lograr por parte de IEEE y de los semilleros de la unive
 rsidad en ayuda de IEEE.&lt;/p&gt;
END:VEVENT
END:VCALENDAR

