BEGIN:VCALENDAR
VERSION:2.0
PRODID:IEEE vTools.Events//EN
CALSCALE:GREGORIAN
BEGIN:VTIMEZONE
TZID:America/Chicago
BEGIN:DAYLIGHT
DTSTART:20240310T030000
TZOFFSETFROM:-0600
TZOFFSETTO:-0500
RRULE:FREQ=YEARLY;BYDAY=2SU;BYMONTH=3
TZNAME:CDT
END:DAYLIGHT
BEGIN:STANDARD
DTSTART:20241103T010000
TZOFFSETFROM:-0500
TZOFFSETTO:-0600
RRULE:FREQ=YEARLY;BYDAY=1SU;BYMONTH=11
TZNAME:CST
END:STANDARD
END:VTIMEZONE
BEGIN:VEVENT
DTSTAMP:20240503T005643Z
UID:0077B333-B4C9-4CE7-B88E-6B9AA908E4C1
DTSTART;TZID=America/Chicago:20240425T180000
DTEND;TZID=America/Chicago:20240425T210000
DESCRIPTION:Come join the IEEE Austin Young Professionals for a tech talk a
 nd happy hour at Moontower Cider Company on April 25th! It&#39;s a great oppor
 tunity to meet fellow young professionals in the engineering industry in A
 ustin and to expand your network. All are welcome and the event is free of
  charge!\n\nAbstract:\n\nStatistical Physical Key Generation for Decentral
 ized Identity Protocols\n\nInformation security today is highly centralize
 d\, users have to trust third parties to ensure that their data is encrypt
 ed. Hundreds of millions of data breaches occur every year\, including tho
 se carried out by social engineers. A mass migration to online work &amp; educ
 ation renders a demand for trust\, validation &amp; work-content management. O
 nce knowledge &amp; skills are acquired\, they are permanent and cannot be tra
 nsferred\, duplicated\, or stolen\; users have complete ownership of their
  knowledge &amp; skills\, as they are non-fungible.\n\nSpeaker(s): Christiana\
 n\nAgenda: \n6:00 - 6:45pm: Networking\n\n6:45 - 7:45pm: Presentation\n\n7
 :45 - 8:15pm: Q &amp; A\n\n8:15 - 9:00pm: Networking\n\nBldg: Moontower Cider 
 Company\, 1916 Tillery St\, Austin\, Texas\, United States\, 78723
LOCATION:Bldg: Moontower Cider Company\, 1916 Tillery St\, Austin\, Texas\,
  United States\, 78723
ORGANIZER:melvin.moncey@gmail.com
SEQUENCE:11
SUMMARY:Austin IEEE Young Professionals: Tech Talk &amp; Happy Hour
URL;VALUE=URI:https://events.vtools.ieee.org/m/412428
X-ALT-DESC:Description: &lt;br /&gt;&lt;p&gt;Come join the IEEE Austin Young Profession
 als for a tech talk and happy hour at Moontower Cider Company on April 25t
 h! It&#39;s a great opportunity to meet fellow young professionals in the engi
 neering industry in Austin and to expand your network. All are welcome and
  the event is free of charge!&lt;/p&gt;\n&lt;p&gt;Abstract:&lt;/p&gt;\n&lt;p class=&quot;MsoNormal&quot;&gt;
 &lt;strong&gt;&lt;span style=&quot;mso-fareast-font-family: &#39;Times New Roman&#39;\;&quot;&gt;Statist
 ical Physical Key Generation for Decentralized Identity Protocols &lt;/span&gt;&lt;
 /strong&gt;&lt;/p&gt;\n&lt;p class=&quot;MsoNormal&quot;&gt;&lt;span style=&quot;mso-fareast-font-family: &#39;
 Times New Roman&#39;\;&quot;&gt;Information security today is highly centralized\, use
 rs have to trust third parties to ensure that their data is encrypted. Hun
 dreds of millions of data breaches occur every year\, including those carr
 ied out by social engineers. A mass migration to online work &amp;amp\; educat
 ion renders a demand for trust\, validation &amp;amp\; work-content management
 . Once knowledge &amp;amp\; skills are acquired\, they are permanent and canno
 t be transferred\, duplicated\, or stolen\; users have complete ownership 
 of their knowledge &amp;amp\; skills\, as they are non-fungible.&lt;/span&gt;&lt;/p&gt;&lt;br
  /&gt;&lt;br /&gt;Agenda: &lt;br /&gt;&lt;p&gt;6:00 - 6:45pm: Networking&lt;/p&gt;\n&lt;p&gt;6:45 - 7:45pm:
  Presentation&lt;/p&gt;\n&lt;p&gt;7:45 - 8:15pm: Q &amp;amp\; A&lt;/p&gt;\n&lt;p&gt;8:15 - 9:00pm: Net
 working&lt;/p&gt;
END:VEVENT
END:VCALENDAR

