BEGIN:VCALENDAR
VERSION:2.0
PRODID:IEEE vTools.Events//EN
CALSCALE:GREGORIAN
BEGIN:VTIMEZONE
TZID:America/New_York
BEGIN:DAYLIGHT
DTSTART:20240310T030000
TZOFFSETFROM:-0500
TZOFFSETTO:-0400
RRULE:FREQ=YEARLY;BYDAY=2SU;BYMONTH=3
TZNAME:EDT
END:DAYLIGHT
BEGIN:STANDARD
DTSTART:20241103T010000
TZOFFSETFROM:-0400
TZOFFSETTO:-0500
RRULE:FREQ=YEARLY;BYDAY=1SU;BYMONTH=11
TZNAME:EST
END:STANDARD
END:VTIMEZONE
BEGIN:VEVENT
DTSTAMP:20240615T152150Z
UID:852F9C87-2EDC-4CA1-96ED-27874482A741
DTSTART;TZID=America/New_York:20240610T160000
DTEND;TZID=America/New_York:20240610T170000
DESCRIPTION:[event poster]\n\nBy sensing various life activities with micro
 wave signals\, portable radar with state-of-the-art front-end and measurem
 ent algorithms has great potential to improve healthcare\, security\, and 
 human-machine interface. This presentation will first provide an overview 
 of the state-of-the-art smart radar sensors powered by advanced digital/RF
  beamforming\, multiple-input and multiple-output (MIMO)\, inverse synthet
 ic-aperture radar (ISAR) technique\, and deep learning. A few examples bas
 ed on interferometry\, Doppler\, frequency-shift keying (FSK)\, and freque
 ncy-modulated continuous-wave (FMCW) modes at 5.8 GHz\, 24 GHz\, and 120 G
 Hz will be discussed. In addition\, the use of nonlinear technologies will
  be reported\, with a focus on in-band third-order intermodulation measure
 ment for enhanced target identification and parameter extraction. Case stu
 dies at this exciting human-microwave frontier will be presented on physio
 logical signal sensing\, non-contact human-computer interface\, driving be
 havior recognition\, human tracking\, and studies in clinical environments
 . Finally\, this talk will conclude with future industrial and academic R&amp;
 D outlooks for microwave short-range life activities sensing.\n\nSpeaker(s
 ): Prof. Changzhi Li \n\nBldg: HUB 350\, 350 Legget Dr\, Kanata\, Ontario\
 , Canada
LOCATION:Bldg: HUB 350\, 350 Legget Dr\, Kanata\, Ontario\, Canada
ORGANIZER:aabdella@ieee.org
SEQUENCE:23
SUMMARY:Portable Radar Systems at the Human-Microwave Frontier: Life Activi
 ty Sensing and Human Tracking
URL;VALUE=URI:https://events.vtools.ieee.org/m/412951
X-ALT-DESC:Description: &lt;br /&gt;&lt;p class=&quot;MsoNormal&quot; style=&quot;line-height: norm
 al\;&quot;&gt;&lt;span lang=&quot;EN-US&quot; style=&quot;font-size: 12.0pt\; mso-ascii-font-family:
  Calibri\; mso-fareast-font-family: SimSun\; mso-hansi-font-family: Calibr
 i\; mso-bidi-font-family: &#39;Times New Roman&#39;\;&quot;&gt;&lt;img style=&quot;display: block\
 ; margin-left: auto\; margin-right: auto\;&quot; src=&quot;https://events.vtools.iee
 e.org/vtools_ui/media/display/b160d408-3d8f-4316-9b1d-94853ce26cac&quot; alt=&quot;e
 vent poster&quot; width=&quot;519&quot; height=&quot;292&quot;&gt;&lt;/span&gt;&lt;/p&gt;\n&lt;p class=&quot;MsoNormal&quot; st
 yle=&quot;text-align: justify\; text-justify: inter-ideograph\; line-height: no
 rmal\;&quot;&gt;&lt;span lang=&quot;EN-US&quot; style=&quot;font-size: 12.0pt\; mso-ascii-font-famil
 y: Calibri\; mso-fareast-font-family: SimSun\; mso-hansi-font-family: Cali
 bri\; mso-bidi-font-family: &#39;Times New Roman&#39;\;&quot;&gt;By sensing various life a
 ctivities with microwave signals\, portable radar with state-of-the-art fr
 ont-end and measurement algorithms has great potential to improve healthca
 re\, security\, and human-machine interface. This presentation will first 
 provide an overview of the state-of-the-art smart radar sensors powered by
  advanced digital/RF beamforming\, multiple-input and multiple-output (MIM
 O)\, inverse synthetic-aperture radar (ISAR) technique\, and deep learning
 . A few examples based on interferometry\, Doppler\, frequency-shift keyin
 g (FSK)\, and frequency-modulated continuous-wave (FMCW) modes at 5.8 GHz\
 , 24 GHz\, and 120 GHz will be discussed.&amp;nbsp\;&lt;/span&gt;&lt;span lang=&quot;EN-US&quot; 
 style=&quot;font-size: 12.0pt\;&quot;&gt;In addition\, the use of nonlinear technologie
 s will be reported\, with a focus on in-band third-order intermodulation m
 easurement for enhanced target identification and parameter extraction. Ca
 se studies at this exciting human-microwave frontier will be presented on 
 physiological signal sensing\, non-contact human-computer interface\, driv
 ing behavior recognition\, human tracking\, and studies in clinical enviro
 nments. Finally\, this talk will conclude with future industrial and acade
 mic R&amp;amp\;D outlooks for microwave short-range life activities sensing.&lt;/
 span&gt;&lt;span lang=&quot;EN-US&quot;&gt;&lt;span style=&quot;mso-spacerun: yes\;&quot;&gt;&amp;nbsp\; &lt;/span&gt;&lt;
 /span&gt;&lt;/p&gt;
END:VEVENT
END:VCALENDAR

