BEGIN:VCALENDAR
VERSION:2.0
PRODID:IEEE vTools.Events//EN
CALSCALE:GREGORIAN
BEGIN:VTIMEZONE
TZID:Europe/Budapest
BEGIN:DAYLIGHT
DTSTART:20240331T030000
TZOFFSETFROM:+0100
TZOFFSETTO:+0200
RRULE:FREQ=YEARLY;BYDAY=-1SU;BYMONTH=3
TZNAME:CEST
END:DAYLIGHT
BEGIN:STANDARD
DTSTART:20241027T020000
TZOFFSETFROM:+0200
TZOFFSETTO:+0100
RRULE:FREQ=YEARLY;BYDAY=-1SU;BYMONTH=10
TZNAME:CET
END:STANDARD
END:VTIMEZONE
BEGIN:VEVENT
DTSTAMP:20240405T050100Z
UID:B5C7C64F-3D62-457E-AB07-E8EAF1F6444A
DTSTART;TZID=Europe/Budapest:20240402T100000
DTEND;TZID=Europe/Budapest:20240402T110000
DESCRIPTION:Dear Student! Now and after graduation\, you need the self-mana
 gement and practical advice that you will not have received in such a conc
 entrated way in any other course. Take advantage of this opportunity to at
 tend a workshop with four suitable workshops\, free of charge\, BUT REGIST
 RATION REQUIRED.\nYou can get answers to the important questions below:\nH
 ow to be engaging and effective in job interviews and salary negotiations.
  How to position yourself by finding your strengths? Where can you find th
 e job opportunities that are relevant to you?What specific career path sho
 uld you take? How can you help your career progression? What will make you
 r probationary period a success\, how can you connect with the company?\nh
 ttps://forms.office.com/e/mrA8Xyi4cv?origin=lprLink\nSelf-management works
 hop series TIPS AND THEIR APPLICATION TO\n\nLocation. If you&#39;re looking fo
 r a job\, here&#39;s what to look out for...You need self-management in the of
 fice too. Help\, I&#39;m the boss! If you have any further questions about thi
 s\, please email forgacs.anita@kgk.uni-obuda.hu\nWe look forward to welcom
 ing you to our workshop sessions to help you manage yourself even better!\
 n\nCo-sponsored by: Obuda University\n\nRoom: 125.\, Bldg: A\, 1084 Budape
 st Springfield street 15-17\, Budapest\, Pest Megye\, Hungary\, 1084
LOCATION:Room: 125.\, Bldg: A\, 1084 Budapest Springfield street 15-17\, Bu
 dapest\, Pest Megye\, Hungary\, 1084
ORGANIZER:viktor.patrik@hotmail.com
SEQUENCE:1
SUMMARY:Self-management workshop series ADVICE AND HOW TO IMPROVE IT IN THE
  WORKPLACE AND CAREER MANAGEMENT
URL;VALUE=URI:https://events.vtools.ieee.org/m/413257
X-ALT-DESC:Description: &lt;br /&gt;&lt;p&gt;Dear Student! Now and after graduation\, y
 ou need the self-management and practical advice that you will not have re
 ceived in such a concentrated way in any other course. Take advantage of t
 his opportunity to attend a workshop with four suitable workshops\, free o
 f charge\, BUT REGISTRATION REQUIRED.&amp;nbsp\;&lt;br&gt;You can get answers to the
  important questions below:&amp;nbsp\;&lt;br&gt;How to be engaging and effective in 
 job interviews and salary negotiations. How to position yourself by findin
 g your strengths? Where can you find the job opportunities that are releva
 nt to you?What specific career path should you take? How can you help your
  career progression? What will make your probationary period a success\, h
 ow can you connect with the company?&lt;br&gt;https://forms.office.com/e/mrA8Xyi
 4cv?origin=lprLink&lt;br&gt;Self-management workshop series TIPS AND THEIR APPLI
 CATION TO&amp;nbsp\;&lt;/p&gt;\n&lt;p&gt;Location. If you&#39;re looking for a job\, here&#39;s wh
 at to look out for...You need self-management in the office too. Help\, I&#39;
 m the boss! If you have any further questions about this\, please email fo
 rgacs.anita@kgk.uni-obuda.hu&amp;nbsp\;&lt;br&gt;We look forward to welcoming you to
  our workshop sessions to help you manage yourself even better!&amp;nbsp\;&lt;/p&gt;
 \n&lt;p&gt;&amp;nbsp\;&lt;/p&gt;
END:VEVENT
END:VCALENDAR

