BEGIN:VCALENDAR
VERSION:2.0
PRODID:IEEE vTools.Events//EN
CALSCALE:GREGORIAN
BEGIN:VTIMEZONE
TZID:America/Chicago
BEGIN:DAYLIGHT
DTSTART:20240310T030000
TZOFFSETFROM:-0600
TZOFFSETTO:-0500
RRULE:FREQ=YEARLY;BYDAY=2SU;BYMONTH=3
TZNAME:CDT
END:DAYLIGHT
BEGIN:STANDARD
DTSTART:20241103T010000
TZOFFSETFROM:-0500
TZOFFSETTO:-0600
RRULE:FREQ=YEARLY;BYDAY=1SU;BYMONTH=11
TZNAME:CST
END:STANDARD
END:VTIMEZONE
BEGIN:VEVENT
DTSTAMP:20240411T041811Z
UID:EE148430-63EF-40BF-9E9D-F4DDD78ACA02
DTSTART;TZID=America/Chicago:20240403T100000
DTEND;TZID=America/Chicago:20240403T110000
DESCRIPTION:[]\n\nCo-sponsored by: Gurman Ubhi\n\n201 Portage Ave c100\, Wi
 nnipeg\, Manitoba\, Canada\, R3C 0B9
LOCATION:201 Portage Ave c100\, Winnipeg\, Manitoba\, Canada\, R3C 0B9
ORGANIZER:gubhi@academic.rrc.ca
SEQUENCE:21
SUMMARY:Exploring the Future: StudioLab XR Tour
URL;VALUE=URI:https://events.vtools.ieee.org/m/413328
X-ALT-DESC:Description: &lt;br /&gt;&lt;p&gt;&lt;img src=&quot;https://events.vtools.ieee.org/v
 tools_ui/media/display/801b504e-38a4-43e7-a776-ab68010d9a81&quot; alt=&quot;&quot; width=
 &quot;1000&quot; height=&quot;1414&quot;&gt;&lt;/p&gt;
END:VEVENT
END:VCALENDAR

