BEGIN:VCALENDAR
VERSION:2.0
PRODID:IEEE vTools.Events//EN
CALSCALE:GREGORIAN
BEGIN:VTIMEZONE
TZID:America/Chicago
BEGIN:DAYLIGHT
DTSTART:20240310T030000
TZOFFSETFROM:-0600
TZOFFSETTO:-0500
RRULE:FREQ=YEARLY;BYDAY=2SU;BYMONTH=3
TZNAME:CDT
END:DAYLIGHT
BEGIN:STANDARD
DTSTART:20241103T010000
TZOFFSETFROM:-0500
TZOFFSETTO:-0600
RRULE:FREQ=YEARLY;BYDAY=1SU;BYMONTH=11
TZNAME:CST
END:STANDARD
END:VTIMEZONE
BEGIN:VEVENT
DTSTAMP:20241106T015331Z
UID:45DE264D-1449-4E9C-A376-72F518C064C9
DTSTART;TZID=America/Chicago:20240418T170000
DTEND;TZID=America/Chicago:20240418T190000
DESCRIPTION:Find out more about Collins Aerospace. Tour laboratories at the
 ir Rockford facility.\n\nAgenda: \n5:00 Arrive at Collins Aerospace\n\nOve
 rview presentation about Collins\; Refreshments\n\n5:30 Tour plant\n\n7:00
  Adjourn\n\n4747 Harrison Ave\, Rcokford\, Illinois\, United States\, 6110
 8
LOCATION:4747 Harrison Ave\, Rcokford\, Illinois\, United States\, 61108
ORGANIZER:d.zinger@ieee.org
SEQUENCE:39
SUMMARY:IEEE Student Branch Tour of Collins Areospace
URL;VALUE=URI:https://events.vtools.ieee.org/m/413387
X-ALT-DESC:Description: &lt;br /&gt;&lt;p&gt;Find out more about Collins Aerospace.&amp;nbs
 p\; Tour laboratories at their Rockford facility.&lt;/p&gt;&lt;br /&gt;&lt;br /&gt;Agenda: &lt;
 br /&gt;&lt;p&gt;5:00 Arrive at Collins Aerospace&lt;/p&gt;\n&lt;p&gt;&amp;nbsp\; &amp;nbsp\; &amp;nbsp\; &amp;
 nbsp\;Overview presentation about Collins\; Refreshments&lt;/p&gt;\n&lt;p&gt;5:30 Tour
  plant&lt;/p&gt;\n&lt;p&gt;7:00 Adjourn&lt;/p&gt;
END:VEVENT
END:VCALENDAR

