BEGIN:VCALENDAR
VERSION:2.0
PRODID:IEEE vTools.Events//EN
CALSCALE:GREGORIAN
BEGIN:VTIMEZONE
TZID:America/New_York
BEGIN:DAYLIGHT
DTSTART:20240310T030000
TZOFFSETFROM:-0500
TZOFFSETTO:-0400
RRULE:FREQ=YEARLY;BYDAY=2SU;BYMONTH=3
TZNAME:EDT
END:DAYLIGHT
BEGIN:STANDARD
DTSTART:20241103T010000
TZOFFSETFROM:-0400
TZOFFSETTO:-0500
RRULE:FREQ=YEARLY;BYDAY=1SU;BYMONTH=11
TZNAME:EST
END:STANDARD
END:VTIMEZONE
BEGIN:VEVENT
DTSTAMP:20241109T010009Z
UID:EA69D150-3F23-4B2A-AE33-9A1BF955A247
DTSTART;TZID=America/New_York:20240402T100000
DTEND;TZID=America/New_York:20240402T113000
DESCRIPTION:Abstract\n\nThe Additive Manufacturing (AM) technology\, also k
 nown as 3D-printing technology\, offers several interesting and attractive
  features\, including fast prototyping\, geometry flexibility\, easily cus
 tomizable products\, and low cost (in some cases). However\, using such te
 chnologies for microwave devices is not straightforward as AM has not been
  specifically developed for microwave components\, and in most cases\, som
 e adaptation and post-processing is necessary. Furthermore\, there are man
 y AM technologies available\, and it is important to understand their char
 acteristics before selecting one.\n\nIn the presentation\, an overview of 
 the different AM technologies available will be provided. Additionally\, a
 n analysis of some of the most common AM technologies used for the manufac
 turing of microwave components will be conducted in more detail\, with the
  help of several examples. Several microwave components manufactured with 
 some of the most popular AM technologies will be shown\, along with a deta
 iled description of the manufacturing process\, post-processing\, and all 
 actions necessary to make the component perform well. Furthermore\, it wil
 l be shown how the flexibility of this technology allows the development o
 f new classes of components with non-conventional geometries that can be e
 xploited to obtain high-performing components in terms of compactness\, we
 ight\, losses\, etc.\n\nCo-sponsored by: INRS\, Staracom\n\nSpeaker(s): Cr
 istiano Tomassoni\, \n\nVirtual: https://events.vtools.ieee.org/m/413505
LOCATION:Virtual: https://events.vtools.ieee.org/m/413505
ORGANIZER:tarek.djerafi@ieee.org
SEQUENCE:15
SUMMARY:Additive Manufacturing: emerging opportunities for microwave compon
 ents ( Distinguished Lecture Talk)
URL;VALUE=URI:https://events.vtools.ieee.org/m/413505
X-ALT-DESC:Description: &lt;br /&gt;&lt;p class=&quot;MsoNormal&quot; style=&quot;text-align: justi
 fy\;&quot;&gt;&amp;nbsp\;&lt;/p&gt;\n&lt;p class=&quot;MsoNormal&quot; style=&quot;text-align: justify\;&quot;&gt;&lt;str
 ong&gt;&lt;span lang=&quot;EN-GB&quot; style=&quot;font-size: 10.0pt\; line-height: 107%\; mso-
 ansi-language: EN-GB\;&quot;&gt;Abstract&lt;/span&gt;&lt;/strong&gt;&lt;/p&gt;\n&lt;p class=&quot;MsoNormal&quot;
  style=&quot;text-align: justify\;&quot;&gt;&lt;span lang=&quot;EN-GB&quot; style=&quot;font-size: 10.0pt
 \; line-height: 107%\; mso-ansi-language: EN-GB\;&quot;&gt;The Additive Manufactur
 ing (AM) technology\, also known as 3D-printing technology\, offers severa
 l interesting and attractive features\, including fast prototyping\, geome
 try flexibility\, easily customizable products\, and low cost (in some cas
 es). However\, using such technologies for microwave devices is not straig
 htforward as AM has not been specifically developed for microwave componen
 ts\, and in most cases\, some adaptation and post-processing is necessary.
  Furthermore\, there are many AM technologies available\, and it is import
 ant to understand their characteristics before selecting one.&lt;/span&gt;&lt;/p&gt;\n
 &lt;p class=&quot;MsoNormal&quot; style=&quot;text-align: justify\;&quot;&gt;&lt;span lang=&quot;EN-GB&quot; styl
 e=&quot;font-size: 10.0pt\; line-height: 107%\; mso-ansi-language: EN-GB\;&quot;&gt;In 
 the presentation\, an overview of the different AM technologies available 
 will be provided. Additionally\, an analysis of some of the most common AM
  technologies used for the manufacturing of microwave components will be c
 onducted in more detail\, with the help of several examples. Several micro
 wave components manufactured with some of the most popular AM technologies
  will be shown\, along with a detailed description of the manufacturing pr
 ocess\, post-processing\, and all actions necessary to make the component 
 perform well. Furthermore\, it will be shown how the flexibility of this t
 echnology allows the development of new classes of components with non-con
 ventional geometries that can be exploited to obtain high-performing compo
 nents in terms of compactness\, weight\, losses\, etc.&lt;/span&gt;&lt;/p&gt;
END:VEVENT
END:VCALENDAR

