BEGIN:VCALENDAR
VERSION:2.0
PRODID:IEEE vTools.Events//EN
CALSCALE:GREGORIAN
BEGIN:VTIMEZONE
TZID:Australia/Sydney
BEGIN:DAYLIGHT
DTSTART:20241006T030000
TZOFFSETFROM:+1000
TZOFFSETTO:+1100
RRULE:FREQ=YEARLY;BYDAY=1SU;BYMONTH=10
TZNAME:AEDT
END:DAYLIGHT
BEGIN:STANDARD
DTSTART:20240407T020000
TZOFFSETFROM:+1100
TZOFFSETTO:+1000
RRULE:FREQ=YEARLY;BYDAY=1SU;BYMONTH=4
TZNAME:AEST
END:STANDARD
END:VTIMEZONE
BEGIN:VEVENT
DTSTAMP:20240524T060743Z
UID:754B3237-AA68-442E-8CA3-9B44715BB2C7
DTSTART;TZID=Australia/Sydney:20240521T123000
DTEND;TZID=Australia/Sydney:20240521T143000
DESCRIPTION:[]\n\nHi All\,\n\nCome and join us for lunch. It is being hoste
 d by Life Members Affinity Group but everyone is welcome.\n\nIt is at The 
 Ranch near Macquarie University. Easy walk from Macquarie University Metro
  Station. Buses go past the door.\n\nThe menu can be found at https://www.
 theranch.com.au/menus\n\nThese are casual and informal events. An opportun
 ity to discuss engineering and unrelated topics.\n\nTake it as an opportun
 ity to get out\, enjoy the company and the food. As usual it is pay for yo
 urself.\n\nThe Section is making these lunches a regular event. There are 
 a number of people who take this opportunity to see the sights of Sydney u
 sing public transport.\n\nThe lunches are every two weeks subject to suita
 ble venues being found. Please let me know if you have a suitable venue in
  your area. There are some being arranged outside the Sydney metro area. T
 he day of the week is flexible\, even weekends are possible. Your thoughts
  and assistance in planning would be welcomed.\n\nThe [next luncheon will 
 be on Tuesday 4 June](https://events.vtools.ieee.org/m/420936) at Spicy Jo
 int\, Chinatown.\n\nThere will be no luncheon on Tuesday 2 July.\n\nPlease
  register so that tables can be booked.\n\n108 Herring Rd\, North Ryde\, N
 ew South Wales\, Australia\, 2113
LOCATION:108 Herring Rd\, North Ryde\, New South Wales\, Australia\, 2113
ORGANIZER:Talbingo@optusnet.com.au
SEQUENCE:31
SUMMARY:Luncheon - The Ranch - North Ryde
URL;VALUE=URI:https://events.vtools.ieee.org/m/413537
X-ALT-DESC:Description: &lt;br /&gt;&lt;p&gt;&lt;img src=&quot;https://events.vtools.ieee.org/v
 tools_ui/media/display/23604a9a-8ccb-4384-af8a-37dd2ce7c729&quot; alt=&quot;&quot; width=
 &quot;500&quot; height=&quot;521&quot;&gt;&lt;/p&gt;\n&lt;p&gt;Hi All\,&lt;/p&gt;\n&lt;p&gt;Come and join us for lunch. I
 t is being hosted by Life Members Affinity Group but everyone is welcome.&lt;
 /p&gt;\n&lt;p&gt;It is at The Ranch near Macquarie University. Easy walk from Macqu
 arie University Metro Station. Buses go past the door.&lt;/p&gt;\n&lt;p&gt;The menu ca
 n be found at https://www.theranch.com.au/menus&lt;/p&gt;\n&lt;p&gt;These are casual a
 nd informal events. An opportunity to discuss engineering and unrelated to
 pics.&lt;/p&gt;\n&lt;p&gt;Take it as an opportunity to get out\, enjoy the company and
  the food. As usual it is pay for yourself.&lt;/p&gt;\n&lt;p&gt;The Section is making 
 these lunches a regular event. There are a number of people who take this 
 opportunity to see the sights of Sydney using public transport.&lt;/p&gt;\n&lt;p&gt;Th
 e lunches are every two weeks subject to suitable venues being found. Plea
 se let me know if you have a suitable venue in your area. There are some b
 eing arranged outside the Sydney metro area. The day of the week is flexib
 le\, even weekends are possible. Your thoughts and assistance in planning 
 would be welcomed.&lt;/p&gt;\n&lt;p&gt;The &lt;a href=&quot;https://events.vtools.ieee.org/m/4
 20936&quot;&gt;next luncheon will be on Tuesday 4 June&lt;/a&gt; at Spicy Joint\, Chinat
 own.&lt;/p&gt;\n&lt;p&gt;There will be no luncheon on Tuesday 2 July.&lt;/p&gt;\n&lt;p&gt;Please r
 egister so that tables can be booked.&lt;/p&gt;
END:VEVENT
END:VCALENDAR

