BEGIN:VCALENDAR
VERSION:2.0
PRODID:IEEE vTools.Events//EN
CALSCALE:GREGORIAN
BEGIN:VTIMEZONE
TZID:Asia/Kolkata
BEGIN:STANDARD
DTSTART:19451014T230000
TZOFFSETFROM:+0630
TZOFFSETTO:+0530
TZNAME:IST
END:STANDARD
END:VTIMEZONE
BEGIN:VEVENT
DTSTAMP:20240407T061255Z
UID:3F962C31-836A-4A41-AADC-3F1933FD8876
DTSTART;TZID=Asia/Kolkata:20240403T100000
DTEND;TZID=Asia/Kolkata:20240404T120000
DESCRIPTION:Innovation and creativity are crucial for individual success an
 d companies’ performance. They are\nrequired even for economic growth an
 d social development. Business innovation encompasses\nproduct or technolo
 gical innovation within a company but is broader in scope as it also invol
 ves\nchanges to organizational processes\, structures\, and services.\nThi
 s is an activity-based workshop. It will address the concepts of innovatio
 n &amp; creativity by taking\nstudents through a journey from the creative pro
 cesses within our minds to the management of\ninnovation within organizati
 ons. It will emphasize the relational aspects of innovation and\ncreativit
 y: innovation does not happen in isolation. People become creative\, and g
 enerate\ninnovation\, through processes of social interaction with others.
 \nWorkshop Outcomes: On completion of the workshop\, students will\n• Un
 derstand the concept of creativity and innovation in different contexts.\n
 • Understand different types of innovation: from radical to continuous i
 nnovation.\n• Unbox the Design Thinking toolkit.\n• Implement a Design
  Thinking Activity in a group.\n\nEvent Description:\n\n-\nLed by Dr. Kumi
 dhini Ravindra\, participants engaged in activities focusing on systematic
  innovation.\n\n-\nDr. Ravindra emphasized the importance of a balanced mi
 ndset and introduced the design thinking process.\n\n-\nActivities include
 d non-dominant hand exercises and cube-making to stimulate creativity.\n\n
 -\nParticipants learned to embrace ambiguity through divergent and converg
 ent thinking.\n\nBenefits from the Event:\n\n-\nDevelopment of an Innovato
 r&#39;s mindset.\n\n-\nAcquisition of practical problem-solving techniques.\n\
 n-\nEnhancement of skills in opportunity identification and solution devel
 opment.\n\n-\nIntroduction to systematic approaches to innovation.\n\n-\nE
 ncouragement of continuous learning and experimentation.\n\nSpeaker(s): Ku
 mudhini \, \n\nAgenda: \nThis is an activity-based workshop. It will addre
 ss the concepts of innovation &amp; creativity by taking\nstudents through a j
 ourney from the creative processes within our minds to the management of\n
 innovation within organizations. It will emphasize the relational aspects 
 of innovation and\ncreativity: innovation does not happen in isolation. Pe
 ople become creative\, and generate\ninnovation\, through processes of soc
 ial interaction with others.\n\nBldg: Silver Jubilee Block\, SJB Seminar H
 all\, RVR &amp; JC College of Engineering\, Guntur\, Andhra Pradesh\, India\, 
 522019
LOCATION:Bldg: Silver Jubilee Block\, SJB Seminar Hall\, RVR &amp; JC College o
 f Engineering\, Guntur\, Andhra Pradesh\, India\, 522019
ORGANIZER:tripura.pidikiti@ieee.org
SEQUENCE:31
SUMMARY:Skill Development Workshop on &quot;Innovation and Design Thinking&quot; fund
 ed by IEEE SPAx
URL;VALUE=URI:https://events.vtools.ieee.org/m/413626
X-ALT-DESC:Description: &lt;br /&gt;&lt;p&gt;Innovation and creativity are crucial for 
 individual success and companies&amp;rsquo\; performance. They are&lt;br&gt;required
  even for economic growth and social development. Business innovation enco
 mpasses&lt;br&gt;product or technological innovation within a company but is bro
 ader in scope as it also involves&lt;br&gt;changes to organizational processes\,
  structures\, and services.&lt;br&gt;This is an activity-based workshop. It will
  address the concepts of innovation &amp;amp\; creativity by taking&lt;br&gt;student
 s through a journey from the creative processes within our minds to the ma
 nagement of&lt;br&gt;innovation within organizations. It will emphasize the rela
 tional aspects of innovation and&lt;br&gt;creativity: innovation does not happen
  in isolation. People become creative\, and generate&lt;br&gt;innovation\, throu
 gh processes of social interaction with others.&lt;br&gt;Workshop Outcomes: On c
 ompletion of the workshop\, students will&lt;br&gt;&amp;bull\; Understand the concep
 t of creativity and innovation in different contexts.&lt;br&gt;&amp;bull\; Understan
 d different types of innovation: from radical to continuous innovation.&lt;br
 &gt;&amp;bull\; Unbox the Design Thinking toolkit.&lt;br&gt;&amp;bull\; Implement a Design 
 Thinking Activity in a group.&lt;/p&gt;\n&lt;p dir=&quot;ltr&quot;&gt;Event Description:&lt;/p&gt;\n&lt;u
 l&gt;\n&lt;li dir=&quot;ltr&quot; aria-level=&quot;1&quot;&gt;\n&lt;p dir=&quot;ltr&quot; role=&quot;presentation&quot;&gt;Led by
  Dr. Kumidhini Ravindra\, participants engaged in activities focusing on s
 ystematic innovation.&lt;/p&gt;\n&lt;/li&gt;\n&lt;li dir=&quot;ltr&quot; aria-level=&quot;1&quot;&gt;\n&lt;p dir=&quot;l
 tr&quot; role=&quot;presentation&quot;&gt;Dr. Ravindra emphasized the importance of a balanc
 ed mindset and introduced the design thinking process.&lt;/p&gt;\n&lt;/li&gt;\n&lt;li dir
 =&quot;ltr&quot; aria-level=&quot;1&quot;&gt;\n&lt;p dir=&quot;ltr&quot; role=&quot;presentation&quot;&gt;Activities includ
 ed non-dominant hand exercises and cube-making to stimulate creativity.&lt;/p
 &gt;\n&lt;/li&gt;\n&lt;li dir=&quot;ltr&quot; aria-level=&quot;1&quot;&gt;\n&lt;p dir=&quot;ltr&quot; role=&quot;presentation&quot;&gt;
 Participants learned to embrace ambiguity through divergent and convergent
  thinking.&lt;/p&gt;\n&lt;/li&gt;\n&lt;/ul&gt;\n&lt;p dir=&quot;ltr&quot;&gt;&amp;nbsp\;&lt;/p&gt;\n&lt;p dir=&quot;ltr&quot;&gt;Benef
 its from the Event:&lt;/p&gt;\n&lt;ul&gt;\n&lt;li dir=&quot;ltr&quot; aria-level=&quot;1&quot;&gt;\n&lt;p dir=&quot;ltr&quot;
  role=&quot;presentation&quot;&gt;Development of an Innovator&#39;s mindset.&lt;/p&gt;\n&lt;/li&gt;\n&lt;l
 i dir=&quot;ltr&quot; aria-level=&quot;1&quot;&gt;\n&lt;p dir=&quot;ltr&quot; role=&quot;presentation&quot;&gt;Acquisition 
 of practical problem-solving techniques.&lt;/p&gt;\n&lt;/li&gt;\n&lt;li dir=&quot;ltr&quot; aria-le
 vel=&quot;1&quot;&gt;\n&lt;p dir=&quot;ltr&quot; role=&quot;presentation&quot;&gt;Enhancement of skills in opport
 unity identification and solution development.&lt;/p&gt;\n&lt;/li&gt;\n&lt;li dir=&quot;ltr&quot; a
 ria-level=&quot;1&quot;&gt;\n&lt;p dir=&quot;ltr&quot; role=&quot;presentation&quot;&gt;Introduction to systemati
 c approaches to innovation.&lt;/p&gt;\n&lt;/li&gt;\n&lt;li dir=&quot;ltr&quot; aria-level=&quot;1&quot;&gt;\n&lt;p 
 dir=&quot;ltr&quot; role=&quot;presentation&quot;&gt;Encouragement of continuous learning and exp
 erimentation.&lt;/p&gt;\n&lt;/li&gt;\n&lt;/ul&gt;\n&lt;p&gt;&amp;nbsp\;&lt;/p&gt;\n&lt;p&gt;&lt;img src=&quot;https://even
 ts.vtools.ieee.org/vtools_ui/media/display/0a73793f-2873-466a-a65e-0224ae2
 30c03&quot;&gt;&lt;/p&gt;&lt;br /&gt;&lt;br /&gt;Agenda: &lt;br /&gt;&lt;p&gt;This is an activity-based workshop
 . It will address the concepts of innovation &amp;amp\; creativity by taking&lt;b
 r&gt;students through a journey from the creative processes within our minds 
 to the management of&lt;br&gt;innovation within organizations. It will emphasize
  the relational aspects of innovation and&lt;br&gt;creativity: innovation does n
 ot happen in isolation. People become creative\, and generate&lt;br&gt;innovatio
 n\, through processes of social interaction with others.&lt;/p&gt;
END:VEVENT
END:VCALENDAR

