BEGIN:VCALENDAR
VERSION:2.0
PRODID:IEEE vTools.Events//EN
CALSCALE:GREGORIAN
BEGIN:VTIMEZONE
TZID:Europe/Berlin
BEGIN:DAYLIGHT
DTSTART:20240331T030000
TZOFFSETFROM:+0100
TZOFFSETTO:+0200
RRULE:FREQ=YEARLY;BYDAY=-1SU;BYMONTH=3
TZNAME:CEST
END:DAYLIGHT
BEGIN:STANDARD
DTSTART:20231029T020000
TZOFFSETFROM:+0200
TZOFFSETTO:+0100
RRULE:FREQ=YEARLY;BYDAY=-1SU;BYMONTH=10
TZNAME:CET
END:STANDARD
END:VTIMEZONE
BEGIN:VEVENT
DTSTAMP:20240321T214332Z
UID:73A8AF0C-9A9C-47FC-A7FA-B9038F852036
DTSTART;TZID=Europe/Berlin:20240321T210000
DTEND;TZID=Europe/Berlin:20240321T220000
DESCRIPTION:Get ready to be inspired by the expertise of Mrs. Abir Tabarki 
 a computer engineering student specializing in data science at ESPRIT . Sh
 e founded the IEEE AESS Chapter at ESPRIT.\nAbir progressed to national an
 d international leadership roles within IEEE AESS. She was appointed as th
 e Tunisia Section AESS Vice-Chair\, became the IEEE AESS Undergraduate Stu
 dent Representative\, and was also appointed to the Board of Governors. Th
 ese roles have allowed her to further influence the field of aerospace and
  electronic systems\, contributing to her reputation as a leader and advoc
 ate for engineering education and collaboration across the globe. [🚀][
 👩‍🚀]\nJoin us on March 21st\, 2024\, at 9pm via Google Meet for an
  evening filled with insights and wisdom from this phenomenal speaker! [
 🔥]\n\n[🔗]Session link: [https://meet.google.com/noc-hyov-rpw](https:
 //meet.google.com/noc-hyov-rpw?fbclid=IwAR3ub__VAEKHg7C_uETk73NXpqsHuPHJs2
 BlKmr2WvsXjHjZTkdE7AHcAGE)\n\nVirtual: https://events.vtools.ieee.org/m/41
 3675
LOCATION:Virtual: https://events.vtools.ieee.org/m/413675
ORGANIZER:ieeeaessensit@gmail.com
SEQUENCE:8
SUMMARY:First Session AESS Ramadan Talks
URL;VALUE=URI:https://events.vtools.ieee.org/m/413675
X-ALT-DESC:Description: &lt;br /&gt;&lt;p&gt;&amp;nbsp\;&lt;/p&gt;\n&lt;div class=&quot;xdj266r x11i5rnm 
 xat24cr x1mh8g0r x1vvkbs x126k92a&quot;&gt;\n&lt;div dir=&quot;auto&quot;&gt;Get ready to be inspi
 red by the expertise of Mrs. Abir Tabarki a computer engineering student s
 pecializing in data science at ESPRIT . She founded the IEEE AESS Chapter 
 at ESPRIT.&lt;/div&gt;\n&lt;div dir=&quot;auto&quot;&gt;Abir progressed to national and internat
 ional leadership roles within IEEE AESS. She was appointed as the Tunisia 
 Section AESS Vice-Chair\, became the IEEE AESS Undergraduate Student Repre
 sentative\, and was also appointed to the Board of Governors. These roles 
 have allowed her to further influence the field of aerospace and electroni
 c systems\, contributing to her reputation as a leader and advocate for en
 gineering education and collaboration across the globe. &lt;span class=&quot;x3nfv
 p2 x1j61x8r x1fcty0u xdj266r xhhsvwb xat24cr xgzva0m xxymvpz xlup9mm x1kky
 2od&quot;&gt;&lt;img class=&quot;xz74otr&quot; src=&quot;https://static.xx.fbcdn.net/images/emoji.ph
 p/v9/t1f/1.5/16/1f680.png&quot; alt=&quot;🚀&quot; width=&quot;16&quot; height=&quot;16&quot;&gt;&lt;/span&gt;&lt;span 
 class=&quot;x3nfvp2 x1j61x8r x1fcty0u xdj266r xhhsvwb xat24cr xgzva0m xxymvpz x
 lup9mm x1kky2od&quot;&gt;&lt;img class=&quot;xz74otr&quot; src=&quot;https://static.xx.fbcdn.net/ima
 ges/emoji.php/v9/t39/1.5/16/1f469_200d_1f680.png&quot; alt=&quot;👩&amp;zwj\;🚀&quot; wid
 th=&quot;16&quot; height=&quot;16&quot;&gt;&lt;/span&gt;&lt;/div&gt;\n&lt;div dir=&quot;auto&quot;&gt;Join us on March 21st\,
  2024\, at 9pm via Google Meet for an evening filled with insights and wis
 dom from this phenomenal speaker! &lt;span class=&quot;x3nfvp2 x1j61x8r x1fcty0u x
 dj266r xhhsvwb xat24cr xgzva0m xxymvpz xlup9mm x1kky2od&quot;&gt;&lt;img class=&quot;xz74o
 tr&quot; src=&quot;https://static.xx.fbcdn.net/images/emoji.php/v9/ta9/1.5/16/1f525.
 png&quot; alt=&quot;🔥&quot; width=&quot;16&quot; height=&quot;16&quot;&gt;&lt;/span&gt;&lt;/div&gt;\n&lt;/div&gt;\n&lt;div class=&quot;
 x11i5rnm xat24cr x1mh8g0r x1vvkbs xtlvy1s x126k92a&quot;&gt;\n&lt;div dir=&quot;auto&quot;&gt;&lt;spa
 n class=&quot;x3nfvp2 x1j61x8r x1fcty0u xdj266r xhhsvwb xat24cr xgzva0m xxymvpz
  xlup9mm x1kky2od&quot;&gt;&lt;img class=&quot;xz74otr&quot; src=&quot;https://static.xx.fbcdn.net/i
 mages/emoji.php/v9/tc/1.5/16/1f517.png&quot; alt=&quot;🔗&quot; width=&quot;16&quot; height=&quot;16&quot;&gt;
 &lt;/span&gt;Session link: &lt;a class=&quot;x1i10hfl xjbqb8w x1ejq31n xd10rxx x1sy0etr 
 x17r0tee x972fbf xcfux6l x1qhh985 xm0m39n x9f619 x1ypdohk xt0psk2 xe8uvvx 
 xdj266r x11i5rnm xat24cr x1mh8g0r xexx8yu x4uap5 x18d9i69 xkhd6sd x16tdsg8
  x1hl2dhg xggy1nq x1a2a7pz xt0b8zv x1fey0fg&quot; tabindex=&quot;0&quot; role=&quot;link&quot; href
 =&quot;https://meet.google.com/noc-hyov-rpw?fbclid=IwAR3ub__VAEKHg7C_uETk73NXpq
 sHuPHJs2BlKmr2WvsXjHjZTkdE7AHcAGE&quot; target=&quot;_blank&quot; rel=&quot;nofollow noopener 
 noreferrer&quot;&gt;https://meet.google.com/noc-hyov-rpw&lt;/a&gt;&lt;/div&gt;\n&lt;/div&gt;
END:VEVENT
END:VCALENDAR

