BEGIN:VCALENDAR
VERSION:2.0
PRODID:IEEE vTools.Events//EN
CALSCALE:GREGORIAN
BEGIN:VTIMEZONE
TZID:America/Denver
BEGIN:DAYLIGHT
DTSTART:20240310T030000
TZOFFSETFROM:-0700
TZOFFSETTO:-0600
RRULE:FREQ=YEARLY;BYDAY=2SU;BYMONTH=3
TZNAME:MDT
END:DAYLIGHT
BEGIN:STANDARD
DTSTART:20241103T010000
TZOFFSETFROM:-0600
TZOFFSETTO:-0700
RRULE:FREQ=YEARLY;BYDAY=1SU;BYMONTH=11
TZNAME:MST
END:STANDARD
END:VTIMEZONE
BEGIN:VEVENT
DTSTAMP:20240427T225738Z
UID:4B2F3D0D-95D2-4A10-8AD0-8BEF6CBFFF54
DTSTART;TZID=America/Denver:20240427T110000
DTEND;TZID=America/Denver:20240427T150000
DESCRIPTION:IEEE Denver is pleased to offer you an opportunity to join us f
 or a Senior Membership Upgrade Event. As an IEEE Member or Life Member\, t
 his gives you the opportunity to meet with some of your fellow IEEE member
 s and discuss your accomplishments in person to help you along the process
  of becoming a prestigious IEEE Senior Member. We will have Senior Member 
 / Fellow volunteers present to act as your References as you go through yo
 ur Senior Member Application process.\n\nBased on past years Upgrade Event
 s\, it&#39;s a fascinating opportunity to meet with very accomplished members 
 across a wide variety of engineering background and lunch is provided.\n\n
 - Senior Member Candidates: please bring 2 copies of your resume\, cover l
 etters\, work histories\, CVs\, etc. to aid in the discussion. Details on 
 Senior Membership can be found here: https://www.ieee.org/content/ieee-org
 /en/membership/senior/. Please review the process and requirements for bei
 ng upgraded to Senior Member. You do not need to start your application be
 fore the event. IEEE Denver Section will nominate you.\n- Reference Volunt
 eers: please have your IEEE Membership number ready to provide to the Cand
 idates.\n\nWe&#39;re pleased this year to hold this event at the Footprints Re
 staurant at the [Fossil Trace Golf Course](https://fossiltrace.com/) in Go
 lden which is an experience to visit in itself.\n\nLunch on the Buffet\n\n
 - Classic Salad\n- Mixed Greens | Carrot | Tomato | Cucumber | House Butte
 rmilk Dressing\n\n- B+B House BBQ\n24 Hour Smoked Brisket | Banana Leaf Po
 rk | Green Chili Mac | Regional BBQ Sauce Bar | House Made Hot\nSauces | H
 arvest Moon Buns | Poblano and Apple Slaw\n- Assorted Brownies and Dessert
  Bars\n\nIf you need a vegetarian or vegan option\, please let us know whe
 n you register below.\n\nRegistration is limited based on the number of Re
 ference Volunteers we have available so please register as soon as you can
  confirm your intent to attend. Registration will close on April 19. If yo
 u register and then cannot attend\, please let us know so that we can allo
 w any waitlisted candidates to attend.\n\nAgenda: \n11:00 AM - 11:30 AM Me
 et and Greet\, Grab Lunch\n\n11:30 AM - 12:00 PM Break up into groups for 
 interviews\n\n12:00 PM - 3:00 PM Finish Interviews for Upgrade\n\nBldg: Fo
 otprints Restaurant @ Fossil Trace Golf Course\, 3050 Illinois St. \, Gold
 en\, Colorado\, United States\, 80401
LOCATION:Bldg: Footprints Restaurant @ Fossil Trace Golf Course\, 3050 Illi
 nois St. \, Golden\, Colorado\, United States\, 80401
ORGANIZER:membershipdevelopment@ieee-denver.org
SEQUENCE:66
SUMMARY:IEEE Denver - Senior Member Upgrade
URL;VALUE=URI:https://events.vtools.ieee.org/m/413691
X-ALT-DESC:Description: &lt;br /&gt;&lt;p&gt;IEEE Denver is pleased to offer you an opp
 ortunity to join us for a Senior Membership Upgrade Event.&amp;nbsp\; As an IE
 EE Member or Life Member\, this gives you the opportunity to meet with som
 e of your fellow IEEE members and discuss your accomplishments in person t
 o help you along the process of becoming a prestigious IEEE Senior Member.
 &amp;nbsp\; We will have Senior Member / Fellow volunteers present to act as y
 our References as you go through your Senior Member Application process.&lt;/
 p&gt;\n&lt;p&gt;Based on past years Upgrade Events\, it&#39;s a fascinating opportunity
  to meet with very accomplished members across a wide variety of engineeri
 ng background and lunch is provided.&lt;/p&gt;\n&lt;ul&gt;\n&lt;li&gt;&lt;span style=&quot;text-deco
 ration: underline\;&quot;&gt;Senior Member Candidates:&lt;/span&gt; please bring 2 copie
 s of your resume\, cover letters\, work histories\, CVs\, etc. to aid in t
 he discussion. Details on Senior Membership can be found here: &lt;a style=&quot;c
 olor: #e37222\; cursor: pointer\;&quot; href=&quot;https://www.ieee.org/content/ieee
 -org/en/membership/senior/&quot;&gt;https://www.ieee.org/content/ieee-org/en/membe
 rship/senior/&lt;/a&gt;.&amp;nbsp\; Please review the process and requirements for b
 eing upgraded to Senior Member.&amp;nbsp\; You do not need to start your appli
 cation before the event.&amp;nbsp\; IEEE Denver Section will nominate you.&lt;/li
 &gt;\n&lt;li&gt;&lt;span style=&quot;text-decoration: underline\;&quot;&gt;Reference Volunteers:&lt;/s
 pan&gt;&amp;nbsp\; please have your IEEE Membership number ready to provide to th
 e Candidates.&lt;/li&gt;\n&lt;/ul&gt;\n&lt;p&gt;We&#39;re pleased this year to hold this event a
 t the Footprints Restaurant at the &lt;a href=&quot;https://fossiltrace.com/&quot;&gt;Foss
 il Trace Golf Course&lt;/a&gt; in Golden which is an experience to visit in itse
 lf.&lt;/p&gt;\n&lt;p&gt;Lunch on the Buffet&lt;/p&gt;\n&lt;ul&gt;\n&lt;li&gt;Classic Salad\n&lt;ul&gt;\n&lt;li&gt;Mi
 xed Greens | Carrot | Tomato | Cucumber | House Buttermilk Dressing&lt;/li&gt;\n
 &lt;/ul&gt;\n&lt;/li&gt;\n&lt;li&gt;B+B House BBQ&lt;br&gt;24 Hour Smoked Brisket | Banana Leaf Po
 rk | Green Chili Mac | Regional BBQ Sauce Bar | House Made Hot&lt;br&gt;Sauces |
  Harvest Moon Buns | Poblano and Apple Slaw&lt;/li&gt;\n&lt;li&gt;Assorted Brownies an
 d Dessert Bars&lt;/li&gt;\n&lt;/ul&gt;\n&lt;p style=&quot;padding-left: 40px\;&quot;&gt;If you need a 
 vegetarian or vegan option\, please let us know when you register below.&lt;/
 p&gt;\n&lt;p&gt;Registration is limited based on the number of Reference Volunteers
  we have available so please register as soon as you can confirm your inte
 nt to attend.&amp;nbsp\; Registration will close on April 19.&amp;nbsp\; If you re
 gister and then cannot attend\, please let us know so that we can allow an
 y waitlisted candidates to attend.&amp;nbsp\;&lt;/p&gt;\n&lt;p&gt;&lt;!--th class=&quot;ieee_brigh
 t_orange_bt2 ieee_bright_orange_bb2&quot;--&gt;&lt;/p&gt;&lt;br /&gt;&lt;br /&gt;Agenda: &lt;br /&gt;&lt;p&gt;11
 :00 AM - 11:30 AM Meet and Greet\, Grab Lunch&lt;/p&gt;\n&lt;p&gt;11:30 AM - 12:00 PM 
 Break up into groups for interviews&lt;/p&gt;\n&lt;p&gt;12:00 PM -&amp;nbsp\; &amp;nbsp\;3:00 
 PM Finish Interviews for Upgrade&lt;/p&gt;
END:VEVENT
END:VCALENDAR

