BEGIN:VCALENDAR
VERSION:2.0
PRODID:IEEE vTools.Events//EN
CALSCALE:GREGORIAN
BEGIN:VTIMEZONE
TZID:Pacific/Honolulu
BEGIN:STANDARD
DTSTART:19470608T023000
TZOFFSETFROM:-1130
TZOFFSETTO:-1000
TZNAME:HST
END:STANDARD
END:VTIMEZONE
BEGIN:VEVENT
DTSTAMP:20240610T162458Z
UID:DCB103FA-D82A-49B0-B80B-8F2B695B2A2F
DTSTART;TZID=Pacific/Honolulu:20240606T183000
DTEND;TZID=Pacific/Honolulu:20240606T193000
DESCRIPTION:Monthly ExCom meeting. All Section members welcome.\n\nIEEE Haw
 aii ExCom\nHosted by WebEx Hawaii Section\n\nVirtual: https://events.vtool
 s.ieee.org/m/413741
LOCATION:Virtual: https://events.vtools.ieee.org/m/413741
ORGANIZER:brianne.tengan@ieee.org
SEQUENCE:31
SUMMARY:IEEE Hawaii June ExCom
URL;VALUE=URI:https://events.vtools.ieee.org/m/413741
X-ALT-DESC:Description: &lt;br /&gt;&lt;p&gt;Monthly ExCom meeting. All Section members
  welcome.&lt;/p&gt;\n&lt;p&gt;IEEE Hawaii ExCom&lt;br&gt;Hosted by WebEx Hawaii Section&lt;/p&gt;
END:VEVENT
END:VCALENDAR

