BEGIN:VCALENDAR
VERSION:2.0
PRODID:IEEE vTools.Events//EN
CALSCALE:GREGORIAN
BEGIN:VTIMEZONE
TZID:America/New_York
BEGIN:DAYLIGHT
DTSTART:20240310T030000
TZOFFSETFROM:-0500
TZOFFSETTO:-0400
RRULE:FREQ=YEARLY;BYDAY=2SU;BYMONTH=3
TZNAME:EDT
END:DAYLIGHT
BEGIN:STANDARD
DTSTART:20241103T010000
TZOFFSETFROM:-0400
TZOFFSETTO:-0500
RRULE:FREQ=YEARLY;BYDAY=1SU;BYMONTH=11
TZNAME:EST
END:STANDARD
END:VTIMEZONE
BEGIN:VEVENT
DTSTAMP:20241120T215247Z
UID:9DF6E7D0-1334-47D3-A0A9-EBC13A539925
DTSTART;TZID=America/New_York:20240418T133000
DTEND;TZID=America/New_York:20240418T143000
DESCRIPTION:Abstract\n\nThe IEEE Teaching Excellence Hub (https://teaching.
 ieee.org) is an online site for curated educational materials and resource
 s for those teaching engineering\, computing\, and technology at the unive
 rsity level. The TEH content includes short articles\, resource links\, an
 d events information related to effectiveness as an educator. The intent i
 s to provide easily accessible information such as best practices with a g
 lobal perspective. The webinar describes the site scope\, provides guidanc
 e for article submissions\, and answers common questions about the site. T
 he peer-reviewed content is under a Creative Commons 4.0 International lic
 ense. TEH is a collaboration between the IEEE Education Society and the IE
 EE Educational Activities Board.\n\nSpeaker(s): Steve\, \n\nAgenda: \nSess
 ion Chair: Steve E. Watkins Professor of Electrical and Computer Engineeri
 ng at Missouri University of Science and Technology\, Co-Chair of IEEE Tea
 ching Excellence Hub\n\nThursday April 18\n\n1:30–1:35 PM-  Steve E. Wat
 kins\n\nWelcome and Introduction of Speakers\n\n1:35 – 1:50 PM\n\nThe TE
 H as a Resource for Faculty\n\n1:50 – 2:05 PM\n\nWriting for the Teachin
 g Excellence Hub\n\n2:05– 2:25 PM\n\nDiscussions &amp; Questions &amp; Answers\n
 \n2:25– 2:30 PM - Hamadou Saliah-Hassane\, Vice President Educational Ac
 tivities IEEE Education Society\, Co-Chair Teaching Excellence Hub\nClosin
 g Remarks\n\nVirtual: https://events.vtools.ieee.org/m/413749
LOCATION:Virtual: https://events.vtools.ieee.org/m/413749
ORGANIZER:hsaliah@ieee.org
SEQUENCE:55
SUMMARY:IEEE Education Society and IEEE Educational Activities Teaching Exc
 ellence Hub
URL;VALUE=URI:https://events.vtools.ieee.org/m/413749
X-ALT-DESC:Description: &lt;br /&gt;&lt;p class=&quot;MsoNormal&quot;&gt;&lt;strong&gt;&lt;span lang=&quot;EN-U
 S&quot; style=&quot;font-size: 13.5pt\; color: black\; mso-ansi-language: EN-US\;&quot;&gt;A
 bstract&lt;/span&gt;&lt;/strong&gt;&lt;/p&gt;\n&lt;p class=&quot;MsoNormal&quot;&gt;The IEEE Teaching Excell
 ence Hub (https://teaching.ieee.org) is an online site for curated educati
 onal materials and resources for those teaching engineering\, computing\, 
 and technology at the university level.&lt;span style=&quot;mso-spacerun: yes\;&quot;&gt;&amp;
 nbsp\; &lt;/span&gt;The TEH content includes short articles\, resource links\, a
 nd events information related to effectiveness as an educator.&lt;span style=
 &quot;mso-spacerun: yes\;&quot;&gt;&amp;nbsp\; &lt;/span&gt;The intent is to provide easily acces
 sible information such as best practices with a global perspective.&lt;span s
 tyle=&quot;mso-spacerun: yes\;&quot;&gt;&amp;nbsp\; &lt;/span&gt;The webinar describes the site s
 cope\, provides guidance for article submissions\, and answers common ques
 tions about the site. &lt;span style=&quot;color: black\;&quot;&gt;The peer-reviewed conte
 nt is under a Creative Commons 4.0 International license.&lt;span style=&quot;mso-
 spacerun: yes\;&quot;&gt;&amp;nbsp\; &lt;/span&gt;&lt;/span&gt;TEH is a collaboration between the 
 IEEE Education Society and the IEEE Educational Activities Board.&lt;/p&gt;&lt;br /
 &gt;&lt;br /&gt;Agenda: &lt;br /&gt;&lt;p class=&quot;MsoNormal&quot;&gt;&amp;nbsp\;&lt;/p&gt;\n&lt;p class=&quot;MsoNormal
 &quot;&gt;&lt;span lang=&quot;EN-US&quot; style=&quot;mso-ansi-language: EN-US\;&quot;&gt;Session Chair: &lt;st
 rong&gt;Steve E. Watkins&lt;/strong&gt; &lt;/span&gt;&lt;span lang=&quot;EN-US&quot; style=&quot;font-size:
  13.5pt\; color: black\; mso-ansi-language: EN-US\;&quot;&gt;Professor of Electric
 al and Computer Engineering at Missouri University of Science and Technolo
 gy\, Co-Chair of &lt;strong&gt;&lt;span style=&quot;color: rgb(35\, 111\, 161)\;&quot;&gt;IEEE T
 eaching Excellence Hub&lt;/span&gt;&lt;/strong&gt;&lt;/span&gt;&lt;/p&gt;\n&lt;table style=&quot;border-co
 llapse: collapse\; width: 100%\; border-width: 1px\; border-style: solid\;
 &quot; border=&quot;1&quot;&gt;&lt;colgroup&gt;&lt;col style=&quot;width: 99.904%\;&quot;&gt;&lt;/colgroup&gt;\n&lt;tbody&gt;\
 n&lt;tr&gt;\n&lt;td style=&quot;background-color: rgb(191\, 237\, 210)\;&quot;&gt;\n&lt;p class=&quot;Ms
 oNormal&quot;&gt;&lt;span style=&quot;font-size: 13.5pt\; color: black\;&quot;&gt;Thursday April 1
 8&lt;/span&gt;&lt;/p&gt;\n&lt;p class=&quot;MsoNormal&quot;&gt;&lt;span style=&quot;font-size: 13.5pt\; color:
  black\;&quot;&gt;1:30&amp;ndash\;1:35 PM-&lt;span style=&quot;mso-spacerun: yes\;&quot;&gt;&amp;nbsp\;&amp;nb
 sp\; &lt;/span&gt;&lt;span style=&quot;mso-spacerun: yes\;&quot;&gt;&amp;nbsp\;&lt;/span&gt;&lt;/span&gt;&lt;strong
 &gt;Steve E. Watkins&lt;/strong&gt;&lt;span style=&quot;font-size: 13.5pt\; color: black\;&quot;
 &gt; &lt;/span&gt;&lt;/p&gt;\n&lt;p class=&quot;MsoNormal&quot;&gt;&lt;em&gt;&lt;span style=&quot;font-size: 13.5pt\; c
 olor: black\;&quot;&gt;Welcome and Introduction of Speakers&lt;/span&gt;&lt;/em&gt;&lt;/p&gt;\n&lt;/td&gt;
 \n&lt;/tr&gt;\n&lt;tr&gt;\n&lt;td&gt;\n&lt;p class=&quot;MsoNormal&quot;&gt;&lt;span style=&quot;font-size: 13.5pt\;
  color: black\;&quot;&gt;1:35 &amp;ndash\; 1:50 PM&amp;nbsp\;&lt;/span&gt;&lt;/p&gt;\n&lt;p class=&quot;MsoNor
 mal&quot;&gt;&lt;em&gt;&lt;span style=&quot;font-size: 13.5pt\; color: black\;&quot;&gt;The TEH as a Res
 ource for Faculty&lt;/span&gt;&lt;/em&gt;&lt;/p&gt;\n&lt;/td&gt;\n&lt;/tr&gt;\n&lt;tr&gt;\n&lt;td style=&quot;backgrou
 nd-color: rgb(191\, 237\, 210)\;&quot;&gt;\n&lt;p class=&quot;MsoNormal&quot;&gt;&lt;span style=&quot;font
 -size: 13.5pt\; color: black\;&quot;&gt;1:50 &amp;ndash\; 2:05 PM&amp;nbsp\;&lt;/span&gt;&lt;/p&gt;\n&lt;
 p class=&quot;MsoNormal&quot;&gt;&lt;em&gt;&lt;span style=&quot;font-size: 13.5pt\; color: black\;&quot;&gt;W
 riting for the Teaching Excellence Hub&lt;/span&gt;&lt;/em&gt;&lt;/p&gt;\n&lt;/td&gt;\n&lt;/tr&gt;\n&lt;tr&gt;
 \n&lt;td&gt;\n&lt;p class=&quot;MsoNormal&quot;&gt;&lt;span style=&quot;font-size: 13.5pt\; color: black
 \;&quot;&gt;2:05&amp;ndash\; 2:25 PM&lt;/span&gt;&lt;/p&gt;\n&lt;p class=&quot;MsoNormal&quot;&gt;&lt;em&gt;&lt;span style=
 &quot;font-size: 13.5pt\; color: black\;&quot;&gt;Discussions &amp;amp\; Questions &amp;amp\; A
 nswers&amp;nbsp\;&lt;/span&gt;&lt;/em&gt;&lt;/p&gt;\n&lt;/td&gt;\n&lt;/tr&gt;\n&lt;tr&gt;\n&lt;td style=&quot;background-c
 olor: rgb(191\, 237\, 210)\;&quot;&gt;\n&lt;p class=&quot;MsoNormal&quot;&gt;&lt;span style=&quot;font-siz
 e: 13.5pt\; color: black\;&quot;&gt;2:25&amp;ndash\; 2:30 PM&lt;span style=&quot;mso-spacerun:
  yes\;&quot;&gt;&amp;nbsp\; &lt;/span&gt;- &lt;strong&gt;&lt;span style=&quot;font-size: 12.0pt\; font-fam
 ily: &#39;Times New Roman&#39;\,serif\; mso-fareast-font-family: Calibri\; mso-far
 east-theme-font: minor-latin\; mso-font-kerning: 0pt\; mso-ligatures: none
 \; mso-ansi-language: FR-CA\; mso-fareast-language: FR-CA\; mso-bidi-langu
 age: AR-SA\;&quot;&gt;Hamadou Saliah-Hassane\, &lt;/span&gt;&lt;/strong&gt;&lt;span style=&quot;font-s
 ize: 12.0pt\; font-family: &#39;Times New Roman&#39;\,serif\; mso-fareast-font-fam
 ily: Calibri\; mso-fareast-theme-font: minor-latin\; mso-font-kerning: 0pt
 \; mso-ligatures: none\; mso-ansi-language: FR-CA\; mso-fareast-language: 
 FR-CA\; mso-bidi-language: AR-SA\;&quot;&gt;Vice President Educational Activities 
 IEEE Education Society\, Co-Chair Teaching Excellence Hub&lt;/span&gt;&lt;/span&gt;&lt;/p
 &gt;\n&lt;em&gt;&lt;span style=&quot;font-size: 13.5pt\; font-family: &#39;Times New Roman&#39;\,se
 rif\; mso-fareast-font-family: &#39;Times New Roman&#39;\; color: black\; mso-font
 -kerning: 0pt\; mso-ligatures: none\; mso-ansi-language: FR-CA\; mso-farea
 st-language: FR-CA\; mso-bidi-language: AR-SA\;&quot;&gt;Closing Remarks&lt;/span&gt;&lt;/e
 m&gt;&lt;/td&gt;\n&lt;/tr&gt;\n&lt;/tbody&gt;\n&lt;/table&gt;
END:VEVENT
END:VCALENDAR

