BEGIN:VCALENDAR
VERSION:2.0
PRODID:IEEE vTools.Events//EN
CALSCALE:GREGORIAN
BEGIN:VTIMEZONE
TZID:US/Central
BEGIN:DAYLIGHT
DTSTART:20240310T030000
TZOFFSETFROM:-0600
TZOFFSETTO:-0500
RRULE:FREQ=YEARLY;BYDAY=2SU;BYMONTH=3
TZNAME:CDT
END:DAYLIGHT
BEGIN:STANDARD
DTSTART:20241103T010000
TZOFFSETFROM:-0500
TZOFFSETTO:-0600
RRULE:FREQ=YEARLY;BYDAY=1SU;BYMONTH=11
TZNAME:CST
END:STANDARD
END:VTIMEZONE
BEGIN:VEVENT
DTSTAMP:20240502T134752Z
UID:6957B401-83DC-454D-9EF5-96078CC8CBC1
DTSTART;TZID=US/Central:20240417T170000
DTEND;TZID=US/Central:20240417T183000
DESCRIPTION:Presentation on Huffman Engineering by Howard Huffman PE\, IEEE
  Senior member and Jim Fricke PE and IEEE member.\n\nOur presentation will
  talk through who we are as a company\, what some of our capabilities are 
 in each of these industries\, we will highlight a couple of recent project
 s and we will bring along an example of how we utilize electrical engineer
 ing skills in the real world to bring to life systems that help industrial
  manufacturing and municipalities more efficient\, safer and more producti
 ve for the communities we live and work in.\n\nThis event brought to you b
 y IEEE Nebraska Section&#39;s Industrial Applications\, Power &amp; Energy Technic
 al Chapters. and Young Professionals.\n\nCo-sponsored by: Nick McIntosh - 
 IEEE Nebraska Section Chair\n\nSpeaker(s): Jim Fricke\, PE\, Isaac Novosad
 \, Eric Chambers\n\nAgenda: \n5:00pm - Sign in\n\n5:10 pm - Introductions 
 and announcements\n\nDinner and Presentation to follow\n\nQuestions and An
 swers\n\nGeneral Networking.\n\nAdjournment.\n\nRoom: TBD\, Bldg: Nebraska
  Hall\, UNL campus room to be determined by Student Branch\,\, Lincoln\, N
 ebraska\, United States
LOCATION:Room: TBD\, Bldg: Nebraska Hall\, UNL campus room to be determined
  by Student Branch\,\, Lincoln\, Nebraska\, United States
ORGANIZER:nick.mcintosh@ieee.org
SEQUENCE:50
SUMMARY:Huffman Engineering Presents Huffman Engineering with additional sp
 eakers
URL;VALUE=URI:https://events.vtools.ieee.org/m/414370
X-ALT-DESC:Description: &lt;br /&gt;&lt;p&gt;Presentation on Huffman Engineering by How
 ard Huffman PE\, IEEE Senior member and Jim Fricke PE and IEEE member.&amp;nbs
 p\; &amp;nbsp\;&lt;/p&gt;\n&lt;p&gt;&lt;span style=&quot;font-family: sans-serif\;&quot;&gt;Our presentati
 on will talk through who we are as a company\, what some of our capabiliti
 es are in each of these industries\, we will highlight a couple of recent 
 projects and we will bring along an example of how we utilize electrical e
 ngineering skills in the real world to bring to life systems that help ind
 ustrial manufacturing and municipalities more efficient\, safer and more p
 roductive for the communities we live and work in.&lt;/span&gt;&lt;/p&gt;\n&lt;p&gt;&amp;nbsp\;&lt;
 /p&gt;\n&lt;p&gt;This event brought to you by IEEE Nebraska Section&#39;s Industrial Ap
 plications\, Power &amp;amp\; Energy Technical Chapters. and Young Professiona
 ls.&amp;nbsp\;&lt;/p&gt;&lt;br /&gt;&lt;br /&gt;Agenda: &lt;br /&gt;&lt;p&gt;5:00pm - Sign in&lt;/p&gt;\n&lt;p&gt;5:10 p
 m - Introductions and announcements&lt;/p&gt;\n&lt;p&gt;Dinner and Presentation to fol
 low&lt;/p&gt;\n&lt;p&gt;Questions and Answers&amp;nbsp\;&lt;/p&gt;\n&lt;p&gt;General Networking.&amp;nbsp\
 ; &amp;nbsp\; &amp;nbsp\; &amp;nbsp\; &amp;nbsp\; &amp;nbsp\; &amp;nbsp\;&lt;/p&gt;\n&lt;p&gt;Adjournment.&lt;/p&gt;
END:VEVENT
END:VCALENDAR

