BEGIN:VCALENDAR
VERSION:2.0
PRODID:IEEE vTools.Events//EN
CALSCALE:GREGORIAN
BEGIN:VTIMEZONE
TZID:Asia/Kolkata
BEGIN:STANDARD
DTSTART:19451014T230000
TZOFFSETFROM:+0630
TZOFFSETTO:+0530
TZNAME:IST
END:STANDARD
END:VTIMEZONE
BEGIN:VEVENT
DTSTAMP:20161003T095426Z
UID:5EAEDF09-894F-11E6-A7C6-0050568D7F66
DTSTART;TZID=Asia/Kolkata:20161004T173000
DTEND;TZID=Asia/Kolkata:20161004T190000
DESCRIPTION:GCET IAS/PES JT Chapter along with IEEE GCET SB AND WIE AG GCET
  is organising an IEEE Day at GCET premises.\n\nMain aim is Get to gather 
 and SB General Meeting.\n\nGCET\, Near Bakrol Gate\, V.V.Nagar\, Gujarat\,
  India\, 388120
LOCATION:GCET\, Near Bakrol Gate\, V.V.Nagar\, Gujarat\, India\, 388120
ORGANIZER:bhavin.m.shah@ieee.org
SEQUENCE:0
SUMMARY:IEEE DAY Celebration
URL;VALUE=URI:https://events.vtools.ieee.org/m/41452
X-ALT-DESC:Description: &lt;br /&gt;&lt;p&gt;GCET IAS/PES JT Chapter along with IEEE GC
 ET SB AND WIE AG GCET is organising an IEEE Day at GCET premises.&lt;/p&gt;\n&lt;p&gt;
 Main aim is Get to gather and SB General Meeting.&lt;/p&gt;
END:VEVENT
END:VCALENDAR

