BEGIN:VCALENDAR
VERSION:2.0
PRODID:IEEE vTools.Events//EN
CALSCALE:GREGORIAN
BEGIN:VTIMEZONE
TZID:America/Los_Angeles
BEGIN:DAYLIGHT
DTSTART:20240310T030000
TZOFFSETFROM:-0800
TZOFFSETTO:-0700
RRULE:FREQ=YEARLY;BYDAY=2SU;BYMONTH=3
TZNAME:PDT
END:DAYLIGHT
BEGIN:STANDARD
DTSTART:20241103T010000
TZOFFSETFROM:-0700
TZOFFSETTO:-0800
RRULE:FREQ=YEARLY;BYDAY=1SU;BYMONTH=11
TZNAME:PST
END:STANDARD
END:VTIMEZONE
BEGIN:VEVENT
DTSTAMP:20240703T194052Z
UID:C9100218-F9EA-4678-9D4D-2D67269BCE9A
DTSTART;TZID=America/Los_Angeles:20240614T073000
DTEND;TZID=America/Los_Angeles:20240614T084500
DESCRIPTION:Join us for a session on Smart Cities Copenhagen. Find out why 
 Copenhagen is one of the top Smart Cities on the planet. Smart water\, sma
 rt mobility\, smart medicine\, and Smart Buildings.\n\nCo-sponsored by: IE
 EE Power and Energy\n\nSpeaker(s): \, Aravand Memana \n\nAgenda: \n07:30 a
 m PDT IEEE Introductions\n07:32 am PDT Introduction of the Speakers\n07:34
  am PDT Presentation Paige Dansinger\n08:09 am PDT Presentation\n08:30 am 
 Q&amp;A\n\nVirtual: https://events.vtools.ieee.org/m/414860
LOCATION:Virtual: https://events.vtools.ieee.org/m/414860
ORGANIZER:mike.brisbois@ieee.org
SEQUENCE:40
SUMMARY:IEEE CN Smart Cities Copenhagen
URL;VALUE=URI:https://events.vtools.ieee.org/m/414860
X-ALT-DESC:Description: &lt;br /&gt;&lt;p&gt;Join us for a session on Smart Cities Cope
 nhagen. Find out why Copenhagen is one of the top Smart Cities on the plan
 et. Smart water\, smart mobility\, smart medicine\, and Smart Buildings.&lt;b
 r&gt;&lt;br&gt;&amp;nbsp\;&lt;img src=&quot;https://events.vtools.ieee.org/vtools_ui/media/disp
 lay/a850e32b-7212-4406-8a90-a5ca1e5d6b5d&quot; width=&quot;839&quot; height=&quot;559&quot;&gt;&lt;/p&gt;&lt;br
  /&gt;&lt;br /&gt;Agenda: &lt;br /&gt;&lt;p&gt;07:30 am PDT IEEE Introductions&lt;br&gt;07:32 am PDT 
 Introduction of the Speakers&lt;br&gt;07:34 am PDT Presentation Paige Dansinger&lt;
 br&gt;08:09 am PDT Presentation&amp;nbsp\;&lt;br&gt;08:30 am Q&amp;amp\;A&lt;/p&gt;
END:VEVENT
END:VCALENDAR

