BEGIN:VCALENDAR
VERSION:2.0
PRODID:IEEE vTools.Events//EN
CALSCALE:GREGORIAN
BEGIN:VTIMEZONE
TZID:Europe/Istanbul
BEGIN:DAYLIGHT
DTSTART:20380119T061407
TZOFFSETFROM:+0300
TZOFFSETTO:+0300
RRULE:FREQ=YEARLY;BYDAY=3TU;BYMONTH=1
TZNAME:+03
END:DAYLIGHT
BEGIN:STANDARD
DTSTART:20160907T000000
TZOFFSETFROM:+0300
TZOFFSETTO:+0300
RRULE:FREQ=YEARLY;BYDAY=1WE;BYMONTH=9
TZNAME:+03
END:STANDARD
END:VTIMEZONE
BEGIN:VEVENT
DTSTAMP:20240328T192711Z
UID:C07159F9-4011-48A6-88BE-B84D58DDFB20
DTSTART;TZID=Europe/Istanbul:20231026T000000
DTEND;TZID=Europe/Istanbul:20231026T132500
DESCRIPTION:İlkokul ve ortaokul öğrencilerine önce bilgi öğretmek\, a
 rdından öğrendiklerini daha da geliştirmeye teşvik ederek geri bildir
 im almak amacıyla tasarlanmış bir etkinliktir. (Örneğin: küçük bir
  proje\, algoritmalar\, makine yapıları\, elektrik devreleri...)\n\nBldg
 : Altieylul Ortaokulu\, Haci İsmail Mahallesi\, Eski Edremit Cd. \, No:29
 \, Altieylul Ortaokulu\, Balıkesir\, Balikesir\, Türkiye\, 10010
LOCATION:Bldg: Altieylul Ortaokulu\, Haci İsmail Mahallesi\, Eski Edremit 
 Cd. \, No:29\, Altieylul Ortaokulu\, Balıkesir\, Balikesir\, Türkiye\, 1
 0010
ORGANIZER:cevdetemircab@gmail.com-
SEQUENCE:42
SUMMARY:Teach And Make
URL;VALUE=URI:https://events.vtools.ieee.org/m/414876
X-ALT-DESC:Description: &lt;br /&gt;&lt;div class=&quot;flex-1 overflow-hidden&quot;&gt;\n&lt;div cl
 ass=&quot;react-scroll-to-bottom--css-vdrwy-79elbk h-full&quot;&gt;\n&lt;div class=&quot;react-
 scroll-to-bottom--css-vdrwy-1n7m0yu&quot;&gt;\n&lt;div class=&quot;flex flex-col text-sm p
 b-9&quot;&gt;\n&lt;div class=&quot;w-full text-token-text-primary&quot; data-testid=&quot;conversati
 on-turn-11&quot;&gt;\n&lt;div class=&quot;px-4 py-2 justify-center text-base md:gap-6 m-au
 to&quot;&gt;\n&lt;div class=&quot;flex flex-1 text-base mx-auto gap-3 md:px-5 lg:px-1 xl:p
 x-5 md:max-w-3xl lg:max-w-[40rem] xl:max-w-[48rem] group final-completion&quot;
 &gt;\n&lt;div class=&quot;relative flex w-full flex-col agent-turn&quot;&gt;\n&lt;div class=&quot;fle
 x-col gap-1 md:gap-3&quot;&gt;\n&lt;div class=&quot;flex flex-grow flex-col max-w-full&quot;&gt;\n
 &lt;div class=&quot;min-h-[20px] text-message flex flex-col items-start gap-3 whit
 espace-pre-wrap break-words [.text-message+&amp;amp\;]:mt-5 overflow-x-auto&quot; d
 ata-message-author-role=&quot;assistant&quot; data-message-id=&quot;aa85012e-3792-405a-9a
 a8-3b8fb8c4f062&quot;&gt;\n&lt;div class=&quot;markdown prose w-full break-words dark:pros
 e-invert dark&quot;&gt;\n&lt;p&gt;&lt;span style=&quot;vertical-align: inherit\;&quot;&gt;&lt;span style=&quot;v
 ertical-align: inherit\;&quot;&gt;İlkokul ve ortaokul &amp;ouml\;ğrencilerine &amp;ouml\
 ;nce bilgi &amp;ouml\;ğretmek\, ardından &amp;ouml\;ğrendiklerini daha da geli
 ştirmeye teşvik ederek geri bildirim almak amacıyla tasarlanmış bir e
 tkinliktir. (&amp;Ouml\;rneğin: k&amp;uuml\;&amp;ccedil\;&amp;uuml\;k bir proje\, algorit
 malar\, makine yapıları\, elektrik devreleri...)&lt;/span&gt;&lt;/span&gt;&lt;/p&gt;\n&lt;/di
 v&gt;\n&lt;/div&gt;\n&lt;/div&gt;\n&lt;div class=&quot;mt-1 flex justify-start gap-3 empty:hidden
 &quot;&gt;\n&lt;div class=&quot;text-gray-400 flex self-end lg:self-center items-center ju
 stify-center lg:justify-start mt-0 -ml-1 h-7 gap-[2px] visible&quot;&gt;&lt;button cl
 ass=&quot;flex items-center gap-1.5 rounded-md p-1 text-xs text-token-text-tert
 iary hover:text-token-text-primary md:invisible md:group-hover:visible md:
 group-[.final-completion]:visible&quot;&gt;&lt;/button&gt;\n&lt;div class=&quot;flex items-cente
 r gap-1.5 text-xs&quot;&gt;&amp;nbsp\;&lt;/div&gt;\n&lt;div class=&quot;flex&quot;&gt;&amp;nbsp\;&lt;/div&gt;\n&lt;/div&gt;\
 n&lt;/div&gt;\n&lt;div class=&quot;pr-2 lg:pr-0&quot;&gt;&amp;nbsp\;&lt;/div&gt;\n&lt;/div&gt;\n&lt;div class=&quot;abso
 lute&quot;&gt;\n&lt;div class=&quot;flex w-full gap-2 items-center justify-center&quot;&gt;&amp;nbsp\;
 &lt;/div&gt;\n&lt;/div&gt;\n&lt;/div&gt;\n&lt;/div&gt;\n&lt;/div&gt;\n&lt;/div&gt;\n&lt;/div&gt;\n&lt;/div&gt;\n&lt;/div&gt;\n&lt;/
 div&gt;\n&lt;div class=&quot;w-full pt-2 md:pt-0 dark:border-white/20 md:border-trans
 parent md:dark:border-transparent md:w-[calc(100%-.5rem)]&quot;&gt;&lt;form class=&quot;st
 retch mx-2 flex flex-row gap-3 last:mb-2 md:mx-4 md:last:mb-6 lg:mx-auto l
 g:max-w-2xl xl:max-w-3xl&quot;&gt;\n&lt;div class=&quot;relative flex h-full flex-1 flex-c
 ol&quot;&gt;\n&lt;div class=&quot;absolute bottom-full left-0 right-0&quot;&gt;&amp;nbsp\;&lt;/div&gt;\n&lt;div
  class=&quot;flex w-full items-center&quot;&gt;&amp;nbsp\;&lt;/div&gt;\n&lt;/div&gt;\n&lt;/form&gt;&lt;/div&gt;
END:VEVENT
END:VCALENDAR

