BEGIN:VCALENDAR
VERSION:2.0
PRODID:IEEE vTools.Events//EN
CALSCALE:GREGORIAN
BEGIN:VTIMEZONE
TZID:US/Eastern
BEGIN:DAYLIGHT
DTSTART:20250309T030000
TZOFFSETFROM:-0500
TZOFFSETTO:-0400
RRULE:FREQ=YEARLY;BYDAY=2SU;BYMONTH=3
TZNAME:EDT
END:DAYLIGHT
BEGIN:STANDARD
DTSTART:20241103T010000
TZOFFSETFROM:-0400
TZOFFSETTO:-0500
RRULE:FREQ=YEARLY;BYDAY=1SU;BYMONTH=11
TZNAME:EST
END:STANDARD
END:VTIMEZONE
BEGIN:VEVENT
DTSTAMP:20241122T180122Z
UID:55878F0C-E260-41AC-AF32-5193149F0480
DTSTART;TZID=US/Eastern:20241115T073000
DTEND;TZID=US/Eastern:20241115T170000
DESCRIPTION:IEEE LONG ISLAND SECTION\, and IEEE REGION 1 present the Long I
 sland Systems\, Applications\, and Technology Conference (LISAT)\, to be h
 eld at Zebra Technologies\, Holtsville NY on Friday November 15\, 2024.\n\
 nExhibitors:\n\nEach table registered includes one staff member - please e
 nter their information so we can have a badge ready on event day.\n\nFor a
 dditional tables\, click on &#39;Add Another Guest&#39;\, select &#39;Exhibitor Table&#39;
  again\, and enter the information of the person on that table.\n\nFor add
 itional Exhibitor Team staff\, click on &#39;Add Another Guest&#39;\, and select &#39;
 Additional Exhibitor Team member&#39; as the Registration Fee. Again\, enter t
 he staff members Name on the registration form so we can have a badge read
 y on Event Day.\n\nPlease enter Company Name in Address Line 1 \, and indi
 cate in Special Requests if Wi-Fi is needed.\n\nExhibitor costs:\n\nRegist
 ration Fee\nBefore October 15\nAfter October 15\n\nEach Table (includes 1 
 Exhibitor Team member per table)\n$300	$350\nEach additional Exhibitor Tea
 m member	$50	$50\n\nThe normal Exhibit Fee is $300.00 per table (received 
 by Oct 15\, 2024). The registration for one exhibitor is included in the E
 xhibit Table fee. Exhibitors may request registration of additional team m
 embers for a fee of $50 each. Note that exhibitors should remain at the Ex
 hibitor’s Exhibit Area. The enrollment of more than one supplemental exh
 ibitor must be pre-approved to prevent unanticipated crowding of the Exhib
 itors area.\n\nThe fee for Exhibit Table registration after October 15\, 2
 024 is $350 per table.\n\nExhibitor Guests: Exhibitors may invite guests t
 o the conference. All invited guests MUST register with the conference by 
 Oct 15\, 2024. Exhibitor Guests ( full day or afternoon) may ONLY attend t
 he Exhibits and the vendor Product Application lectures. Exhibitors must r
 equest passes for the invited Afternoon/Full Day Guests. These requests ma
 y be denied due to capacity constraints. Note that the exhibit hall is lim
 ited to a maximum occupancy of 300 people at one time.\ni. After Lunch Gue
 sts- These guests may attend at no cost\, but they may only enter after 1P
 M.\nii. Full Day Guests- The fee for Full Day Guests is $25 each\, and the
 y may enter after 9 AM. These guests may take part in the food served in t
 he exhibits area (lunch and breaks).\n\nPayment: Exhibitors may either pay
  online send a check.\ni. To pay online:\n(1) Fill out exhibitors contract
 \, sign and send to address below.\n(2) Select “Exhibitor Registration
 ” on the www.ieee.li/lisat website and follow instructions.\nii. To pay 
 by mail:\nMail a check covering the Exhibit Fee and any Supplemental Exhib
 it Fee(s)\, payable to: “IEEE Long Island Section” via certified mail\
 , with two (2) signed copies of the Agreement to: Daniel Rogers\, ATTN: IE
 EE LISAT Exhibits\, 60 Ocean Avenue\, Blue Point NY 11715 by the deadlines
  above.\n\nCo-sponsored by: IEEE Region 1\, the IEEE Long Island Section a
 nd its technical society chapters\n\nAgenda: \n7:30 AM	REGISTRATION\n8:00 
 – 8:45	Opening Ceremonies and Award Presentations -\n\n8:45 - 9:15	BREAK
  Exhibits Area\n9:15 - 10:45\nSessions 1 Technical Tracks and Product Appl
 ications Tracks\n10:45 - 11:00	Break – Exhibits Area\n11:00 - 12:30	Sess
 ions 2 Technical Tracks and Product Applications Tracks\n12:30 - 1:45	Lunc
 h – Exhibits Area\n1:45 - 3:15	Sessions 3 Technical Tracks and Product A
 pplications Tracks\n3:15 - 3:45	Break – Exhibits Area\n3:45 - 5:00	Sessi
 ons 4 Technical Tracks and Product Applications Tracks\n5:00 PM	End of Con
 ference\n\nZebra Technologies\, 1 Zebra Plaza\, Holtsville\, New York\, Un
 ited States\, 11742
LOCATION:Zebra Technologies\, 1 Zebra Plaza\, Holtsville\, New York\, Unite
 d States\, 11742
ORGANIZER:c.rubenstein@ieee.org
SEQUENCE:18
SUMMARY:LISAT Conference 2024 - Exhibitor Registration
URL;VALUE=URI:https://events.vtools.ieee.org/m/415617
X-ALT-DESC:Description: &lt;br /&gt;&lt;p&gt;&lt;span style=&quot;font-size: 10pt\; font-family
 : arial\,helvetica\,sans-serif\;&quot;&gt;IEEE LONG ISLAND SECTION\, and IEEE REGI
 ON 1 present the Long Island Systems\, Applications\, and Technology Confe
 rence (LISAT)\, to be held at Zebra Technologies\, Holtsville NY on Friday
  November 15\, 2024.&lt;/span&gt;&lt;/p&gt;\n&lt;p&gt;Exhibitors:&lt;/p&gt;\n&lt;p&gt;&lt;strong&gt;Each table
  registered includes one staff member - please enter their information so 
 we can have a badge ready on event day.&lt;/strong&gt;&lt;/p&gt;\n&lt;p&gt;For additional ta
 bles\, click on &#39;Add Another Guest&#39;\, select &#39;Exhibitor Table&#39; again\,&amp;nbs
 p\; and enter the information of the person on that table.&lt;/p&gt;\n&lt;p&gt;For add
 itional Exhibitor Team staff\, click on &#39;Add Another Guest&#39;\, and select &#39;
 Additional Exhibitor Team member&#39; as the Registration Fee.&amp;nbsp\; Again\, 
 enter the staff members Name on the registration form so we can have a bad
 ge ready on Event Day.&lt;/p&gt;\n&lt;p&gt;&lt;strong&gt;Please enter Company Name in Addres
 s Line 1 \, and indicate in Special Requests if Wi-Fi is needed.&lt;/strong&gt;&lt;
 /p&gt;\n&lt;p&gt;&amp;nbsp\;&lt;/p&gt;\n&lt;p&gt;&lt;span style=&quot;font-size: 12pt\;&quot;&gt;Exhibitor costs:&lt;/
 span&gt;&lt;/p&gt;\n&lt;table style=&quot;height: 122px\;&quot; width=&quot;764&quot;&gt;\n&lt;tbody&gt;\n&lt;tr&gt;\n&lt;td
 &gt;&lt;span style=&quot;font-size: 12pt\;&quot;&gt;Registration Fee&lt;/span&gt;&lt;/td&gt;\n&lt;td&gt;\n&lt;p&gt;&lt;s
 pan style=&quot;font-size: 12pt\;&quot;&gt;Before October 15&lt;/span&gt;&lt;/p&gt;\n&lt;/td&gt;\n&lt;td&gt;&lt;sp
 an style=&quot;font-size: 12pt\;&quot;&gt;After October 15&amp;nbsp\;&lt;br&gt;&lt;/span&gt;&lt;/td&gt;\n&lt;/tr
 &gt;\n&lt;tr&gt;\n&lt;td&gt;&lt;span style=&quot;font-size: 12pt\;&quot;&gt;Each Table &lt;span style=&quot;font-
 size: 12pt\;&quot;&gt;(includes 1 Exhibitor Team member per table)&lt;/span&gt;&lt;br&gt;&lt;/spa
 n&gt;&lt;/td&gt;\n&lt;td&gt;&lt;span style=&quot;font-size: 12pt\;&quot;&gt;$300&lt;/span&gt;&lt;/td&gt;\n&lt;td&gt;$350&lt;/t
 d&gt;\n&lt;/tr&gt;\n&lt;tr&gt;\n&lt;td&gt;&lt;span style=&quot;font-size: 12pt\;&quot;&gt;&lt;span style=&quot;font-siz
 e: 12pt\;&quot;&gt;Each additional Exhibitor Team member&lt;/span&gt;&lt;/span&gt;&lt;/td&gt;\n&lt;td&gt;&lt;
 span style=&quot;font-size: 12pt\;&quot;&gt;$50&lt;/span&gt;&lt;/td&gt;\n&lt;td&gt;$50&lt;/td&gt;\n&lt;/tr&gt;\n&lt;/tbo
 dy&gt;\n&lt;/table&gt;\n&lt;p&gt;&amp;nbsp\;&lt;/p&gt;\n&lt;p&gt;The normal Exhibit Fee is $300.00 per ta
 ble (received by Oct 15\, 2024). &amp;nbsp\; The registration for one exhibito
 r is included in the Exhibit Table fee. &amp;nbsp\;Exhibitors may request regi
 stration of additional team members for a fee of $50 each. Note that exhib
 itors should remain at the Exhibitor&amp;rsquo\;s Exhibit Area. &amp;nbsp\;The enr
 ollment of more than one supplemental exhibitor must be pre-approved to pr
 event unanticipated crowding of the Exhibitors area.&lt;/p&gt;\n&lt;p&gt;The fee for E
 xhibit Table registration after October 15\, 2024 is $350 per table.&lt;/p&gt;\n
 &lt;p&gt;Exhibitor Guests: Exhibitors may invite guests to the conference. &amp;nbsp
 \;All invited guests MUST register with the conference by Oct 15\, 2024. &amp;
 nbsp\;Exhibitor Guests ( full day or afternoon) may ONLY attend the Exhibi
 ts and the vendor Product Application lectures. &amp;nbsp\;Exhibitors must req
 uest passes for the invited Afternoon/Full Day Guests. These requests may 
 be denied due to capacity constraints. &amp;nbsp\; Note that the exhibit hall 
 is limited to a maximum occupancy of 300 people at one time.&lt;br&gt;&amp;nbsp\; &amp;n
 bsp\;i. &amp;nbsp\; After Lunch Guests- These guests may attend at no cost\, b
 ut they may only enter after 1PM.&amp;nbsp\;&lt;br&gt;&amp;nbsp\; &amp;nbsp\;ii. &amp;nbsp\;Full
  Day Guests- The fee for Full Day Guests is $25 each\, and they may enter 
 after 9 AM. &amp;nbsp\;These guests may take part in the food served in the ex
 hibits area (lunch and breaks). &amp;nbsp\; &amp;nbsp\;&lt;/p&gt;\n&lt;p&gt;Payment: Exhibitor
 s may either pay online send a check.&lt;br&gt;&amp;nbsp\; &amp;nbsp\;i. To pay online: 
 &amp;nbsp\;&lt;br&gt;&amp;nbsp\; &amp;nbsp\; &amp;nbsp\; &amp;nbsp\;(1) Fill out exhibitors contract
 \, sign and send to address below.&amp;nbsp\;&lt;br&gt;&amp;nbsp\; &amp;nbsp\; &amp;nbsp\; &amp;nbsp
 \;(2) Select &amp;ldquo\;Exhibitor Registration&amp;rdquo\; on the www.ieee.li/lis
 at website and follow instructions.&amp;nbsp\;&lt;br&gt;&amp;nbsp\; ii. To pay by mail:&lt;
 br&gt;&amp;nbsp\; &amp;nbsp\; &amp;nbsp\; Mail a check covering the Exhibit Fee and any S
 upplemental Exhibit Fee(s)\, payable to: &amp;ldquo\;IEEE Long Island Section&amp;
 rdquo\; via certified mail\, &amp;nbsp\;with two (2) signed copies of the Agre
 ement to: &amp;nbsp\;Daniel Rogers\, ATTN: IEEE LISAT Exhibits\, 60 Ocean Aven
 ue\, Blue Point &amp;nbsp\;NY 11715 by the deadlines above.&lt;/p&gt;\n&lt;p&gt;&amp;nbsp\;&lt;/p
 &gt;\n&lt;p&gt;&amp;nbsp\;&lt;/p&gt;\n&lt;p&gt;&amp;nbsp\;&lt;/p&gt;&lt;br /&gt;&lt;br /&gt;Agenda: &lt;br /&gt;&lt;table style=&quot;h
 eight: 213px\;&quot; width=&quot;836&quot;&gt;\n&lt;tbody&gt;\n&lt;tr&gt;\n&lt;td&gt;7:30 AM&lt;/td&gt;\n&lt;td&gt;REGISTR
 ATION&lt;/td&gt;\n&lt;/tr&gt;\n&lt;tr&gt;\n&lt;td&gt;&lt;strong&gt;8:00 &amp;ndash\; 8:45&lt;/strong&gt;&lt;/td&gt;\n&lt;td
 &gt;&lt;strong&gt;Opening Ceremonies and Award Presentations -&amp;nbsp\; &lt;br&gt;&lt;/strong&gt;
 &lt;/td&gt;\n&lt;/tr&gt;\n&lt;tr&gt;\n&lt;td&gt;8:45 - 9:15&lt;/td&gt;\n&lt;td&gt;BREAK&amp;nbsp\;&amp;nbsp\;&amp;nbsp\;&amp;n
 bsp\; Exhibits Area&lt;/td&gt;\n&lt;/tr&gt;\n&lt;tr&gt;\n&lt;td&gt;&lt;strong&gt;9:15 - 10:45 &lt;br&gt;&lt;/stro
 ng&gt;&lt;/td&gt;\n&lt;td&gt;&lt;strong&gt;Sessions 1 Technical Tracks and Product Applications
  Tracks&lt;/strong&gt;&lt;/td&gt;\n&lt;/tr&gt;\n&lt;tr&gt;\n&lt;td&gt;10:45 - 11:00&lt;/td&gt;\n&lt;td&gt;Break &amp;nda
 sh\; Exhibits Area&lt;/td&gt;\n&lt;/tr&gt;\n&lt;tr&gt;\n&lt;td&gt;&lt;strong&gt;11:00 - 12:30&lt;/strong&gt;&lt;/
 td&gt;\n&lt;td&gt;&lt;strong&gt;Sessions 2 Technical Tracks and Product Applications Trac
 ks&lt;/strong&gt;&lt;/td&gt;\n&lt;/tr&gt;\n&lt;tr&gt;\n&lt;td&gt;12:30 - 1:45&lt;/td&gt;\n&lt;td&gt;Lunch &amp;ndash\; E
 xhibits Area&lt;/td&gt;\n&lt;/tr&gt;\n&lt;tr&gt;\n&lt;td&gt;&lt;strong&gt;1:45 - 3:15&lt;/strong&gt;&lt;/td&gt;\n&lt;td
 &gt;&lt;strong&gt;Sessions 3 Technical Tracks and Product Applications Tracks&lt;/stro
 ng&gt;&lt;/td&gt;\n&lt;/tr&gt;\n&lt;tr&gt;\n&lt;td&gt;3:15 - 3:45&lt;/td&gt;\n&lt;td&gt;Break &amp;ndash\; Exhibits A
 rea&lt;/td&gt;\n&lt;/tr&gt;\n&lt;tr&gt;\n&lt;td&gt;&lt;strong&gt;3:45 - 5:00&lt;/strong&gt;&lt;/td&gt;\n&lt;td&gt;&lt;strong&gt;
 Sessions 4 Technical Tracks and Product Applications Tracks&lt;/strong&gt;&lt;/td&gt;\
 n&lt;/tr&gt;\n&lt;tr&gt;\n&lt;td&gt;5:00 PM&lt;/td&gt;\n&lt;td&gt;End of Conference&lt;/td&gt;\n&lt;/tr&gt;\n&lt;/tbody
 &gt;\n&lt;/table&gt;
END:VEVENT
END:VCALENDAR

