BEGIN:VCALENDAR
VERSION:2.0
PRODID:IEEE vTools.Events//EN
CALSCALE:GREGORIAN
BEGIN:VTIMEZONE
TZID:Asia/Singapore
BEGIN:DAYLIGHT
DTSTART:20380119T111407
TZOFFSETFROM:+0800
TZOFFSETTO:+0800
RRULE:FREQ=YEARLY;BYDAY=3TU;BYMONTH=1
TZNAME:+08
END:DAYLIGHT
BEGIN:STANDARD
DTSTART:19820101T000000
TZOFFSETFROM:+0730
TZOFFSETTO:+0800
RRULE:FREQ=YEARLY;BYDAY=1FR;BYMONTH=1
TZNAME:+08
END:STANDARD
END:VTIMEZONE
BEGIN:VEVENT
DTSTAMP:20161010T082137Z
UID:9022B9C1-8EC2-11E6-A7C6-0050568D7F66
DTSTART;TZID=Singapore:20160727T130000
DTEND;TZID=Singapore:20160727T170000
DESCRIPTION:Terasaki is the world&#39;s power specialist since 1923\, it provid
 es a range of Low Voltage Switchgear and services for the following market
 \; Residential\, Office Building\, Manufacturing plant\, Energy and Infras
 tructure. Terasaki products are well-established in the Marine Systems\, I
 ndustrial System and Circuit Breaker industry. The company celebrates its 
 90 years anniversary globally and 30 years anniversary in Malaysia since t
 he establishment. The Terasaki Electric factory is considered one of the v
 ery first factories in Shah Alam Area (Industrial Area).\n\nThe site visit
  was organized to introduce electrical engineering students from the power
  system class to the products and services of Terasaki Electric Sdn Bhd. T
 he Company produces products such as Air circuit breakers\, Moulded case c
 ircuit breakers\, Miniature circuit breakers\, Earth leakage relay. Also\,
  it offers services such as Switchgears / SwitchBoards / Control Systems S
 upply &amp; Commission / Installation / Start-Up Services\, Fault-Finding\, Re
 ctifying and Repair Works\, Upgrading\, Modification\, Extension and Retro
 fitting Works\, Inspections\, Testing Site Survey And Discrimination Analy
 sis Services\, Spare Parts Supply &amp; Installation. In addition\, Terasaki E
 lectric has other partners to come out with full-package and more convenie
 nt services to the clients\n\nAgenda: \nVisit start 1pm to 5pm\n\nTerasaki
  Electric Factory\, Shah Alam\, Selangor\, Malaysia
LOCATION:Terasaki Electric Factory\, Shah Alam\, Selangor\, Malaysia
ORGANIZER:jas@upm.edu.my
SEQUENCE:0
SUMMARY:Terasaki Electric Factory Visit
URL;VALUE=URI:https://events.vtools.ieee.org/m/41579
X-ALT-DESC:Description: &lt;br /&gt;&lt;p&gt;Terasaki is the world&#39;s power specialist s
 ince 1923\, it provides a range of Low Voltage Switchgear and services for
  the following market\; Residential\, Office Building\, Manufacturing plan
 t\, Energy and Infrastructure. Terasaki products are well-established in t
 he Marine Systems\, Industrial System and Circuit Breaker industry. The co
 mpany celebrates its 90 years anniversary globally and 30 years anniversar
 y in Malaysia since the establishment. The Terasaki Electric factory is co
 nsidered one of the very first factories in Shah Alam Area (Industrial Are
 a).&lt;/p&gt;\n&lt;p&gt;The site visit was organized to introduce electrical engineeri
 ng students from the power system class to the products and services of Te
 rasaki Electric Sdn Bhd. The Company produces products such as Air circuit
  breakers\, Moulded case circuit breakers\, Miniature circuit breakers\, E
 arth leakage relay. Also\, it offers services such as Switchgears / Switch
 Boards / Control Systems Supply &amp;amp\; Commission / Installation / Start-U
 p Services\, Fault-Finding\, Rectifying and Repair Works\, Upgrading\, Mod
 ification\, Extension and Retrofitting Works\, Inspections\, Testing Site 
 Survey And Discrimination Analysis Services\, Spare Parts Supply &amp;amp\; In
 stallation. In addition\, Terasaki Electric has other partners to come out
  with full-package and more convenient services to the clients&lt;/p&gt;&lt;br /&gt;&lt;b
 r /&gt;Agenda: &lt;br /&gt;&lt;p&gt;Visit start 1pm to 5pm&lt;/p&gt;
END:VEVENT
END:VCALENDAR

