BEGIN:VCALENDAR
VERSION:2.0
PRODID:IEEE vTools.Events//EN
CALSCALE:GREGORIAN
BEGIN:VTIMEZONE
TZID:America/New_York
BEGIN:DAYLIGHT
DTSTART:20240310T030000
TZOFFSETFROM:-0500
TZOFFSETTO:-0400
RRULE:FREQ=YEARLY;BYDAY=2SU;BYMONTH=3
TZNAME:EDT
END:DAYLIGHT
BEGIN:STANDARD
DTSTART:20241103T010000
TZOFFSETFROM:-0400
TZOFFSETTO:-0500
RRULE:FREQ=YEARLY;BYDAY=1SU;BYMONTH=11
TZNAME:EST
END:STANDARD
END:VTIMEZONE
BEGIN:VEVENT
DTSTAMP:20240816T011822Z
UID:1EAAD697-1EE7-4A59-B912-CB8C1B7E3279
DTSTART;TZID=America/New_York:20240405T180000
DTEND;TZID=America/New_York:20240405T200000
DESCRIPTION:Inter-section meeting—IEEE North Jersey Section and IEEE Pune
  Section—discussion and meeting among members to plan upcoming joint act
 ivities per the MoU signed between the two sections in 2022.\n\nAgenda for
  April 05\, 2024:\n\nRefreshment/Dinner and Networking: 6:00 PM-6:30 PM\n\
 n(1) Presentation by IEEE North Jersey Section Chair- Prof. Hong Zhao: 6:3
 0 PM-6:45 PM\n\n(2) Presentation by IEEE Pune Section Past Chair and Curre
 nt AP/MTT/EMC Chair-Prof. G S Mani: 6:45 PM-7:00PM\n\n(3) Technical presen
 tation by Prof. GS Mani: 7:00 PM-7:45 PM\n\n(4) Discussion and photo sessi
 on: 7:45 PM-8:00 PM\n\nEureka-participation of 10\,000 plus school student
 s in IEEE R10 (India)\n\n(I) Humanitarian Projects\n\n(II) EPICS in IEEE P
 rojects\n\n(III) STEM Activities\n\n(IV) YP &amp; WiE Events\n\nSpeaker: (1) P
 rof. GS Mani-IEEE Pune Section\, (2) Prof Hong Zhao-IEEE North Jersey Sect
 ion\, (3) and Dr. Ajay Poddar-IEEE North Jersey Section\n\nCo-sponsored by
 : IEEE North Jersey and IEEE Pune Section\n\nSpeaker(s): Prof. G. S. Mani\
 , Prof. Hong Zhao\, Dr. Ajay Poddar\n\nAgenda: \nAgenda for April 05\, 202
 4:\n\nRefreshment/Dinner and Networking: 6:00 PM-6:30 PM\n\n(1) Presentati
 on by IEEE North Jersey Section Chair- Prof. Hong Zhao: 6:30 PM-6:45 PM\n\
 n(2) Presentation by IEEE Pune Section Past Chair and Current AP/MTT/EMC C
 hair-Prof. G S Mani: 6:45 PM-7:00PM\n\n(3) Technical presentation by Prof.
  GS Mani: 7:00 PM-7:45 PM\n\n(4) Q/A and discussions and photo session: 7:
 45 PM-8:00 PM\n\nEureka-participation of 10\,000 plus school students in I
 EEE R10 (India)\n\n(I) Humanitarian Projects\n\n(II) EPICS in IEEE Project
 s\n\n(III) STEM Activities\n\n(IV) YP &amp; WiE Events\n\nSpeaker: (1) Prof. G
 S Mani-IEEE Pune Section\, (2) Prof Hong Zhao-IEEE North Jersey Section\, 
 (3) and Dr. Ajay Poddar-IEEE North Jersey Section\n\nRoom: M105\, Bldg: Mu
 scarelle Center \, 1000 River Rd \, Teaneck\, New Jersey\, United States\,
  07666\, Virtual: https://events.vtools.ieee.org/m/415835
LOCATION:Room: M105\, Bldg: Muscarelle Center \, 1000 River Rd \, Teaneck\,
  New Jersey\, United States\, 07666\, Virtual: https://events.vtools.ieee.
 org/m/415835
ORGANIZER:zhao@fdu.edu
SEQUENCE:6
SUMMARY:IEEE North Jersey and Pune Section - Inter Section activities: Elec
 tronic Warfare-the story from Rhine to Ukraine
URL;VALUE=URI:https://events.vtools.ieee.org/m/415835
X-ALT-DESC:Description: &lt;br /&gt;&lt;p&gt;Inter-section meeting&amp;mdash\;IEEE North Je
 rsey Section and IEEE Pune Section&amp;mdash\;discussion and meeting among mem
 bers to plan upcoming joint activities per the MoU signed between the two 
 sections in 2022.&lt;/p&gt;\n&lt;p&gt;Agenda for April 05\, 2024:&lt;/p&gt;\n&lt;p&gt;Refreshment/
 Dinner and Networking: 6:00 PM-6:30 PM&lt;/p&gt;\n&lt;p&gt;(1) Presentation by IEEE No
 rth Jersey Section Chair- Prof. Hong Zhao: 6:30 PM-6:45 PM&lt;/p&gt;\n&lt;p&gt;(2) Pre
 sentation by IEEE Pune Section&amp;nbsp\; Past Chair and Current AP/MTT/EMC Ch
 air-Prof. G S Mani: 6:45 PM-7:00PM&lt;/p&gt;\n&lt;p&gt;(3) Technical presentation by P
 rof. GS Mani: 7:00 PM-7:45 PM&lt;/p&gt;\n&lt;p&gt;(4) Discussion and photo session: 7:
 45 PM-8:00 PM&lt;/p&gt;\n&lt;p&gt;Eureka-participation of 10\,000 plus school students
  in IEEE R10 (India)&lt;/p&gt;\n&lt;p&gt;(I) Humanitarian Projects&lt;/p&gt;\n&lt;p&gt;(II) EPICS 
 in IEEE Projects&lt;/p&gt;\n&lt;p&gt;(III) STEM Activities&lt;/p&gt;\n&lt;p&gt;(IV) YP &amp;amp\; WiE 
 Events&lt;/p&gt;\n&lt;p&gt;Speaker: (1) Prof. GS Mani-IEEE Pune Section\, (2) Prof Hon
 g Zhao-IEEE North Jersey Section\, (3) and Dr. Ajay Poddar-IEEE North Jers
 ey Section&lt;/p&gt;\n&lt;p&gt;&amp;nbsp\;&lt;/p&gt;\n&lt;p&gt;&amp;nbsp\;&lt;/p&gt;\n&lt;p&gt;&amp;nbsp\;&lt;/p&gt;\n&lt;p&gt;&amp;nbsp\;
 &lt;/p&gt;\n&lt;p&gt;&amp;nbsp\;&lt;/p&gt;\n&lt;p&gt;&amp;nbsp\;&lt;/p&gt;\n&lt;p&gt;&amp;nbsp\;&lt;/p&gt;\n&lt;p&gt;&amp;nbsp\;&lt;/p&gt;\n&lt;p&gt;&amp;
 nbsp\;&lt;/p&gt;&lt;br /&gt;&lt;br /&gt;Agenda: &lt;br /&gt;&lt;p&gt;Agenda for April 05\, 2024:&lt;/p&gt;\n&lt;p
 &gt;Refreshment/Dinner and Networking: 6:00 PM-6:30 PM&lt;/p&gt;\n&lt;p&gt;(1) Presentati
 on by IEEE North Jersey Section Chair- Prof. Hong Zhao: 6:30 PM-6:45 PM&lt;/p
 &gt;\n&lt;p&gt;(2) Presentation by IEEE Pune Section&amp;nbsp\; Past Chair and Current 
 AP/MTT/EMC Chair-Prof. G S Mani: 6:45 PM-7:00PM&lt;/p&gt;\n&lt;p&gt;(3) Technical pres
 entation by Prof. GS Mani: 7:00 PM-7:45 PM&lt;/p&gt;\n&lt;p&gt;(4) Q/A and discussions
  and photo session: 7:45 PM-8:00 PM&lt;/p&gt;\n&lt;p&gt;Eureka-participation of 10\,00
 0 plus school students in IEEE R10 (India)&lt;/p&gt;\n&lt;p&gt;(I) Humanitarian Projec
 ts&lt;/p&gt;\n&lt;p&gt;(II) EPICS in IEEE Projects&lt;/p&gt;\n&lt;p&gt;(III) STEM Activities&lt;/p&gt;\n
 &lt;p&gt;(IV) YP &amp;amp\; WiE Events&lt;/p&gt;\n&lt;p&gt;Speaker: (1) Prof. GS Mani-IEEE Pune 
 Section\, (2) Prof Hong Zhao-IEEE North Jersey Section\, (3) and Dr. Ajay 
 Poddar-IEEE North Jersey Section&lt;/p&gt;\n&lt;p&gt;&amp;nbsp\;&lt;/p&gt;\n&lt;p&gt;&amp;nbsp\;&lt;/p&gt;\n&lt;p&gt;&amp;
 nbsp\;&lt;/p&gt;\n&lt;p&gt;&amp;nbsp\;&lt;/p&gt;\n&lt;p&gt;&amp;nbsp\;&lt;/p&gt;\n&lt;p&gt;&amp;nbsp\;&lt;/p&gt;\n&lt;p&gt;&amp;nbsp\;&lt;/p&gt;
 \n&lt;p&gt;&amp;nbsp\;&lt;/p&gt;\n&lt;p&gt;&amp;nbsp\;&lt;/p&gt;\n&lt;p&gt;&amp;nbsp\;&lt;/p&gt;\n&lt;p&gt;&amp;nbsp\;&lt;/p&gt;\n&lt;p&gt;&amp;nbsp
 \;&lt;/p&gt;\n&lt;p&gt;&amp;nbsp\;&lt;/p&gt;\n&lt;p&gt;&amp;nbsp\;&lt;/p&gt;\n&lt;p&gt;&amp;nbsp\;&lt;/p&gt;\n&lt;p&gt;&amp;nbsp\;&lt;/p&gt;\n&lt;p
 &gt;&amp;nbsp\;&lt;/p&gt;\n&lt;p&gt;&amp;nbsp\;&lt;/p&gt;\n&lt;p&gt;&amp;nbsp\;&lt;/p&gt;\n&lt;p&gt;&amp;nbsp\;&lt;/p&gt;\n&lt;p&gt;&amp;nbsp\;&lt;/
 p&gt;\n&lt;p&gt;&amp;nbsp\;&lt;/p&gt;\n&lt;p&gt;&amp;nbsp\;&lt;/p&gt;\n&lt;p&gt;&amp;nbsp\;&lt;/p&gt;\n&lt;p&gt;&amp;nbsp\;&lt;/p&gt;\n&lt;p&gt;&amp;nb
 sp\;&lt;/p&gt;\n&lt;p&gt;&amp;nbsp\;&lt;/p&gt;\n&lt;p&gt;&amp;nbsp\;&lt;/p&gt;\n&lt;p&gt;&amp;nbsp\;&lt;/p&gt;\n&lt;p&gt;&amp;nbsp\;&lt;/p&gt;\n
 &lt;p&gt;&amp;nbsp\;&lt;/p&gt;\n&lt;p&gt;&amp;nbsp\;&lt;/p&gt;\n&lt;p&gt;&amp;nbsp\;&lt;/p&gt;\n&lt;p&gt;&amp;nbsp\;&lt;/p&gt;\n&lt;p&gt;&amp;nbsp\;
 &lt;/p&gt;\n&lt;p&gt;&amp;nbsp\;&lt;/p&gt;\n&lt;p&gt;&amp;nbsp\;&lt;/p&gt;\n&lt;p&gt;&amp;nbsp\;&lt;/p&gt;\n&lt;p&gt;&amp;nbsp\;&lt;/p&gt;\n&lt;p&gt;&amp;
 nbsp\;&lt;/p&gt;\n&lt;p&gt;&amp;nbsp\;&lt;/p&gt;\n&lt;p&gt;&amp;nbsp\;&lt;/p&gt;\n&lt;p&gt;&amp;nbsp\;&lt;/p&gt;\n&lt;p&gt;&amp;nbsp\;&lt;/p&gt;
 \n&lt;p&gt;&amp;nbsp\;&lt;/p&gt;
END:VEVENT
END:VCALENDAR

