BEGIN:VCALENDAR
VERSION:2.0
PRODID:IEEE vTools.Events//EN
CALSCALE:GREGORIAN
BEGIN:VTIMEZONE
TZID:America/Chicago
BEGIN:DAYLIGHT
DTSTART:20240310T030000
TZOFFSETFROM:-0600
TZOFFSETTO:-0500
RRULE:FREQ=YEARLY;BYDAY=2SU;BYMONTH=3
TZNAME:CDT
END:DAYLIGHT
BEGIN:STANDARD
DTSTART:20241103T010000
TZOFFSETFROM:-0500
TZOFFSETTO:-0600
RRULE:FREQ=YEARLY;BYDAY=1SU;BYMONTH=11
TZNAME:CST
END:STANDARD
END:VTIMEZONE
BEGIN:VEVENT
DTSTAMP:20241112T200911Z
UID:BB644B7C-2A88-4404-A6A4-71D278BB7D5F
DTSTART;TZID=America/Chicago:20240419T173000
DTEND;TZID=America/Chicago:20240419T203000
DESCRIPTION:This meeting will focus on the technical and practical side of 
 power equipment. During the social period (thirty minutes) the floor with 
 be open for peruse the equipment\, and to ask any questions with presenter
 s as present. Following this period we will gather for a dinner in the roo
 m reserved for us\, during which the various Specialists will offer an ove
 rview of the equipment fundamental later demonstrated. The equipment avail
 able is listed below.\n\n- Power Transformer\n- DA Viper\n- High Voltage C
 ircuit Breaker\n- Control Equipment (Relays and SCADA)\n\nIn culmination w
 e will all gather around one of NIPSCO”s Mobile Substation\, demonstrati
 ng how everything working to fulfill its function provides reliable and sa
 fe power delivery to our customers\n\nSpeaker(s): Chuck Vamos\, \, \n\nAge
 nda: \n5:30pm – Social &amp; Equipment Tour (self-guided)\n\n6:00pm – Dinn
 er\n\n6:45pm – Presentation &amp; Demonstration (NIPSCO Valparaiso Service C
 enter)\n\n2755 Raystone Drive \, Valparaiso\, Indiana\, United States\, 46
 383
LOCATION:2755 Raystone Drive \, Valparaiso\, Indiana\, United States\, 4638
 3
ORGANIZER:gwhelan@nisource.com
SEQUENCE:38
SUMMARY:Power Equipment Fundamentals
URL;VALUE=URI:https://events.vtools.ieee.org/m/415845
X-ALT-DESC:Description: &lt;br /&gt;&lt;p class=&quot;MsoNormal&quot;&gt;&lt;span style=&quot;font-size: 
 11.0pt\;&quot;&gt;This meeting will focus on the technical and practical side of p
 ower equipment.&lt;span style=&quot;mso-spacerun: yes\;&quot;&gt;&amp;nbsp\; &lt;/span&gt;During the
  social period (thirty minutes) the floor with be open for peruse the equi
 pment\, and to ask any questions with presenters as present. Following thi
 s period we will gather for a dinner in the room reserved for us\, during 
 which the various Specialists will offer an overview of the equipment fund
 amental later demonstrated. The equipment available is listed below.&lt;/span
 &gt;&lt;/p&gt;\n&lt;ul style=&quot;margin-top: 0in\;&quot; type=&quot;disc&quot;&gt;\n&lt;li class=&quot;MsoNormal&quot; s
 tyle=&quot;mso-list: l0 level1 lfo1\;&quot;&gt;&lt;span style=&quot;font-size: 11.0pt\;&quot;&gt;Power 
 Transformer&lt;/span&gt;&lt;/li&gt;\n&lt;li class=&quot;MsoNormal&quot; style=&quot;mso-list: l0 level1 
 lfo1\;&quot;&gt;&lt;span style=&quot;font-size: 11.0pt\;&quot;&gt;DA Viper&lt;/span&gt;&lt;/li&gt;\n&lt;li class=
 &quot;MsoNormal&quot; style=&quot;mso-list: l0 level1 lfo1\;&quot;&gt;&lt;span style=&quot;font-size: 11.
 0pt\;&quot;&gt;High Voltage Circuit Breaker&lt;/span&gt;&lt;/li&gt;\n&lt;li class=&quot;MsoNormal&quot; sty
 le=&quot;mso-list: l0 level1 lfo1\;&quot;&gt;&lt;span style=&quot;font-size: 11.0pt\;&quot;&gt;Control 
 Equipment (Relays and SCADA)&lt;/span&gt;&lt;/li&gt;\n&lt;/ul&gt;\n&lt;p class=&quot;MsoNormal&quot;&gt;&lt;spa
 n style=&quot;font-size: 11.0pt\;&quot;&gt;&amp;nbsp\;&lt;/span&gt;&lt;/p&gt;\n&lt;p class=&quot;MsoNormal&quot;&gt;&lt;sp
 an style=&quot;font-size: 11.0pt\;&quot;&gt;In culmination we will all gather around on
 e of NIPSCO&amp;rdquo\;s Mobile Substation\, demonstrating how everything work
 ing to fulfill its function provides reliable and safe power delivery to o
 ur customers&lt;/span&gt;&lt;/p&gt;&lt;br /&gt;&lt;br /&gt;Agenda: &lt;br /&gt;&lt;p class=&quot;MsoNormal&quot;&gt;&lt;spa
 n style=&quot;font-size: 11.0pt\;&quot;&gt;5:30pm &amp;ndash\; Social &amp;amp\; Equipment Tour
  (self-guided)&lt;/span&gt;&lt;/p&gt;\n&lt;p class=&quot;MsoNormal&quot;&gt;&lt;strong&gt;&lt;span style=&quot;font-
 size: 11.0pt\;&quot;&gt;&amp;nbsp\;&lt;span style=&quot;mso-tab-count: 1\;&quot;&gt;&amp;nbsp\;&amp;nbsp\;&amp;nbs
 p\;&amp;nbsp\;&amp;nbsp\;&amp;nbsp\;&amp;nbsp\;&amp;nbsp\;&amp;nbsp\;&amp;nbsp\; &lt;/span&gt;&lt;/span&gt;&lt;/stron
 g&gt;&lt;span style=&quot;font-size: 11.0pt\;&quot;&gt;6:00pm &amp;ndash\; Dinner &lt;/span&gt;&lt;/p&gt;\n&lt;p
 &gt;&lt;span style=&quot;font-size: 11.0pt\; font-family: &#39;Times New Roman&#39;\,serif\; 
 mso-fareast-font-family: &#39;Times New Roman&#39;\; mso-ansi-language: EN-US\; ms
 o-fareast-language: EN-US\; mso-bidi-language: AR-SA\;&quot;&gt;&lt;span style=&quot;mso-t
 ab-count: 1\;&quot;&gt;&amp;nbsp\;&amp;nbsp\;&amp;nbsp\;&amp;nbsp\;&amp;nbsp\;&amp;nbsp\;&amp;nbsp\;&amp;nbsp\;&amp;nb
 sp\;&amp;nbsp\;&amp;nbsp\; &lt;/span&gt;6:45pm &amp;ndash\; Presentation &amp;amp\; Demonstratio
 n (NIPSCO Valparaiso Service Center)&lt;/span&gt;&lt;/p&gt;
END:VEVENT
END:VCALENDAR

