BEGIN:VCALENDAR
VERSION:2.0
PRODID:IEEE vTools.Events//EN
CALSCALE:GREGORIAN
BEGIN:VTIMEZONE
TZID:America/Los_Angeles
BEGIN:DAYLIGHT
DTSTART:20240310T030000
TZOFFSETFROM:-0800
TZOFFSETTO:-0700
RRULE:FREQ=YEARLY;BYDAY=2SU;BYMONTH=3
TZNAME:PDT
END:DAYLIGHT
BEGIN:STANDARD
DTSTART:20241103T010000
TZOFFSETFROM:-0700
TZOFFSETTO:-0800
RRULE:FREQ=YEARLY;BYDAY=1SU;BYMONTH=11
TZNAME:PST
END:STANDARD
END:VTIMEZONE
BEGIN:VEVENT
DTSTAMP:20240513T084542Z
UID:69EDD5C0-BE77-49E3-A9E3-0F605F8207C8
DTSTART;TZID=America/Los_Angeles:20240409T183000
DTEND;TZID=America/Los_Angeles:20240409T191500
DESCRIPTION:In today&#39;s rapidly evolving technological landscape\, the conce
 pt of the Digital Twin emerges as a pivotal tool in reshaping the future o
 f transportation and infrastructure management. Digital Twin\, a virtual r
 epresentation mirroring physical assets\, offers transformative potential 
 in optimizing operations\, enhancing decision-making\, and mitigating risk
 s across various domains. This technical talk delves into the multifaceted
  development and applications of Digital Twin in the transportation and in
 frastructure sectors.\n\nFrom real-time monitoring of vehicle fleets to pr
 edictive maintenance of critical infrastructure\, Digital Twin empowers st
 akeholders with unparalleled insights into asset performance and behavior.
  Leveraging data analytics\, machine learning\, and IoT integration. Digit
 al Twin enhances efficiency and fosters resilience against unforeseen chal
 lenges. Through industry examples and case studies\, this talk navigates t
 he complexities of Digital Twin adoption and addresses challenges and oppo
 rtunities for stakeholders.\n\nEmbracing Digital Twins isn&#39;t merely about 
 embracing technology\; it&#39;s about embracing innovation\, collaboration\, a
 nd foresight to shape a more innovative\, more connected future for transp
 ortation and infrastructure.\n\nCo-sponsored by: Seattle University Studen
 t Chapter\n\nSpeaker(s): Sanjay Samuel\n\nAgenda: \n5.30 PM to 6.00 PM Net
 working and Dinner\n6.00 PM to 6.30 Senior Membership Information Session\
 n6.30 PM to 7.15 PM Techtalk\n\nRoom: Room #: 210\, Bldg: Student Center\,
  Seattle University\, 901 12th Ave\, Seattle\, WA 98122\, Seattle\, Washin
 gton\, United States\, 98122\, Virtual: https://events.vtools.ieee.org/m/4
 16134
LOCATION:Room: Room #: 210\, Bldg: Student Center\, Seattle University\, 90
 1 12th Ave\, Seattle\, WA 98122\, Seattle\, Washington\, United States\, 9
 8122\, Virtual: https://events.vtools.ieee.org/m/416134
ORGANIZER:dfischer@ieee.org
SEQUENCE:23
SUMMARY:IEEE Tech Talk: Digital Twins for Transportation and Infrastructure
 : A Visionary Approach
URL;VALUE=URI:https://events.vtools.ieee.org/m/416134
X-ALT-DESC:Description: &lt;br /&gt;&lt;p class=&quot;MsoNormal&quot;&gt;&amp;nbsp\;&lt;/p&gt;\n&lt;p class=&quot;M
 soNormal&quot;&gt;&lt;img src=&quot;https://events.vtools.ieee.org/vtools_ui/media/display
 /b3da01cb-a5c0-42eb-8221-97074cfe8a41&quot;&gt;&lt;/p&gt;\n&lt;p class=&quot;MsoNormal&quot;&gt;In today
 &#39;s rapidly evolving technological landscape\, the concept of the Digital T
 win emerges as a pivotal tool in reshaping the future of transportation an
 d infrastructure management. Digital Twin\, a virtual representation mirro
 ring physical assets\, offers transformative potential in optimizing opera
 tions\, enhancing decision-making\, and mitigating risks across various do
 mains. This technical talk delves into the multifaceted development and ap
 plications of Digital Twin in the transportation and infrastructure sector
 s.&lt;/p&gt;\n&lt;p class=&quot;MsoNormal&quot;&gt;From real-time monitoring of vehicle fleets t
 o predictive maintenance of critical infrastructure\, Digital Twin empower
 s stakeholders with unparalleled insights into asset performance and behav
 ior. Leveraging data analytics\, machine learning\, and IoT integration. D
 igital Twin enhances efficiency and fosters resilience against unforeseen 
 challenges. Through industry examples and case studies\, this talk navigat
 es the complexities of Digital Twin adoption and addresses challenges and 
 opportunities for stakeholders.&lt;/p&gt;\n&lt;p class=&quot;MsoNormal&quot;&gt;Embracing Digita
 l Twins isn&#39;t merely about embracing technology\; it&#39;s about embracing inn
 ovation\, collaboration\, and foresight to shape a more innovative\, more 
 connected future for transportation and infrastructure.&lt;/p&gt;\n&lt;p class=&quot;Mso
 Normal&quot;&gt;&amp;nbsp\;&lt;/p&gt;&lt;br /&gt;&lt;br /&gt;Agenda: &lt;br /&gt;&lt;p style=&quot;font-weight: 400\;&quot;
 &gt;5.30 PM to 6.00 PM Networking and Dinner&lt;br&gt;6.00 PM to 6.30 Senior Member
 ship Information Session&lt;br&gt;6.30 PM to 7.15 PM Techtalk&lt;/p&gt;\n&lt;p style=&quot;fon
 t-weight: 400\;&quot;&gt;&amp;nbsp\;&lt;/p&gt;
END:VEVENT
END:VCALENDAR

