BEGIN:VCALENDAR
VERSION:2.0
PRODID:IEEE vTools.Events//EN
CALSCALE:GREGORIAN
BEGIN:VTIMEZONE
TZID:Asia/Kolkata
BEGIN:STANDARD
DTSTART:19451014T230000
TZOFFSETFROM:+0630
TZOFFSETTO:+0530
TZNAME:IST
END:STANDARD
END:VTIMEZONE
BEGIN:VEVENT
DTSTAMP:20240424T105008Z
UID:55E7A7AE-3F2B-482D-A27B-C2FA31C93909
DTSTART;TZID=Asia/Kolkata:20240423T143000
DTEND;TZID=Asia/Kolkata:20240423T153000
DESCRIPTION:[]\n\nInvited talks by two eminent personalities on the followi
 ng topics at RGM College Nandyal ON 23 APRIL \, 2024\n\n1. Leveraging pote
 ntial of Electric Vehicle in Decarbonisation journey: Dr. Surekha Deshmukh
  - Domain Consultant\, IOT DE \, TCS \, Pune. Chair - IEEE Pune Section\, 
 Member - IEEE Committee on Technology for Sustainability Climate\n\n2. Stu
 dent community contribution to the Electric Mobility Area- Dr. Bijuna Kunj
 u\, Professor Department of EEE TKM College of Engineering\, Kollam . Vice
  Chair - Kerala Section\n\nAgenda: \n23RD April \, 2024\n\n2.30- 3.00 PM -
 \n1. Dr Surekha Deshmukh - Domain Consultant\, IOT DE \, TCS \, Pune. Chai
 r - IEEE Pune Section\nMember - IEEE Committee on Technology for Sustainab
 ility Climate\n\n3.00- 3.30 PM\n\n2. Student community contribution to the
  Electric Mobility Area- Dr. Bijuna Kunju\, Professor Department of EEE TK
 M College of Engineering\, Kollam . Vice Chair - Kerala Section\n\nNANDYAL
 \, Andhra Pradesh\, India\, Virtual: https://events.vtools.ieee.org/m/4161
 76
LOCATION:NANDYAL\, Andhra Pradesh\, India\, Virtual: https://events.vtools.
 ieee.org/m/416176
ORGANIZER:harivardhagini@ieee.org
SEQUENCE:135
SUMMARY:Invited talks on the occasion of PES DAY Celebrations on the theme 
 &quot;Empowering Electric Mobility Innovation&quot;
URL;VALUE=URI:https://events.vtools.ieee.org/m/416176
X-ALT-DESC:Description: &lt;br /&gt;&lt;p&gt;&lt;img src=&quot;https://events.vtools.ieee.org/v
 tools_ui/media/display/44c92ef3-af6c-437e-a827-4200ac4bb6af&quot; alt=&quot;&quot; width=
 &quot;255&quot; height=&quot;360&quot;&gt;&lt;/p&gt;\n&lt;p&gt;&amp;nbsp\;&lt;/p&gt;\n&lt;p&gt;Invited talks by two eminent p
 ersonalities on the following topics at RGM College Nandyal ON 23 APRIL \,
  2024&lt;/p&gt;\n&lt;p&gt;&lt;br&gt;1. Leveraging potential of Electric Vehicle in Decarboni
 sation journey: Dr. Surekha Deshmukh - Domain Consultant\, IOT DE \, TCS \
 , Pune. Chair - IEEE Pune Section\,&amp;nbsp\;Member - IEEE Committee on Techn
 ology for Sustainability Climate&lt;/p&gt;\n&lt;p&gt;2. Student community contribution
  to the Electric Mobility Area- Dr. Bijuna Kunju\, Professor Department of
  EEE TKM College of Engineering\, Kollam . Vice Chair - Kerala Section&lt;br&gt;
 &lt;br&gt;&lt;/p&gt;&lt;br /&gt;&lt;br /&gt;Agenda: &lt;br /&gt;&lt;p&gt;23RD April \, 2024&lt;/p&gt;\n&lt;p&gt;2.30- 3.00
  PM -&amp;nbsp\;&lt;br&gt;1. Dr Surekha Deshmukh - Domain Consultant\, IOT DE \, TCS
  \, Pune. Chair - IEEE Pune Section&amp;nbsp\;&lt;br&gt;Member - IEEE Committee on T
 echnology for Sustainability Climate&lt;/p&gt;\n&lt;p&gt;&amp;nbsp\;&lt;/p&gt;\n&lt;p&gt;&amp;nbsp\;&lt;/p&gt;\n
 &lt;p&gt;3.00- 3.30 PM&lt;/p&gt;\n&lt;p&gt;2. Student community contribution to the Electric
  Mobility Area- Dr. Bijuna Kunju\, Professor Department of EEE TKM College
  of Engineering\, Kollam . Vice Chair - Kerala Section&lt;/p&gt;
END:VEVENT
END:VCALENDAR

