BEGIN:VCALENDAR
VERSION:2.0
PRODID:IEEE vTools.Events//EN
CALSCALE:GREGORIAN
BEGIN:VTIMEZONE
TZID:Asia/Kolkata
BEGIN:STANDARD
DTSTART:19451014T230000
TZOFFSETFROM:+0630
TZOFFSETTO:+0530
TZNAME:IST
END:STANDARD
END:VTIMEZONE
BEGIN:VEVENT
DTSTAMP:20240407T054530Z
UID:FF0A8853-65F5-447F-B6FE-5F5BB53C8A27
DTSTART;TZID=Asia/Kolkata:20240407T100000
DTEND;TZID=Asia/Kolkata:20240407T110000
DESCRIPTION:IEEE Educational Activities\, in association with IEEE LMAG of 
 the IEEE Hyderabad Section\, is organizing a webinar on &quot;Physics of Remote
  Sensing\, Satellite Imaging\, Applications\, and Career Opportunities.&quot; o
 n April 7\, 2024\, from 10:00 a.m. (IST) onwards.\n\nAbstract of the talk:
 \n\nRemote sensing is the practice of deriving information about the Earth
 &#39;s land and water surfaces using images acquired from an overhead perspect
 ive\, using electromagnetic radiation in one or more regions of the electr
 omagnetic spectrum\, reflected or emitted from the Earth&#39;s surface. Every 
 sensor is limited in respect to the size of the smallest area that can be 
 separately recorded as an entity on an image. This minimum area determines
  the spatial detail the fineness of the patterns-on the image. These minim
 al areal units\, known as pixels (&quot;picture elements&quot;)\, are the smallest a
 real units identifiable on the image.\nRemote sensing techniques are curre
 ntly used by a number organizations for the study of remote objects such a
 s earth\, lunar\, and planetary surfaces and atmospheres from great distan
 ces. Remote sensing data is processed using image processing techniques fo
 r producing conventional maps\, thematic maps\, resources surveys in the f
 ields of agriculture\, water resources\, forestry etc.\nFor students\, stu
 dy of Remote Sensing exposes to number of technologies* that can contribut
 e to several dimensions and subsequent personal and professional developme
 nt. *Imaging systems\, image processing software\, artificial intelligence
  techniques\, robotics\, high speed computing systems\, large capacity sto
 rage devices\, data reception\, data processing\, high-speed internet\, la
 sers \, deep space communication systems\, etc.\,\n\nIndian Space Research
  Organisation (ISRO) has a vibrant Indian Remote Sensing program since 198
 8 with a gamut of Indian Remote Sensing Missions (IRS) observing Earth wit
 h Optical\, microwave and hyper-spectral instruments flown on-board to pro
 vide necessary data in various\nspatial\, spectral and temporal resolution
 s to cater to different user requirements in the country and for global us
 age. NRSC is the nodal centre for hosting Satellite Data Products from mor
 e than 13 IRS satellites right from the first IRS optical mission namely I
 RS-1A and SAR imaging missions.\nRemote Sensing satellites were used to mo
 nitor environmental pollution levels\, traffic changes in the cities etc.\
 , during Covid 19 period all over the world.\n\nPlatform : Google Meet\n\n
 https://meet.google.com/iqv-juva-dfd\n\nSpeaker: Dr. K.M.M. Rao\, Former D
 eputy Director\, NRSC\,ISRO and Former Adjunct Faculty\, BITS-Hyderabad.\n
 \nFeel free to contact at saikumar9@ieee.org.\n\nProf. Saikumar Tara\,\n\n
 Chairman\, IEEE Educational Activities\, Hyderabad Section\,\n\nIEEE Hyder
 abad Section.\n\nCo-sponsored by: IEEE Educational Activities and IEEE LMA
 G\n\nSpeaker(s): Dr K M M Rao\, \n\nVirtual: https://events.vtools.ieee.or
 g/m/416250
LOCATION:Virtual: https://events.vtools.ieee.org/m/416250
ORGANIZER:saikumar9@ieee.org
SEQUENCE:34
SUMMARY:A Webinar on Physics of Remote Sensing\, Satellite Imaging\, Applic
 ations and Career Opportunities.
URL;VALUE=URI:https://events.vtools.ieee.org/m/416250
X-ALT-DESC:Description: &lt;br /&gt;&lt;p&gt;IEEE Educational Activities\, in associati
 on with IEEE LMAG of the IEEE Hyderabad Section\, is organizing a webinar 
 on &quot;Physics of Remote Sensing\, Satellite Imaging\, Applications\, and Car
 eer Opportunities.&quot; on&amp;nbsp\; April 7\, 2024\, from 10:00 a.m. (IST) onwar
 ds.&lt;/p&gt;\n&lt;p&gt;&amp;nbsp\;&lt;/p&gt;\n&lt;p&gt;&amp;nbsp\;Abstract of the talk: &amp;nbsp\;&lt;/p&gt;\n&lt;p&gt;R
 emote sensing is the practice of deriving information about the Earth&#39;s la
 nd and water surfaces&amp;nbsp\;using images acquired from an overhead perspec
 tive\, using electromagnetic radiation in one or&amp;nbsp\;more regions of the
  electromagnetic spectrum\, reflected or emitted from the Earth&#39;s surface.
 &amp;nbsp\;Every sensor is limited in respect to the size of the smallest area
  that can be separately recorded&amp;nbsp\;as an entity on an image. This mini
 mum area determines the spatial detail the fineness of the&amp;nbsp\;patterns-
 on the image. These minimal areal units\, known as pixels (&quot;picture elemen
 ts&quot;)\, are the smallest areal units identifiable on the image.&lt;br&gt;Remote s
 ensing techniques are currently used by a number organizations for the stu
 dy of&amp;nbsp\;remote objects such as earth\, lunar\, and planetary surfaces 
 and atmospheres from great&amp;nbsp\;distances. Remote sensing data is process
 ed using image processing techniques for producing&amp;nbsp\;conventional maps
 \, thematic maps\, resources surveys in the fields of agriculture\, water&amp;
 nbsp\;resources\, forestry etc.&lt;br&gt;For students\, study of Remote Sensing 
 exposes to number of technologies* that can contribute&amp;nbsp\;to several di
 mensions and subsequent personal and professional development.&amp;nbsp\;*Imag
 ing systems\, image processing software\, artificial intelligence techniqu
 es\, robotics\, high&amp;nbsp\;speed computing systems\, large capacity storag
 e devices\, data reception\, data processing\, high-speed internet\, laser
 s \, deep space communication systems\, etc.\,&lt;/p&gt;\n&lt;p&gt;Indian Space Resear
 ch Organisation (ISRO) has a vibrant Indian Remote Sensing program since&amp;n
 bsp\;1988 with a gamut of Indian Remote Sensing Missions (IRS) observing E
 arth with Optical\,&amp;nbsp\;microwave and hyper-spectral instruments flown o
 n-board to provide necessary data in various&lt;br&gt;spatial\, spectral and tem
 poral resolutions to cater to different user requirements in the country a
 nd&amp;nbsp\;for global usage. NRSC is the nodal centre for hosting Satellite 
 Data Products from more than 13&amp;nbsp\;IRS satellites right from the first 
 IRS optical mission namely IRS-1A and SAR imaging missions.&lt;br&gt;Remote Sens
 ing satellites were used to monitor environmental pollution levels\, traff
 ic changes&amp;nbsp\;in the cities etc.\, during Covid 19 period all over the 
 world.&lt;/p&gt;\n&lt;p&gt;&amp;nbsp\;&lt;/p&gt;\n&lt;p&gt;Platform : Google Meet&lt;/p&gt;\n&lt;p&gt;&lt;a href=&quot;htt
 ps://meet.google.com/iqv-juva-dfd&quot;&gt;https://meet.google.com/iqv-juva-dfd&lt;/a
 &gt;&lt;/p&gt;\n&lt;p&gt;Speaker: Dr. K.M.M. Rao\, Former Deputy Director\, NRSC\,ISRO an
 d Former Adjunct Faculty\, BITS-Hyderabad.&lt;/p&gt;\n&lt;p&gt;&amp;nbsp\;&lt;/p&gt;\n&lt;p&gt;Feel fr
 ee to contact at &lt;a href=&quot;mailto:saikumar9@ieee.org&quot;&gt;saikumar9@ieee.org&lt;/a
 &gt;.&lt;/p&gt;\n&lt;p&gt;&amp;nbsp\;&lt;/p&gt;\n&lt;p&gt;Prof. Saikumar Tara\,&lt;/p&gt;\n&lt;p&gt;Chairman\, IEEE E
 ducational Activities\, Hyderabad Section\,&lt;/p&gt;\n&lt;p&gt;IEEE Hyderabad Section
 .&lt;/p&gt;\n&lt;p&gt;&amp;nbsp\;&lt;/p&gt;\n&lt;p&gt;&amp;nbsp\;&lt;/p&gt;
END:VEVENT
END:VCALENDAR

