BEGIN:VCALENDAR
VERSION:2.0
PRODID:IEEE vTools.Events//EN
CALSCALE:GREGORIAN
BEGIN:VTIMEZONE
TZID:America/New_York
BEGIN:DAYLIGHT
DTSTART:20240310T030000
TZOFFSETFROM:-0500
TZOFFSETTO:-0400
RRULE:FREQ=YEARLY;BYDAY=2SU;BYMONTH=3
TZNAME:EDT
END:DAYLIGHT
BEGIN:STANDARD
DTSTART:20241103T010000
TZOFFSETFROM:-0400
TZOFFSETTO:-0500
RRULE:FREQ=YEARLY;BYDAY=1SU;BYMONTH=11
TZNAME:EST
END:STANDARD
END:VTIMEZONE
BEGIN:VEVENT
DTSTAMP:20241014T141533Z
UID:B230A420-A496-41D4-AFD9-1AD6E191B788
DTSTART;TZID=America/New_York:20241005T080000
DTEND;TZID=America/New_York:20241005T180000
DESCRIPTION:The IEEE R3/Area3 Florida Space Coast Cyber Security Conference
  2024 is currently planned for Saturday\, October 5th\, 2024. This confere
 nce will be a joint effort by all Region3/Area3 IEEE Sections as well as c
 orresponding Life Member Societies of each section and the Canaveral Counc
 il of Technical Societies (CCTS). We will feature 7 technical cyber securi
 ty experts on the subject from local universities\, military and private i
 ndustry to speak at the conference.\n\nWe plan for this to be an impactful
  conference highlighting the necessity for national awareness of our secur
 ity and infrastructure systems which are targets of many international for
 ces and HOMELAND THREATS. The GOAL is to make this a yearly conference to 
 keep up with potential threats and the technological advances of the corre
 sponding industries.\n\nWe invite your input at this conference! Please Re
 gister! No Fees Required - Admittance is Free!!!\n\nCo-sponsored by: Vince
  Socci    socci@ieee.org    607-768-2647\n\nAgenda: \n0830am to 0900 Atten
 dee Arrival\n\n0900am to 1000 1st Speaker: Col. S. Shannon DaSilva\, Patri
 ck SFB\; &#39;Baseline of Threats to the Space Domain&#39;\n\n1000am to 1100 2nd S
 peaker: Dr. Darrel Parsons\, Zel Technologies\; &#39;Cybersecurities\, Threats
 \, Attacks &amp; Responses&#39;\n\n1100am to 1130 Coffee Break &amp; Mingle\n\n1130am 
 to 1230 3rd Speaker: Gracie Pereira\, Accenture\; &#39;Cybersecurity\, Opportu
 nities &amp; Future Challenges&#39;\n\n1230pm to 130 Catered Lunch By ELKS LODGE\,
  Rockledge\n\n130pm to 230 4th Speaker: Dr. Sneha Sudhakaran\, Florida Tec
 h\; &#39;Performing Memory Forensics in Critical Evidence Recovery&#39;\n\n230pm t
 o 330 5th Speaker: Abigail Merchant\, Orlando HS\; &#39;Empowering Precision i
 n Epilepsy Care: Pioneering Seisure Prevention&#39;\n\n330pm to 400 Refreshmen
 t Break &amp; Mingle\n\n400pm to 500 6th Speaker: David Essi\, LABRATechnology
 : &#39;Understanding the Cyber Security Risks with a Personal IoT Backend&#39;\n\n
 500pm to 600 7th Speaker: Dr. Mia Naeini \, Cyber Florida\, USF Tampa: &#39;Th
 e CyberSecurity of our Power Grid&#39;\n\nBldg: VIERA ELK&#39;S LODGE\, ROCKLEDGE\
 , FLORIDA\, 5820 US-1 South\, Rockledge\, Florida\, United States\, 32922
LOCATION:Bldg: VIERA ELK&#39;S LODGE\, ROCKLEDGE\, FLORIDA\, 5820 US-1 South\, 
 Rockledge\, Florida\, United States\, 32922
ORGANIZER:rortega@nuvosource.com
SEQUENCE:86
SUMMARY:IEEE R3/Area3 Florida Space Coast Cyber Security Conference 2024
URL;VALUE=URI:https://events.vtools.ieee.org/m/416383
X-ALT-DESC:Description: &lt;br /&gt;&lt;p&gt;&lt;span style=&quot;color: rgb(224\, 62\, 45)\; f
 ont-size: 14pt\;&quot;&gt;&lt;strong&gt;The IEEE R3/Area3 Florida Space Coast Cyber Secu
 rity Conference 2024 is currently planned for Saturday\, October 5th\, 202
 4. This conference will be a joint effort by all Region3/Area3 IEEE Sectio
 ns as well as corresponding Life Member Societies of each section and the 
 Canaveral Council of Technical Societies (CCTS). &amp;nbsp\;We will feature 7 
 technical cyber security experts on the subject from local universities\, 
 military and private industry to speak at the conference.&lt;/strong&gt;&lt;/span&gt;&lt;
 /p&gt;\n&lt;p&gt;&lt;span style=&quot;color: rgb(224\, 62\, 45)\; font-size: 14pt\;&quot;&gt;&lt;stron
 g&gt;We plan for this to be an impactful conference highlighting the necessit
 y for national awareness of our security and infrastructure systems which 
 are targets of many international forces and HOMELAND THREATS.&amp;nbsp\; The 
 GOAL is to&amp;nbsp\; make this a yearly conference to keep up with potential 
 threats and the technological advances of the corresponding industries.&lt;/s
 trong&gt;&lt;/span&gt;&lt;/p&gt;\n&lt;p&gt;&lt;span style=&quot;color: rgb(224\, 62\, 45)\; font-size: 
 14pt\;&quot;&gt;&lt;strong&gt;We invite your input at this conference!&amp;nbsp\; Please Reg
 ister!&amp;nbsp\; No Fees Required - Admittance is Free!!!&lt;/strong&gt;&lt;/span&gt;&lt;/p&gt;
 &lt;br /&gt;&lt;br /&gt;Agenda: &lt;br /&gt;&lt;p class=&quot;MsoNormal&quot; style=&quot;text-indent: 35.45pt
 \;&quot;&gt;&lt;span style=&quot;color: rgb(35\, 111\, 161)\; font-size: 12pt\; font-famil
 y: &#39;times new roman&#39;\, times\, serif\;&quot;&gt;&lt;strong&gt;&lt;span style=&quot;color: rgb(22
 4\, 62\, 45)\;&quot;&gt;0830am to 0900&lt;/span&gt;&amp;nbsp\; &amp;nbsp\; &amp;nbsp\; &amp;nbsp\; Atten
 dee Arrival&lt;/strong&gt;&lt;/span&gt;&lt;/p&gt;\n&lt;p class=&quot;MsoNormal&quot; style=&quot;text-indent: 
 35.45pt\;&quot;&gt;&lt;span style=&quot;color: rgb(35\, 111\, 161)\; font-size: 12pt\; fon
 t-family: &#39;times new roman&#39;\, times\, serif\;&quot;&gt;&lt;strong&gt;&lt;span style=&quot;color:
  rgb(224\, 62\, 45)\;&quot;&gt;0900am to 1000&lt;/span&gt;&amp;nbsp\; &amp;nbsp\; &amp;nbsp\; &amp;nbsp\
 ; 1&lt;sup&gt;st&lt;/sup&gt; Speaker: Col. S. Shannon DaSilva\, Patrick SFB\; &lt;span st
 yle=&quot;color: rgb(224\, 62\, 45)\;&quot;&gt;&#39;Baseline of Threats to the Space Domain
 &#39;&lt;/span&gt;&lt;/strong&gt;&lt;/span&gt;&lt;/p&gt;\n&lt;p class=&quot;MsoNormal&quot; style=&quot;text-indent: .5i
 n\;&quot;&gt;&lt;span style=&quot;font-size: 12pt\; font-family: &#39;times new roman&#39;\, times
 \, serif\;&quot;&gt;&lt;span style=&quot;color: rgb(35\, 111\, 161)\;&quot;&gt;&lt;strong&gt;&lt;span style
 =&quot;color: rgb(224\, 62\, 45)\;&quot;&gt;1000am to 1100&lt;/span&gt;&amp;nbsp\; &amp;nbsp\; &amp;nbsp\
 ; &amp;nbsp\; &lt;/strong&gt;&lt;/span&gt;&lt;strong style=&quot;color: rgb(35\, 111\, 161)\;&quot;&gt;2&lt;s
 up&gt;nd&lt;/sup&gt; Speaker: Dr. Darrel Parsons\, Zel Technologies\;&lt;span style=&quot;b
 ackground-color: rgb(255\, 255\, 255)\;&quot;&gt;&amp;nbsp\;&lt;span style=&quot;color: rgb(22
 4\, 62\, 45)\;&quot;&gt;&#39;Cybersecurities\, Threats\, Attacks &amp;amp\; Responses&#39;&amp;nbs
 p\;&amp;nbsp\;&lt;/span&gt;&lt;/span&gt;&lt;/strong&gt;&lt;/span&gt;&lt;/p&gt;\n&lt;p class=&quot;MsoNormal&quot; style=&quot;
 text-indent: .5in\;&quot;&gt;&lt;span style=&quot;color: rgb(35\, 111\, 161)\; font-size: 
 12pt\; font-family: &#39;times new roman&#39;\, times\, serif\;&quot;&gt;&lt;strong&gt;&lt;span sty
 le=&quot;color: rgb(224\, 62\, 45)\;&quot;&gt;1100am to 1130&lt;/span&gt;&amp;nbsp\; &amp;nbsp\; &amp;nbs
 p\; &amp;nbsp\; Coffee Break &amp;amp\; Mingle&lt;/strong&gt;&lt;/span&gt;&lt;/p&gt;\n&lt;p class=&quot;MsoN
 ormal&quot; style=&quot;text-indent: .5in\;&quot;&gt;&lt;span style=&quot;color: rgb(35\, 111\, 161)
 \; font-size: 12pt\; font-family: &#39;times new roman&#39;\, times\, serif\;&quot;&gt;&lt;st
 rong&gt;&lt;span style=&quot;color: rgb(224\, 62\, 45)\;&quot;&gt;1130am to 1230&lt;/span&gt;&amp;nbsp\
 ; &amp;nbsp\; &amp;nbsp\; &amp;nbsp\; 3&lt;sup&gt;rd&lt;/sup&gt; Speaker: Gracie Pereira\, Accentu
 re\; &lt;span style=&quot;color: rgb(224\, 62\, 45)\;&quot;&gt;&#39;Cybersecurity\, Opportunit
 ies &amp;amp\; Future Challenges&#39;&lt;/span&gt;&lt;/strong&gt;&lt;/span&gt;&lt;/p&gt;\n&lt;p class=&quot;MsoNor
 mal&quot; style=&quot;text-indent: .5in\;&quot;&gt;&lt;span style=&quot;color: rgb(35\, 111\, 161)\;
  font-size: 12pt\; font-family: &#39;times new roman&#39;\, times\, serif\;&quot;&gt;&lt;stro
 ng&gt;&lt;span style=&quot;color: rgb(224\, 62\, 45)\;&quot;&gt;1230pm to 130&lt;/span&gt;&amp;nbsp\; &amp;
 nbsp\; &amp;nbsp\; &amp;nbsp\; &amp;nbsp\;Catered Lunch By ELKS LODGE\, Rockledge&lt;/str
 ong&gt;&lt;/span&gt;&lt;/p&gt;\n&lt;p class=&quot;MsoNormal&quot; style=&quot;text-indent: .5in\;&quot;&gt;&lt;span st
 yle=&quot;color: rgb(35\, 111\, 161)\; font-size: 12pt\; font-family: &#39;times ne
 w roman&#39;\, times\, serif\;&quot;&gt;&lt;strong&gt;&lt;span style=&quot;color: rgb(224\, 62\, 45)
 \;&quot;&gt;130pm to 230&lt;/span&gt;&amp;nbsp\; &amp;nbsp\; &amp;nbsp\; &amp;nbsp\; &amp;nbsp\; 4&lt;sup&gt;th&lt;/s
 up&gt; Speaker: Dr. Sneha Sudhakaran\, Florida Tech\; &lt;span style=&quot;color: rgb
 (224\, 62\, 45)\;&quot;&gt;&#39;Performing Memory Forensics in Critical Evidence Recov
 ery&#39;&lt;/span&gt;&lt;/strong&gt;&lt;/span&gt;&lt;/p&gt;\n&lt;p class=&quot;MsoNormal&quot; style=&quot;text-indent: 
 .5in\;&quot;&gt;&lt;span style=&quot;color: rgb(35\, 111\, 161)\; font-size: 12pt\; font-f
 amily: &#39;times new roman&#39;\, times\, serif\;&quot;&gt;&lt;strong&gt;&lt;span style=&quot;color: rg
 b(224\, 62\, 45)\;&quot;&gt;230pm to 330&lt;/span&gt;&amp;nbsp\; &amp;nbsp\; &amp;nbsp\; &amp;nbsp\; &amp;nb
 sp\; 5&lt;sup&gt;th&lt;/sup&gt; Speaker: Abigail Merchant\, Orlando HS\;&amp;nbsp\;&lt;span s
 tyle=&quot;color: rgb(224\, 62\, 45)\;&quot;&gt;&#39;Empowering Precision in Epilepsy Care:
  Pioneering Seisure Prevention&#39;&amp;nbsp\; &amp;nbsp\; &amp;nbsp\; &amp;nbsp\; &amp;nbsp\;&amp;nbs
 p\;&lt;/span&gt;&lt;/strong&gt;&lt;/span&gt;&lt;/p&gt;\n&lt;p class=&quot;MsoNormal&quot; style=&quot;text-indent: .
 5in\;&quot;&gt;&lt;span style=&quot;color: rgb(35\, 111\, 161)\; font-size: 12pt\; font-fa
 mily: &#39;times new roman&#39;\, times\, serif\;&quot;&gt;&lt;strong&gt;&lt;span style=&quot;color: rgb
 (224\, 62\, 45)\;&quot;&gt;330pm to 400&lt;/span&gt;&amp;nbsp\; &amp;nbsp\; &amp;nbsp\; &amp;nbsp\; &amp;nbs
 p\; Refreshment Break &amp;amp\; Mingle&lt;/strong&gt;&lt;/span&gt;&lt;/p&gt;\n&lt;p class=&quot;MsoNorm
 al&quot; style=&quot;text-indent: .5in\;&quot;&gt;&lt;span style=&quot;color: rgb(35\, 111\, 161)\; 
 font-size: 12pt\; font-family: &#39;times new roman&#39;\, times\, serif\;&quot;&gt;&lt;stron
 g&gt;&lt;span style=&quot;color: rgb(224\, 62\, 45)\;&quot;&gt;400pm to 500&lt;/span&gt;&amp;nbsp\; &amp;nb
 sp\; &amp;nbsp\; &amp;nbsp\; &amp;nbsp\; 6&lt;sup&gt;th&lt;/sup&gt; Speaker: David Essi\, LABRATec
 hnology: &lt;span style=&quot;color: rgb(224\, 62\, 45)\;&quot;&gt;&#39;Understanding the Cybe
 r Security Risks with a Personal IoT Backend&#39;&lt;/span&gt;&lt;/strong&gt;&lt;/span&gt;&lt;/p&gt;\n
 &lt;p class=&quot;MsoNormal&quot; style=&quot;text-indent: .5in\;&quot;&gt;&lt;span style=&quot;color: rgb(3
 5\, 111\, 161)\; font-size: 12pt\; font-family: &#39;times new roman&#39;\, times\
 , serif\;&quot;&gt;&lt;strong&gt;&lt;span style=&quot;color: rgb(224\, 62\, 45)\;&quot;&gt;500pm to 600&lt;
 /span&gt;&amp;nbsp\; &amp;nbsp\; &amp;nbsp\; &amp;nbsp\; &amp;nbsp\; 7th Speaker: Dr. Mia Naeini 
 \, Cyber Florida\, USF Tampa: &#39;&lt;span style=&quot;color: rgb(224\, 62\, 45)\;&quot;&gt;T
 he CyberSecurity of our Power Grid&#39;&lt;/span&gt;&lt;/strong&gt;&lt;/span&gt;&lt;/p&gt;
END:VEVENT
END:VCALENDAR

