BEGIN:VCALENDAR
VERSION:2.0
PRODID:IEEE vTools.Events//EN
CALSCALE:GREGORIAN
BEGIN:VTIMEZONE
TZID:America/Chicago
BEGIN:DAYLIGHT
DTSTART:20240310T030000
TZOFFSETFROM:-0600
TZOFFSETTO:-0500
RRULE:FREQ=YEARLY;BYDAY=2SU;BYMONTH=3
TZNAME:CDT
END:DAYLIGHT
BEGIN:STANDARD
DTSTART:20241103T010000
TZOFFSETFROM:-0500
TZOFFSETTO:-0600
RRULE:FREQ=YEARLY;BYDAY=1SU;BYMONTH=11
TZNAME:CST
END:STANDARD
END:VTIMEZONE
BEGIN:VEVENT
DTSTAMP:20240515T141724Z
UID:57B1DFFC-0B0B-426B-BA31-866DAB345D5C
DTSTART;TZID=America/Chicago:20240416T180000
DTEND;TZID=America/Chicago:20240416T203000
DESCRIPTION:Electronics packaging reliability has become an inescapable top
 ic for the defense\, healthcare\, consumer electronics\, and communication
  industries. And as packaging technologies continue to push limits\, under
 standing the fundamental reliability concepts is becoming increasingly imp
 ortant.\n\nCo-sponsored by: Angela Robinson\n\nSpeaker(s): Jonathan Kordel
 l\n\nAgenda: \n6:00 Networking\n\n6:30 Speaker\n\n8:30 Adjourn\n\nVirtual:
  https://events.vtools.ieee.org/m/416534
LOCATION:Virtual: https://events.vtools.ieee.org/m/416534
ORGANIZER:mnrc.ieee@gmail.com
SEQUENCE:44
SUMMARY:Introduction to Electronics Reliability
URL;VALUE=URI:https://events.vtools.ieee.org/m/416534
X-ALT-DESC:Description: &lt;br /&gt;&lt;div class=&quot;g-group l-lg-mar-bot-6 l-md-mar-b
 ot-4  &quot;&gt;\n&lt;div class=&quot;g-cell g-cell-10-12 g-cell-md-1-1&quot;&gt;\n&lt;div class=&quot;has
 -user-generated-content&quot;&gt;\n&lt;p style=&quot;margin: 0in\; font-family: -apple-sys
 tem\; font-size: 12.0pt\; color: #6f7287\;&quot;&gt;&lt;span style=&quot;background: white
 \; font-family: arial\, helvetica\, sans-serif\;&quot;&gt;Electronics packaging re
 liability has become an inescapable topic for the defense\, healthcare\, c
 onsumer electronics\, and communication industries. And as packaging techn
 ologies continue to push limits\, understanding the fundamental reliabilit
 y concepts is becoming increasingly important.&lt;/span&gt;&lt;/p&gt;\n&lt;/div&gt;\n&lt;/div&gt;\
 n&lt;/div&gt;&lt;br /&gt;&lt;br /&gt;Agenda: &lt;br /&gt;&lt;p&gt;6:00 Networking&lt;/p&gt;\n&lt;p&gt;6:30 Speaker&lt;/
 p&gt;\n&lt;p&gt;8:30&amp;nbsp\; Adjourn&lt;/p&gt;
END:VEVENT
END:VCALENDAR

