BEGIN:VCALENDAR
VERSION:2.0
PRODID:IEEE vTools.Events//EN
CALSCALE:GREGORIAN
BEGIN:VTIMEZONE
TZID:America/Puerto_Rico
BEGIN:STANDARD
DTSTART:19450930T010000
TZOFFSETFROM:-0300
TZOFFSETTO:-0400
TZNAME:AST
END:STANDARD
END:VTIMEZONE
BEGIN:VEVENT
DTSTAMP:20240419T124820Z
UID:14DC23BF-5555-4534-8A0C-617802196B47
DTSTART;TZID=America/Puerto_Rico:20240418T180000
DTEND;TZID=America/Puerto_Rico:20240418T194500
DESCRIPTION:The deployment of offshore wind farms further away from the coa
 st has several advantages\, but brings along a few important challenges\, 
 such as the need to install the turbines in floating platforms\, costly op
 eration and maintenance\, and subsea power transmission over longer distan
 ces. In this talk\, we will discuss these and other challenges and will pr
 esent research and development projects carried out at the University of S
 ão Paulo which aim to help to overcome them.\n\nSpeaker(s): Mauricio\, Br
 uno\n\nVirtual: https://events.vtools.ieee.org/m/416540
LOCATION:Virtual: https://events.vtools.ieee.org/m/416540
ORGANIZER:nassif@ieee.org
SEQUENCE:10
SUMMARY:Research and development in floating offshore wind energy: bridging
  the gap from resource analysis to deployment
URL;VALUE=URI:https://events.vtools.ieee.org/m/416540
X-ALT-DESC:Description: &lt;br /&gt;&lt;p class=&quot;MsoNormal&quot; style=&quot;text-align: justi
 fy\;&quot;&gt;&lt;span style=&quot;font-family: &#39;Helvetica&#39;\,sans-serif\; color: #0d0d0d\;
  background: white\;&quot;&gt;The deployment of offshore wind farms further away f
 rom the coast has several advantages\, but brings along a few important ch
 allenges\, such as the need to install the turbines in floating platforms\
 , costly operation and maintenance\, and subsea power transmission over lo
 nger distances. In this talk\, we will discuss these and other challenges 
 and will present research and development projects carried out at the Univ
 ersity of S&amp;atilde\;o Paulo which aim to help to overcome them.&lt;/span&gt;&lt;/p&gt;
END:VEVENT
END:VCALENDAR

