BEGIN:VCALENDAR
VERSION:2.0
PRODID:IEEE vTools.Events//EN
CALSCALE:GREGORIAN
BEGIN:VTIMEZONE
TZID:America/New_York
BEGIN:DAYLIGHT
DTSTART:20240310T030000
TZOFFSETFROM:-0500
TZOFFSETTO:-0400
RRULE:FREQ=YEARLY;BYDAY=2SU;BYMONTH=3
TZNAME:EDT
END:DAYLIGHT
BEGIN:STANDARD
DTSTART:20241103T010000
TZOFFSETFROM:-0400
TZOFFSETTO:-0500
RRULE:FREQ=YEARLY;BYDAY=1SU;BYMONTH=11
TZNAME:EST
END:STANDARD
END:VTIMEZONE
BEGIN:VEVENT
DTSTAMP:20240419T160133Z
UID:F8945C6C-59C9-4383-96C1-C36EBE48DECD
DTSTART;TZID=America/New_York:20240416T130000
DTEND;TZID=America/New_York:20240416T143000
DESCRIPTION:Join us for lunch and share tails of days at work!\n\nWe would 
 like to thank Wendell Snyder for his presentation last month as he took us
  to a Colorado ranch.\n\nBldg: Ramsey&#39;s Diner\, 151 W Zandale Drive\, Lexi
 ngton\, Kentucky\, United States\, 40503
LOCATION:Bldg: Ramsey&#39;s Diner\, 151 W Zandale Drive\, Lexington\, Kentucky\
 , United States\, 40503
ORGANIZER:dhill@uky.edu
SEQUENCE:16
SUMMARY:Life Member Meeting
URL;VALUE=URI:https://events.vtools.ieee.org/m/416941
X-ALT-DESC:Description: &lt;br /&gt;&lt;p&gt;Join us for lunch and share tails of days 
 at work!&lt;/p&gt;\n&lt;p&gt;We would like to thank Wendell Snyder for his presentatio
 n last month as he took us to a Colorado ranch.&amp;nbsp\;&lt;/p&gt;
END:VEVENT
END:VCALENDAR

