BEGIN:VCALENDAR
VERSION:2.0
PRODID:IEEE vTools.Events//EN
CALSCALE:GREGORIAN
BEGIN:VTIMEZONE
TZID:Canada/Pacific
BEGIN:DAYLIGHT
DTSTART:20160313T030000
TZOFFSETFROM:-0800
TZOFFSETTO:-0700
RRULE:FREQ=YEARLY;BYDAY=2SU;BYMONTH=3
TZNAME:PDT
END:DAYLIGHT
BEGIN:STANDARD
DTSTART:20161106T010000
TZOFFSETFROM:-0700
TZOFFSETTO:-0800
RRULE:FREQ=YEARLY;BYDAY=1SU;BYMONTH=11
TZNAME:PST
END:STANDARD
END:VTIMEZONE
BEGIN:VEVENT
DTSTAMP:20161015T205440Z
UID:2FEACC34-9317-11E6-A7C6-0050568D7F66
DTSTART;TZID=Canada/Pacific:20161018T150000
DTEND;TZID=Canada/Pacific:20161018T160000
DESCRIPTION:In this session we are going to discuss several Microsoft Azure
  services that may be interesting for students\, developer and researchers
 . We will start with some PaaS services that allow you to build Web Applic
 ations and Internet of Things solutions. In the first demo you will be abl
 e to see how to deploy a basic web site even without any knowledge in Azur
 e. In the second demo we will cover IoT Hub\, Stream Analytic and Power BI
  services. The second important topic in the presentation is Big Data. Tha
 nks to Azure you can use lots of Big Data services like HDInsight\, Data L
 ake and Azure Date Lake Analytics. We will discuss all of them. Right afte
 r the Big Data topic we will discuss Containers that are very popular not 
 just in development environments but also for many tasks in production env
 ironments. You will be able to see\, how to deploy containers based on Doc
 ker service. Of course\, we cannot miss Azure Machine Learning. You will b
 e able to see tools and components that you can use in order to train you 
 ML model and publish it as a web service in order to make it available to 
 all other services. If time permits\, we will discuss Microsoft Cognitive 
 Services and Visual Studio Team Services.\n\nCo-sponsored by: Microsoft Ca
 nada\n\nSpeaker(s): Sergii Baidachnyi\, \, Sergii Baidachnyi\, \n\nRoom: 2
 202\, Bldg: EME\, UBC\, Okanagan Campus\, 3333 University Way\, Kelowna\, 
 British Columbia\, Canada\, V1V 1V7
LOCATION:Room: 2202\, Bldg: EME\, UBC\, Okanagan Campus\, 3333 University W
 ay\, Kelowna\, British Columbia\, Canada\, V1V 1V7
ORGANIZER:youry@ieee.org
SEQUENCE:1
SUMMARY:Introduction to Microsoft Azure
URL;VALUE=URI:https://events.vtools.ieee.org/m/41698
X-ALT-DESC:Description: &lt;br /&gt;&lt;p&gt;In this session we are going to discuss se
 veral Microsoft Azure services that may be interesting for students\, deve
 loper and researchers. We will start with some PaaS services that allow yo
 u to build Web Applications and Internet of Things solutions. In the first
  demo you will be able to see how to deploy a basic web site even without 
 any knowledge in Azure. In the second demo we will cover IoT Hub\, Stream 
 Analytic and Power BI services. The second important topic in the presenta
 tion is Big Data. Thanks to Azure you can use lots of Big Data services li
 ke HDInsight\, Data Lake and Azure Date Lake Analytics. We will discuss al
 l of them. Right after the Big Data topic we will discuss Containers that 
 are very popular not just in development environments but also for many ta
 sks in production environments. You will be able to see\, how to deploy co
 ntainers based on Docker service. Of course\, we cannot miss Azure Machine
  Learning. You will be able to see tools and components that you can use i
 n order to train you ML model and publish it as a web service in order to 
 make it available to all other services. If time permits\, we will discuss
  Microsoft Cognitive Services and Visual Studio Team Services.&lt;/p&gt;
END:VEVENT
END:VCALENDAR

