BEGIN:VCALENDAR
VERSION:2.0
PRODID:IEEE vTools.Events//EN
CALSCALE:GREGORIAN
BEGIN:VTIMEZONE
TZID:America/Argentina/Buenos_Aires
BEGIN:DAYLIGHT
DTSTART:20380119T001407
TZOFFSETFROM:-0300
TZOFFSETTO:-0300
RRULE:FREQ=YEARLY;BYDAY=3TU;BYMONTH=1
TZNAME:-03
END:DAYLIGHT
BEGIN:STANDARD
DTSTART:20090314T230000
TZOFFSETFROM:-0200
TZOFFSETTO:-0300
RRULE:FREQ=YEARLY;BYDAY=2SA;BYMONTH=3
TZNAME:-03
END:STANDARD
END:VTIMEZONE
BEGIN:VEVENT
DTSTAMP:20240801T202101Z
UID:70505577-F3FA-4C43-851F-03CD0CE08F4F
DTSTART;TZID=America/Argentina/Buenos_Aires:20240619T183000
DTEND;TZID=America/Argentina/Buenos_Aires:20240619T203000
DESCRIPTION:La CD de la rama en conjunto con el Capítulo EMBS de la Secci
 ón Argentina y la Universidad Nacional de Córdoba organizan una serie de
  seminarios sobre herramientas de IA aplicadas a imágenes. Docentes: Dr. 
 Ing. Diego Sebastián Comas\; Dr. Ing. Gustavo Javier Meschino\; Lic. Agus
 tín Amalfitano del Instituto de Investigaciones Científicas y Técnicas 
 en Electrónica (ICYTE\, CONICET-UNMDP).\n\n**Fechas:\n\n*Seminario #3 (19
 /06/2024 – 18.30 – 20.30hs):\nRedes neuronales para detección y para 
 segmentación de imágenes.\n\n-Link de inscripción: https://forms.gle/gx
 MJj9FBatJxMsVx9\n\nVirtual: https://events.vtools.ieee.org/m/417044
LOCATION:Virtual: https://events.vtools.ieee.org/m/417044
ORGANIZER:diegoscomas@gmail.com
SEQUENCE:7
SUMMARY:Seminarios: “Herramientas de Inteligencia Artificial en Imágenes
  Médicas” – Seminario #3.
URL;VALUE=URI:https://events.vtools.ieee.org/m/417044
X-ALT-DESC:Description: &lt;br /&gt;&lt;p dir=&quot;ltr&quot;&gt;La CD de la rama en conjunto con
  el Cap&amp;iacute\;tulo EMBS de la Secci&amp;oacute\;n Argentina y la Universidad
  Nacional de C&amp;oacute\;rdoba organizan una serie de seminarios sobre herra
 mientas de IA aplicadas a im&amp;aacute\;genes. Docentes: Dr. Ing. Diego Sebas
 ti&amp;aacute\;n Comas\; Dr. Ing. Gustavo Javier Meschino\; Lic. Agust&amp;iacute\
 ;n Amalfitano del Instituto de Investigaciones Cient&amp;iacute\;ficas y T&amp;eac
 ute\;cnicas en Electr&amp;oacute\;nica (ICYTE\, CONICET-UNMDP).&lt;/p&gt;\n&lt;p dir=&quot;l
 tr&quot;&gt;**Fechas:&amp;nbsp\;&lt;/p&gt;\n&lt;p&gt;*Seminario #3 (19/06/2024 &amp;ndash\; 18.30 &amp;nda
 sh\; 20.30hs):&lt;br&gt;Redes neuronales para detecci&amp;oacute\;n y para segmentac
 i&amp;oacute\;n de im&amp;aacute\;genes.&lt;/p&gt;\n&lt;p&gt;-Link de inscripci&amp;oacute\;n: htt
 ps://forms.gle/gxMJj9FBatJxMsVx9&lt;/p&gt;
END:VEVENT
END:VCALENDAR

