BEGIN:VCALENDAR
VERSION:2.0
PRODID:IEEE vTools.Events//EN
CALSCALE:GREGORIAN
BEGIN:VTIMEZONE
TZID:America/Los_Angeles
BEGIN:DAYLIGHT
DTSTART:20240310T030000
TZOFFSETFROM:-0800
TZOFFSETTO:-0700
RRULE:FREQ=YEARLY;BYDAY=2SU;BYMONTH=3
TZNAME:PDT
END:DAYLIGHT
BEGIN:STANDARD
DTSTART:20241103T010000
TZOFFSETFROM:-0700
TZOFFSETTO:-0800
RRULE:FREQ=YEARLY;BYDAY=1SU;BYMONTH=11
TZNAME:PST
END:STANDARD
END:VTIMEZONE
BEGIN:VEVENT
DTSTAMP:20240427T220646Z
UID:36BE4C59-4B7A-46AC-90B4-73031258A11C
DTSTART;TZID=America/Los_Angeles:20240424T140000
DTEND;TZID=America/Los_Angeles:20240424T150000
DESCRIPTION:A grid modernization journey may be wide-scoped or narrow\, fas
 t-paced or gradual with incremental changes -- but as with any journey\, i
 t is important to have a vision for where are you going and what your targ
 ets are. Without some kind of vision\, even a blurry one\, how will you kn
 ow when you have arrived at your destination? Grid modernization is not a 
 project that has a beginning date and finish date. It is an overarching vi
 sion of the future that is implemented in increments\, through multiple we
 ll-defined projects. The projects are your building blocks\, your bricks a
 long the path and you have to align them some in parallel\, some interdepe
 ndent and some independent. To be successful\, grid modernization must cha
 llenge - and most likely will - change how you plan\, design\, engineer\, 
 operate and maintain your system. It must be agile and flexible – which 
 is a new idea for many utilities\, and may feel like a risk\n\nSpeaker(s):
  D. Jim Papadoulis\, Valentina Dabic\n\nRoom: KAIS 2020/2030\, Bldg: Kaise
 r \, 2332 Main Mall\, Vancouver\, British Columbia\, Canada\, V6T 1Z4
LOCATION:Room: KAIS 2020/2030\, Bldg: Kaiser \, 2332 Main Mall\, Vancouver\
 , British Columbia\, Canada\, V6T 1Z4
ORGANIZER:mordonez@ece.ubc.ca
SEQUENCE:46
SUMMARY:Kaiser Chair Energy Security Talk Series Sponsored by IEEE PELS: Gr
 id Modernization – Paving the path for the future
URL;VALUE=URI:https://events.vtools.ieee.org/m/417081
X-ALT-DESC:Description: &lt;br /&gt;&lt;p style=&quot;text-align: justify\;&quot;&gt;&lt;span style=
 &quot;font-size: 11.0pt\; font-family: &#39;Calibri&#39;\,sans-serif\; mso-fareast-font
 -family: Calibri\; mso-fareast-theme-font: minor-latin\; mso-ansi-language
 : EN-US\; mso-fareast-language: EN-US\; mso-bidi-language: AR-SA\;&quot;&gt;A grid
  modernization journey may be wide-scoped or narrow\, fast-paced or gradua
 l with incremental changes -- but as with any journey\, it is important to
  have a vision for where are you going and what your targets are. Without 
 some kind of vision\, even a blurry one\, how will you know when you have 
 arrived at your destination? Grid modernization is not a project that has 
 a beginning date and finish date. It is an overarching vision of the futur
 e that is implemented in increments\, through multiple well-defined projec
 ts. The projects are your building blocks\, your bricks along the path and
  you have to align them some in parallel\, some interdependent and some in
 dependent. To be successful\, grid modernization must challenge - and most
  likely will - change how you plan\, design\, engineer\, operate and maint
 ain your system. It must be agile and flexible &amp;ndash\; which is a new ide
 a for many utilities\, and may feel like a risk&lt;/span&gt;&lt;/p&gt;
END:VEVENT
END:VCALENDAR

