BEGIN:VCALENDAR
VERSION:2.0
PRODID:IEEE vTools.Events//EN
CALSCALE:GREGORIAN
BEGIN:VTIMEZONE
TZID:America/Chicago
BEGIN:DAYLIGHT
DTSTART:20240310T030000
TZOFFSETFROM:-0600
TZOFFSETTO:-0500
RRULE:FREQ=YEARLY;BYDAY=2SU;BYMONTH=3
TZNAME:CDT
END:DAYLIGHT
BEGIN:STANDARD
DTSTART:20241103T010000
TZOFFSETFROM:-0500
TZOFFSETTO:-0600
RRULE:FREQ=YEARLY;BYDAY=1SU;BYMONTH=11
TZNAME:CST
END:STANDARD
END:VTIMEZONE
BEGIN:VEVENT
DTSTAMP:20240502T160046Z
UID:6B71F6C9-9C08-4DF1-8E58-B039EDC4B286
DTSTART;TZID=America/Chicago:20240419T080000
DTEND;TZID=America/Chicago:20240419T140000
DESCRIPTION:[]\n\nQuad CIty Engineering &amp; Science Council is holding its 15
 th Trebuchet Egg Throw Contest on Friday\, April 19\, 2024 at Bettendorf H
 igh School 3333 18th Street. The event will take place on the football pra
 ctice field south of track/football stadium. This is a pre-university prog
 ram run annually by QCESC\, with partner societies.\n\nWe are VERY MUCH IN
  NEED OF VOLUNTEERS for this event. High School Students from several area
  high schools have formed teams to compete in this fun and educational eve
 nt. Students build trebuchets to toss raw eggs at targets\, and they expla
 in their designs to a panel of judges.\n\nNo prior experience is needed an
 d you don&#39;t have to be a STEM professional to help out. Here&#39;s a chance to
  spend a day with some amazing students. Employees may wear attire with co
 mpany logos to show how industry supports this event.\n\nLink to sign-up t
 o volunteer: https://lnkd.in/g5sbrMtB\n\nIf you have questions or need mor
 e info\, contact Sanchia Sommer at stem@qcesc.org\n\nCo-sponsored by: Quad
  Cities Engineering and Science Council\n\nBettendorf High School\, 3333 1
 8th Street\, Bettendorf\, Iowa\, United States\, 52722
LOCATION:Bettendorf High School\, 3333 18th Street\, Bettendorf\, Iowa\, Un
 ited States\, 52722
ORGANIZER:j.johnson@ieee.org
SEQUENCE:14
SUMMARY:Call for Volunteers: 15th Trebuchet Egg Throw Contest
URL;VALUE=URI:https://events.vtools.ieee.org/m/417453
X-ALT-DESC:Description: &lt;br /&gt;&lt;div&gt;&lt;span dir=&quot;ltr&quot;&gt;&lt;img src=&quot;https://events
 .vtools.ieee.org/vtools_ui/media/display/55f0e5e9-50f5-4724-a846-bfdd7f502
 e60&quot; alt=&quot;&quot; width=&quot;250&quot; height=&quot;245&quot;&gt;&lt;/span&gt;&lt;/div&gt;\n&lt;div&gt;&amp;nbsp\;&lt;/div&gt;\n&lt;d
 iv&gt;&lt;span dir=&quot;ltr&quot;&gt;Quad CIty Engineering &amp;amp\; Science Council is holding
  its 15th Trebuchet Egg Throw Contest on Friday\, April 19\, 2024 at Bette
 ndorf High School 3333 18th Street. The event will take place on the footb
 all practice field south of track/football stadium. This is a pre-universi
 ty program run annually by QCESC\, with partner societies.&lt;/span&gt;&lt;/div&gt;\n&lt;
 div&gt;&lt;span dir=&quot;ltr&quot;&gt;&amp;nbsp\;&lt;/span&gt;&lt;/div&gt;\n&lt;div&gt;&lt;span dir=&quot;ltr&quot;&gt;We are VERY
  MUCH IN NEED OF VOLUNTEERS for this event.&amp;nbsp\; High School Students fr
 om several area high schools have formed teams to compete in &amp;nbsp\;this f
 un and educational event. Students build trebuchets to toss raw eggs at ta
 rgets\, and they explain their designs to a panel of judges.&lt;/span&gt;&lt;/div&gt;\
 n&lt;div&gt;&lt;span dir=&quot;ltr&quot;&gt;&amp;nbsp\;&lt;/span&gt;&lt;/div&gt;\n&lt;div&gt;&lt;span dir=&quot;ltr&quot;&gt;No prior 
 experience is needed and you don&#39;t have to be a STEM professional to help 
 out. Here&#39;s a chance to spend a day with some amazing students.&amp;nbsp\; Emp
 loyees may wear attire with company logos to show how industry supports th
 is event. &lt;/span&gt;&lt;/div&gt;\n&lt;div&gt;&amp;nbsp\;&lt;/div&gt;\n&lt;div&gt;&lt;span dir=&quot;ltr&quot;&gt;Link to 
 sign-up to volunteer: &lt;a href=&quot;https://lnkd.in/g5sbrMtB&quot; target=&quot;_blank&quot; r
 el=&quot;noopener&quot; data-saferedirecturl=&quot;https://www.google.com/url?q=https://l
 nkd.in/g5sbrMtB&amp;amp\;source=gmail&amp;amp\;ust=1713282982729000&amp;amp\;usg=AOvVa
 w2Y45Jn4EY92faGgmemv8WN&quot;&gt;https://lnkd.in/g5sbrMtB&lt;/a&gt;&lt;br&gt;&lt;br&gt;If you have q
 uestions or need more info\, contact Sanchia Sommer at &lt;a href=&quot;mailto:ste
 m@qcesc.org&quot; target=&quot;_blank&quot; rel=&quot;noopener&quot;&gt;stem@qcesc.org&lt;/a&gt;&lt;br&gt;&lt;/span&gt;&lt;
 /div&gt;
END:VEVENT
END:VCALENDAR

