BEGIN:VCALENDAR
VERSION:2.0
PRODID:IEEE vTools.Events//EN
CALSCALE:GREGORIAN
BEGIN:VTIMEZONE
TZID:America/New_York
BEGIN:DAYLIGHT
DTSTART:20240310T030000
TZOFFSETFROM:-0500
TZOFFSETTO:-0400
RRULE:FREQ=YEARLY;BYDAY=2SU;BYMONTH=3
TZNAME:EDT
END:DAYLIGHT
BEGIN:STANDARD
DTSTART:20241103T010000
TZOFFSETFROM:-0400
TZOFFSETTO:-0500
RRULE:FREQ=YEARLY;BYDAY=1SU;BYMONTH=11
TZNAME:EST
END:STANDARD
END:VTIMEZONE
BEGIN:VEVENT
DTSTAMP:20240426T165539Z
UID:BDA107AB-90C8-4ED7-A249-369546FACD34
DTSTART;TZID=America/New_York:20240502T110000
DTEND;TZID=America/New_York:20240502T120000
DESCRIPTION:[IEEE-USA Special Legislative Update: A Discussion on the Creat
 e AI Act &amp; NAIRR]Join us Thursday\, 2 May\, for a Special IEEE-USA Washing
 ton Update to learn about how the Creating Resources for Every American To
  Experiment with Artificial Intelligence Act of 2023 (CREATE AI Act) shape
 s AI development. Our special guest\, Katerina (Katie) Antypas from the Na
 tional Science Foundation\, will delve into the establishment of the Natio
 nal Artificial Intelligence Research Resource (NAIRR)—a vital hub for AI
  researchers and students.\n\nSpeaker(s): Katerina (Katie) Antypas\n\nVirt
 ual: https://events.vtools.ieee.org/m/417483
LOCATION:Virtual: https://events.vtools.ieee.org/m/417483
ORGANIZER:e.heilman@ieee.org
SEQUENCE:10
SUMMARY:Special IEEE-USA Washington Update: A Discussion on the Create AI A
 ct &amp; NAIRR
URL;VALUE=URI:https://events.vtools.ieee.org/m/417483
X-ALT-DESC:Description: &lt;br /&gt;&lt;p&gt;&lt;img style=&quot;float: right\; margin-left: 20
 px\; margin-right: 20px\;&quot; src=&quot;https://ieeeusa.org/wp-content/uploads/202
 4/04/SpecialWashingtonUpdate_May2-400x200.png&quot; alt=&quot;IEEE-USA Special Legis
 lative Update: A Discussion on the Create AI Act &amp;amp\; NAIRR&quot; width=&quot;400&quot;
  height=&quot;200&quot;&gt;&lt;span style=&quot;font-size: 14pt\;&quot;&gt;Join us Thursday\, 2 May\, f
 or a Special IEEE-USA Washington Update to learn about how the &lt;em&gt;Creatin
 g Resources for Every American To Experiment with Artificial Intelligence 
 Act of 2023&lt;/em&gt; (CREATE AI Act) shapes AI development. Our special guest\
 , Katerina (Katie) Antypas from the National Science Foundation\, will del
 ve into the establishment of the National Artificial Intelligence Research
  Resource (NAIRR)&amp;mdash\;a vital hub for AI researchers and students.&lt;/spa
 n&gt;&lt;/p&gt;
END:VEVENT
END:VCALENDAR

