BEGIN:VCALENDAR
VERSION:2.0
PRODID:IEEE vTools.Events//EN
CALSCALE:GREGORIAN
BEGIN:VTIMEZONE
TZID:America/New_York
BEGIN:DAYLIGHT
DTSTART:20240310T030000
TZOFFSETFROM:-0500
TZOFFSETTO:-0400
RRULE:FREQ=YEARLY;BYDAY=2SU;BYMONTH=3
TZNAME:EDT
END:DAYLIGHT
BEGIN:STANDARD
DTSTART:20241103T010000
TZOFFSETFROM:-0400
TZOFFSETTO:-0500
RRULE:FREQ=YEARLY;BYDAY=1SU;BYMONTH=11
TZNAME:EST
END:STANDARD
END:VTIMEZONE
BEGIN:VEVENT
DTSTAMP:20240529T120948Z
UID:EBBA22D5-8829-4561-89C6-4D44B5379ECF
DTSTART;TZID=America/New_York:20240425T173000
DTEND;TZID=America/New_York:20240425T203000
DESCRIPTION:UC\, MU\, and NKU Senior Design/Capstone Projects\n\nThis meeti
 ng will feature presentations on select senior by students from University
  of Cincinnati\, Miami University\, and Northern Kentucky University.\n\nM
 adtree Brewing\, 3301 Madison Rd\, Cincinnati\, Ohio\, United States\, 452
 09
LOCATION:Madtree Brewing\, 3301 Madison Rd\, Cincinnati\, Ohio\, United Sta
 tes\, 45209
ORGANIZER:linuxbob@cinci.rr.com
SEQUENCE:16
SUMMARY:April 2024 Sction Meeting
URL;VALUE=URI:https://events.vtools.ieee.org/m/417564
X-ALT-DESC:Description: &lt;br /&gt;&lt;p&gt;UC\, MU\, and NKU Senior Design/Capstone P
 rojects&lt;/p&gt;\n&lt;p&gt;This meeting will feature presentations on select senior b
 y students from University of Cincinnati\, Miami University\, and Northern
  Kentucky University.&lt;/p&gt;
END:VEVENT
END:VCALENDAR

