BEGIN:VCALENDAR
VERSION:2.0
PRODID:IEEE vTools.Events//EN
CALSCALE:GREGORIAN
BEGIN:VTIMEZONE
TZID:America/Bogota
BEGIN:DAYLIGHT
DTSTART:20380118T221407
TZOFFSETFROM:-0500
TZOFFSETTO:-0500
RRULE:FREQ=YEARLY;BYDAY=3MO;BYMONTH=1
TZNAME:-05
END:DAYLIGHT
BEGIN:STANDARD
DTSTART:19930206T230000
TZOFFSETFROM:-0400
TZOFFSETTO:-0500
RRULE:FREQ=YEARLY;BYDAY=1SA;BYMONTH=2
TZNAME:-05
END:STANDARD
END:VTIMEZONE
BEGIN:VEVENT
DTSTAMP:20240520T125623Z
UID:67ECF9EE-416C-4D98-B43C-A674B718C219
DTSTART;TZID=America/Bogota:20240502T110000
DTEND;TZID=America/Bogota:20240502T130200
DESCRIPTION:Es un evento para motivar a los estudiantes a hacer parte de gr
 upos de investigación y unirse a IEEE\n\n[]\n\nCo-sponsored by: Carrera d
 e Mecatrónica\, Universidad Politécnica Salesiana\, Cuenca\, Ecuador\n\n
 Bldg: Auditorio Leonidas Prinado\, Calle Vieja 12-30 Elia Liut\, Universid
 ad Politécnica Salesiana\, Cuenca\, Azuay\, Ecuador\, 010107
LOCATION:Bldg: Auditorio Leonidas Prinado\, Calle Vieja 12-30 Elia Liut\, U
 niversidad Politécnica Salesiana\, Cuenca\, Azuay\, Ecuador\, 010107
ORGANIZER:mcerrada@ieee.org
SEQUENCE:19
SUMMARY:Rompiendo el potencial de aprendizaje: Habilidades y Experiencias d
 e estudiantes en grupos de investigación de la UPS
URL;VALUE=URI:https://events.vtools.ieee.org/m/417632
X-ALT-DESC:Description: &lt;br /&gt;&lt;p&gt;Es un evento para motivar a los estudiante
 s a hacer parte de grupos de investigaci&amp;oacute\;n y unirse a IEEE&lt;/p&gt;\n&lt;p
 &gt;&lt;img src=&quot;https://events.vtools.ieee.org/vtools_ui/media/display/b0db37b0
 -c803-4a88-b0f4-7d0e25e68dad&quot; alt=&quot;&quot; width=&quot;716&quot; height=&quot;1013&quot;&gt;&lt;/p&gt;
END:VEVENT
END:VCALENDAR

