BEGIN:VCALENDAR
VERSION:2.0
PRODID:IEEE vTools.Events//EN
CALSCALE:GREGORIAN
BEGIN:VTIMEZONE
TZID:America/Mexico_City
BEGIN:STANDARD
DTSTART:20221030T010000
TZOFFSETFROM:-0500
TZOFFSETTO:-0600
TZNAME:CST
END:STANDARD
END:VTIMEZONE
BEGIN:VEVENT
DTSTAMP:20240529T154407Z
UID:D73FB777-D322-4FE1-8325-A696D4D3F137
DTSTART;TZID=America/Mexico_City:20240425T103000
DTEND;TZID=America/Mexico_City:20240425T130000
DESCRIPTION:El seminario está enfocado a brindar conocimientos y experienc
 ias para el aprovechamiento de la infraestructura de cuartos limpios ubica
 da en el Centro de Nanociencias y Micro y Nanotecnologías del Instituto P
 olitécnico Nacional en el desarrollo de dispositivos semiconductores y ci
 rcuitos integrados a nivel nacional.\n\nCo-sponsored by: Section of Solid-
 State Electronics (SEES)\, CINVESTAV-IPN and Center for Nanociences and Mi
 cro and Nanotechnologies of the National Polytechnic Institute.\n\nSpeaker
 (s): Dr. Mario Francisco Avila\, Dra. Verónica Solís\n\nAgenda: \nHorari
 os Jueves 25 de marzo-CNMN-IPN\n\n10:30 a 11:00 Recepción y Bienvenida. D
 r. Cuauhtémoc León Puertos\, Subdirector de Micro y Nanotecnología del 
 CNMN\, Comité Organizador\n\n11:00 a 12:00 &quot;Aplicación de la Electrónic
 a Flexible en la generación de energía con nano-compositos piezoeléctri
 cos&quot; Dr. Mario Francisco Avila Meza\, CNMN-IPN\n\n12:00 a 13:00 &quot;Fabricaci
 ón aleatoria de nanoagujeros de oro sobre sustratos de vidrio&quot; Dra. Veró
 nica Iraís Solís Tinoco\, CIC-IPN\n\nRoom: Sala de reuniones\, Bldg: Cen
 tro de Nanociencias y Micro y Nanotecnologías\, Av. Luis Enrique Erro S/N
 \, Unidad Profesional Adolfo López Mateos\, Zacatenco\, Ciudad de México
 \, Mexico\, Mexico\, 07738
LOCATION:Room: Sala de reuniones\, Bldg: Centro de Nanociencias y Micro y N
 anotecnologías\, Av. Luis Enrique Erro S/N\, Unidad Profesional Adolfo L
 ópez Mateos\, Zacatenco\, Ciudad de México\, Mexico\, Mexico\, 07738
ORGANIZER:abril.garcia.soriano@cinvestav.mx
SEQUENCE:33
SUMMARY:Seminario de Dispositivos Semiconductores y Circuitos Integrados
URL;VALUE=URI:https://events.vtools.ieee.org/m/417726
X-ALT-DESC:Description: &lt;br /&gt;&lt;p&gt;El seminario est&amp;aacute\; enfocado a brind
 ar conocimientos y experiencias para el aprovechamiento de la infraestruct
 ura de cuartos limpios ubicada en el Centro de Nanociencias y Micro y Nano
 tecnolog&amp;iacute\;as del Instituto Polit&amp;eacute\;cnico Nacional en el desar
 rollo de dispositivos semiconductores y circuitos integrados a nivel nacio
 nal.&amp;nbsp\;&lt;/p&gt;&lt;br /&gt;&lt;br /&gt;Agenda: &lt;br /&gt;&lt;p&gt;&lt;strong&gt;Horarios&amp;nbsp\; &amp;nbsp\
 ; &amp;nbsp\; &amp;nbsp\; &amp;nbsp\; &amp;nbsp\; &amp;nbsp\; &amp;nbsp\;Jueves 25 de marzo-CNMN-I
 PN&amp;nbsp\; &amp;nbsp\; &amp;nbsp\; &amp;nbsp\; &amp;nbsp\; &amp;nbsp\; &amp;nbsp\; &amp;nbsp\; &amp;nbsp\; 
 &amp;nbsp\; &amp;nbsp\; &amp;nbsp\; &amp;nbsp\;&amp;nbsp\;&lt;/strong&gt;&lt;/p&gt;\n&lt;p&gt;10:30 a 11:00&amp;nbsp
 \; &amp;nbsp\; &amp;nbsp\; &amp;nbsp\; &amp;nbsp\;Recepci&amp;oacute\;n y Bienvenida.&amp;nbsp\; &amp;
 nbsp\; &amp;nbsp\; &amp;nbsp\; &amp;nbsp\; &amp;nbsp\; &amp;nbsp\; &amp;nbsp\; &amp;nbsp\; &amp;nbsp\; &amp;nb
 sp\; &amp;nbsp\; &amp;nbsp\; &amp;nbsp\; &amp;nbsp\; &amp;nbsp\; &amp;nbsp\; &amp;nbsp\; &amp;nbsp\; &amp;nbsp
 \; &amp;nbsp\; &amp;nbsp\; &amp;nbsp\; &amp;nbsp\; &amp;nbsp\; &amp;nbsp\; &amp;nbsp\; &amp;nbsp\; &amp;nbsp\;
  &amp;nbsp\; &amp;nbsp\; &amp;nbsp\; &amp;nbsp\; &amp;nbsp\; &amp;nbsp\; &amp;nbsp\; &amp;nbsp\; &amp;nbsp\; &amp;
 nbsp\; &amp;nbsp\; &amp;nbsp\; &amp;nbsp\; &amp;nbsp\; &amp;nbsp\; &amp;nbsp\; &amp;nbsp\; &amp;nbsp\; &amp;nb
 sp\; &amp;nbsp\; &amp;nbsp\; &amp;nbsp\; &amp;nbsp\; &amp;nbsp\; &amp;nbsp\; &amp;nbsp\; &amp;nbsp\; &amp;nbsp
 \; &amp;nbsp\; &amp;nbsp\; &amp;nbsp\; &amp;nbsp\; &amp;nbsp\; &amp;nbsp\; &amp;nbsp\; &amp;nbsp\; &amp;nbsp\;
  &amp;nbsp\; &amp;nbsp\; &amp;nbsp\; &amp;nbsp\; &amp;nbsp\; &amp;nbsp\; &amp;nbsp\; &amp;nbsp\; &amp;nbsp\; &amp;
 nbsp\; &amp;nbsp\; &amp;nbsp\; &amp;nbsp\; &amp;nbsp\; &amp;nbsp\; &amp;nbsp\; &amp;nbsp\; &amp;nbsp\; &amp;nb
 sp\; &amp;nbsp\; &amp;nbsp\; &amp;nbsp\; &amp;nbsp\; &amp;nbsp\; &amp;nbsp\; &amp;nbsp\; &amp;nbsp\; &amp;nbsp
 \; &amp;nbsp\; &amp;nbsp\; &amp;nbsp\; &amp;nbsp\; &amp;nbsp\; Dr. Cuauht&amp;eacute\;moc Le&amp;oacut
 e\;n Puertos\, Subdirector de Micro y Nanotecnolog&amp;iacute\;a del CNMN\, Co
 mit&amp;eacute\; Organizador&lt;/p&gt;\n&lt;p&gt;11:00 a 12:00&amp;nbsp\; &amp;nbsp\; &amp;nbsp\; &amp;nbs
 p\; &amp;nbsp\; &quot;Aplicaci&amp;oacute\;n de la Electr&amp;oacute\;nica Flexible en la g
 eneraci&amp;oacute\;n de energ&amp;iacute\;a con nano-compositos piezoel&amp;eacute\;c
 tricos&quot;&amp;nbsp\; &amp;nbsp\; &amp;nbsp\; &amp;nbsp\; &amp;nbsp\; &amp;nbsp\; &amp;nbsp\; &amp;nbsp\; &amp;nb
 sp\; &amp;nbsp\; &amp;nbsp\; &amp;nbsp\; &amp;nbsp\; &amp;nbsp\; &amp;nbsp\; &amp;nbsp\; &amp;nbsp\; &amp;nbsp
 \; &amp;nbsp\; &amp;nbsp\; &amp;nbsp\; &amp;nbsp\; &amp;nbsp\; &amp;nbsp\; &amp;nbsp\; &amp;nbsp\; &amp;nbsp\;
  &amp;nbsp\; &amp;nbsp\; &amp;nbsp\; &amp;nbsp\; &amp;nbsp\; &amp;nbsp\; &amp;nbsp\; &amp;nbsp\; &amp;nbsp\; &amp;
 nbsp\; &amp;nbsp\; &amp;nbsp\; &amp;nbsp\; &amp;nbsp\; &amp;nbsp\; &amp;nbsp\;Dr. Mario Francisco 
 Avila Meza\, CNMN-IPN&lt;/p&gt;\n&lt;p&gt;12:00 a 13:00&amp;nbsp\; &amp;nbsp\; &amp;nbsp\; &amp;nbsp\;
  &quot;Fabricaci&amp;oacute\;n aleatoria de nanoagujeros de oro sobre sustratos de 
 vidrio&quot;&amp;nbsp\; &amp;nbsp\; &amp;nbsp\; &amp;nbsp\; &amp;nbsp\; &amp;nbsp\; &amp;nbsp\; &amp;nbsp\; &amp;nb
 sp\; &amp;nbsp\; &amp;nbsp\; &amp;nbsp\; &amp;nbsp\; &amp;nbsp\; &amp;nbsp\; &amp;nbsp\; &amp;nbsp\; &amp;nbsp
 \; &amp;nbsp\; &amp;nbsp\; &amp;nbsp\; &amp;nbsp\; &amp;nbsp\; &amp;nbsp\; &amp;nbsp\; &amp;nbsp\; &amp;nbsp\;
  &amp;nbsp\; &amp;nbsp\; &amp;nbsp\; &amp;nbsp\; &amp;nbsp\; &amp;nbsp\; &amp;nbsp\; &amp;nbsp\; &amp;nbsp\; &amp;
 nbsp\; &amp;nbsp\; &amp;nbsp\; &amp;nbsp\; &amp;nbsp\; &amp;nbsp\; &amp;nbsp\; &amp;nbsp\; &amp;nbsp\; &amp;nb
 sp\; &amp;nbsp\; &amp;nbsp\; &amp;nbsp\; &amp;nbsp\; &amp;nbsp\; &amp;nbsp\; &amp;nbsp\; &amp;nbsp\; &amp;nbsp
 \; &amp;nbsp\; &amp;nbsp\; &amp;nbsp\; &amp;nbsp\; &amp;nbsp\; &amp;nbsp\; &amp;nbsp\; &amp;nbsp\; &amp;nbsp\;
  &amp;nbsp\;Dra. Ver&amp;oacute\;nica Ira&amp;iacute\;s Sol&amp;iacute\;s Tinoco\, CIC-IPN
 &amp;nbsp\;&lt;/p&gt;
END:VEVENT
END:VCALENDAR

