BEGIN:VCALENDAR
VERSION:2.0
PRODID:IEEE vTools.Events//EN
CALSCALE:GREGORIAN
BEGIN:VTIMEZONE
TZID:Asia/Colombo
BEGIN:DAYLIGHT
DTSTART:20380119T084407
TZOFFSETFROM:+0530
TZOFFSETTO:+0530
RRULE:FREQ=YEARLY;BYDAY=3TU;BYMONTH=1
TZNAME:+0530
END:DAYLIGHT
BEGIN:STANDARD
DTSTART:20060415T000000
TZOFFSETFROM:+0600
TZOFFSETTO:+0530
RRULE:FREQ=YEARLY;BYDAY=3SA;BYMONTH=4
TZNAME:+0530
END:STANDARD
END:VTIMEZONE
BEGIN:VEVENT
DTSTAMP:20240503T092410Z
UID:457ACD13-1384-49C3-A476-AE7772283C13
DTSTART;TZID=Asia/Colombo:20240424T083000
DTEND;TZID=Asia/Colombo:20240425T163000
DESCRIPTION:[]\n\nEducation Week Sri Lanka beckons participants into a real
 m of immersive learning and collaborative exploration\, where knowledge ex
 change and skill enhancement take center stage. Across the event&#39;s duratio
 n\, attendees are promised a rich tapestry of experiences aimed at ignitin
 g curiosity and fostering growth.\n\nKicking off the festivities\, the ina
 ugural day is dedicated to nurturing future talent\, with educators and st
 udents delving into deep discussions surrounding Career Guidance and the t
 ransformative potential of STEM Education. It&#39;s a day brimming with insigh
 ts\, as participants uncover pathways to success and gain invaluable wisdo
 m to navigate their academic and professional journeys.\n\nAs the event un
 folds\, the spotlight shifts to undergraduates and tech enthusiasts\, beck
 oning them to embark on a journey of discovery. Day two invites exploratio
 n of Technical Sessions\, where intricate concepts are unraveled\, and cut
 ting-edge innovations are unveiled. Alongside\, opportunities abound to re
 fine Soft Skills\, essential for thriving in today&#39;s dynamic landscape. En
 gaging Panel Discussions on Emerging Technologies offers a glimpse into th
 e future\, empowering attendees to stay ahead of the curve and shape tomor
 row&#39;s technological landscape.\n\nIEEE Education Week stands as a testamen
 t to the organization&#39;s unwavering commitment to education and professiona
 l development. It&#39;s a weeklong celebration of learning\, made possible by 
 the world&#39;s largest technical professional association and its myriad orga
 nizational units\, societies\, and councils from around the globe. IEEE&#39;s 
 expansive array of resources spans pre-university STEM initiatives\, unive
 rsity programs\, and continuing professional education opportunities\, cat
 ering to engineers and technical professionals worldwide. From local and r
 egional activities to webinars\, online courses\, scholarships\, and beyon
 d\, IEEE offers a treasure trove of educational resources\, empowering mem
 bers and the global community alike to thrive in an ever-evolving technolo
 gical landscape.\n\nBldg: AC19\, Trace Expert City\, Colombo 01000\, Sri L
 anka\, Sri Lanka\, 01000
LOCATION:Bldg: AC19\, Trace Expert City\, Colombo 01000\, Sri Lanka\, Sri L
 anka\, 01000
ORGANIZER:srilanka@ieee.org
SEQUENCE:35
SUMMARY:IEEE Education Week Sri Lanka
URL;VALUE=URI:https://events.vtools.ieee.org/m/417814
X-ALT-DESC:Description: &lt;br /&gt;&lt;p style=&quot;text-align: center\;&quot;&gt;&lt;img src=&quot;htt
 ps://events.vtools.ieee.org/vtools_ui/media/display/38c360d8-b746-4b5f-b3f
 8-df44959e21f7&quot; alt=&quot;&quot; width=&quot;500&quot; height=&quot;587&quot;&gt;&lt;/p&gt;\n&lt;p style=&quot;text-align
 : justify\;&quot;&gt;Education Week Sri Lanka beckons participants into a realm of
  immersive learning and collaborative exploration\, where knowledge exchan
 ge and skill enhancement take center stage. Across the event&#39;s duration\, 
 attendees are promised a rich tapestry of experiences aimed at igniting cu
 riosity and fostering growth.&amp;nbsp\;&lt;/p&gt;\n&lt;p style=&quot;text-align: justify\;&quot;
 &gt;Kicking off the festivities\, the inaugural day is dedicated to nurturing
  future talent\, with educators and students delving into deep discussions
  surrounding Career Guidance and the transformative potential of STEM Educ
 ation. It&#39;s a day brimming with insights\, as participants uncover pathway
 s to success and gain invaluable wisdom to navigate their academic and pro
 fessional journeys.&amp;nbsp\;&lt;/p&gt;\n&lt;p style=&quot;text-align: justify\;&quot;&gt;As the ev
 ent unfolds\, the spotlight shifts to undergraduates and tech enthusiasts\
 , beckoning them to embark on a journey of discovery. Day two invites expl
 oration of Technical Sessions\, where intricate concepts are unraveled\, a
 nd cutting-edge innovations are unveiled. Alongside\, opportunities abound
  to refine Soft Skills\, essential for thriving in today&#39;s dynamic landsca
 pe. Engaging Panel Discussions on Emerging Technologies offers a glimpse i
 nto the future\, empowering attendees to stay ahead of the curve and shape
  tomorrow&#39;s technological landscape.&amp;nbsp\;&lt;/p&gt;\n&lt;p style=&quot;text-align: jus
 tify\;&quot;&gt;IEEE Education Week stands as a testament to the organization&#39;s un
 wavering commitment to education and professional development. It&#39;s a week
 long celebration of learning\, made possible by the world&#39;s largest techni
 cal professional association and its myriad organizational units\, societi
 es\, and councils from around the globe. IEEE&#39;s expansive array of resourc
 es spans pre-university STEM initiatives\, university programs\, and conti
 nuing professional education opportunities\, catering to engineers and tec
 hnical professionals worldwide. From local and regional activities to webi
 nars\, online courses\, scholarships\, and beyond\, IEEE offers a treasure
  trove of educational resources\, empowering members and the global commun
 ity alike to thrive in an ever-evolving technological landscape.&lt;/p&gt;
END:VEVENT
END:VCALENDAR

