BEGIN:VCALENDAR
VERSION:2.0
PRODID:IEEE vTools.Events//EN
CALSCALE:GREGORIAN
BEGIN:VTIMEZONE
TZID:America/Chicago
BEGIN:DAYLIGHT
DTSTART:20240310T030000
TZOFFSETFROM:-0600
TZOFFSETTO:-0500
RRULE:FREQ=YEARLY;BYDAY=2SU;BYMONTH=3
TZNAME:CDT
END:DAYLIGHT
BEGIN:STANDARD
DTSTART:20241103T010000
TZOFFSETFROM:-0500
TZOFFSETTO:-0600
RRULE:FREQ=YEARLY;BYDAY=1SU;BYMONTH=11
TZNAME:CST
END:STANDARD
END:VTIMEZONE
BEGIN:VEVENT
DTSTAMP:20240509T190108Z
UID:6460E020-D2FF-4A04-82D9-5CB6BEA0F8FD
DTSTART;TZID=America/Chicago:20240502T073000
DTEND;TZID=America/Chicago:20240502T180000
DESCRIPTION:Learn how to protect yourself &amp; your business from becoming a v
 ictim of cybercrime.\n\nJoin us for The Inaugural Official Milwaukee Cyber
 security Summit\, rated Top 5 InfoSec Conference Worldwide\, held on Thurs
 day\, May 2\, 2024 at the Hyatt Regency Milwaukee!\n\nThe IEEE Milwaukee S
 ection is a proud partner of this event &amp; for a limited time have secured 
 Exclusive Complimentary Admission for our network!\n\nRegister before Apri
 l 30th with code CSS24-IEEEMIL to secure your Free Pass at https://cyberse
 curitysummit.com/register/milwaukee24/?code=CSS24-IEEEMIL\n\nNote: Admissi
 on is for C-Suite &amp; Senior Level Executives\, Directors\, Managers\, and o
 ther Industry Professionals or Business Leaders. Those in Sales or Marketi
 ng and Students are not permitted.\n\nEarn up to 8 Continuing Education Cr
 edits by attending the day in full. Admission includes a catered breakfast
 \, lunch &amp; cocktail reception.\n\nDaniel Honore\, Cybersecurity Advisor\, 
 Region 5 (WI) - CISA/US DHS will lead the Closing Security Keynote.\n\nLea
 rn from additional renowned Subject Matter Experts and thought leaders fro
 m Check Point\, Exabeam\, Okta\, Tenable\, Swimlane and many more who will
  discuss the latest security threats\, best cyber hygiene practices\, and 
 innovative solutions to protect your business.\n\nPlease share/forward thi
 s invitation with your IT Security Team and other Senior Level colleagues 
 who would benefit from attending this event. For event details\, visit htt
 ps://CybersecuritySummit.com/Summit/Milwaukee24/\n\nIf you would like to e
 xhibit and / or speak at the Cybersecurity Summit\, contact Andrew Levitt 
 at Andrew.Levitt@CyberRiskAlliance.com.\n\n333 West Kilbourn Avenue\, Milw
 aukee\, Wisconsin\, United States\, 53203
LOCATION:333 West Kilbourn Avenue\, Milwaukee\, Wisconsin\, United States\,
  53203
ORGANIZER:clambrou@metromls.com
SEQUENCE:10
SUMMARY:Complimentary Admission to Official Cybersecurity Summit May 2
URL;VALUE=URI:https://events.vtools.ieee.org/m/417838
X-ALT-DESC:Description: &lt;br /&gt;&lt;p&gt;Learn how to protect yourself &amp;amp\; your 
 business from becoming a victim of cybercrime.&lt;/p&gt;\n&lt;p&gt;&amp;nbsp\;&lt;/p&gt;\n&lt;p&gt;Joi
 n us for The Inaugural Official Milwaukee Cybersecurity Summit\, rated Top
  5 InfoSec Conference Worldwide\, held on Thursday\, May 2\, 2024 at the H
 yatt Regency Milwaukee!&lt;/p&gt;\n&lt;p&gt;&amp;nbsp\;&lt;/p&gt;\n&lt;p&gt;The IEEE Milwaukee Section
  is a proud partner of this event &amp;amp\; for a limited time have secured E
 xclusive Complimentary Admission for our network!&lt;/p&gt;\n&lt;p&gt;&amp;nbsp\;&lt;/p&gt;\n&lt;p&gt;
 Register before April 30th with code CSS24-IEEEMIL to secure your Free Pas
 s at https://cybersecuritysummit.com/register/milwaukee24/?code=CSS24-IEEE
 MIL&lt;/p&gt;\n&lt;p&gt;&amp;nbsp\;&lt;/p&gt;\n&lt;p&gt;Note: Admission is for C-Suite &amp;amp\; Senior L
 evel Executives\, Directors\, Managers\, and other Industry Professionals 
 or Business Leaders. Those in Sales or Marketing and Students are not perm
 itted.&lt;/p&gt;\n&lt;p&gt;Earn up to 8 Continuing Education Credits by attending the 
 day in full. Admission includes a catered breakfast\, lunch &amp;amp\; cocktai
 l reception.&lt;/p&gt;\n&lt;p&gt;&amp;nbsp\;&lt;/p&gt;\n&lt;p&gt;Daniel Honore\, Cybersecurity Advisor
 \, Region 5 (WI) - CISA/US DHS will lead the Closing Security Keynote.&lt;/p&gt;
 \n&lt;p&gt;&amp;nbsp\;&lt;/p&gt;\n&lt;p&gt;Learn from additional renowned Subject Matter Experts
  and thought leaders from Check Point\, Exabeam\, Okta\, Tenable\, Swimlan
 e and many more who will discuss the latest security threats\, best cyber 
 hygiene practices\, and innovative solutions to protect your business.&lt;/p&gt;
 \n&lt;p&gt;&amp;nbsp\;&lt;/p&gt;\n&lt;p&gt;Please share/forward this invitation with your IT Sec
 urity Team and other Senior Level colleagues who would benefit from attend
 ing this event. For event details\, visit https://CybersecuritySummit.com/
 Summit/Milwaukee24/&lt;/p&gt;\n&lt;p&gt;&amp;nbsp\;&lt;/p&gt;\n&lt;p&gt;If you would like to exhibit a
 nd / or speak at the Cybersecurity Summit\, contact Andrew Levitt at Andre
 w.Levitt@CyberRiskAlliance.com.&lt;/p&gt;
END:VEVENT
END:VCALENDAR

