BEGIN:VCALENDAR
VERSION:2.0
PRODID:IEEE vTools.Events//EN
CALSCALE:GREGORIAN
BEGIN:VTIMEZONE
TZID:Asia/Tokyo
BEGIN:STANDARD
DTSTART:19510909T000000
TZOFFSETFROM:+1000
TZOFFSETTO:+0900
TZNAME:JST
END:STANDARD
END:VTIMEZONE
BEGIN:VEVENT
DTSTAMP:20250324T080020Z
UID:A3D0052E-CC49-4372-A428-2F86C84C9B57
DTSTART;TZID=Asia/Tokyo:20240419T153500
DTEND;TZID=Asia/Tokyo:20240505T163500
DESCRIPTION:Call for Nomination: 2024 IEEE Sapporo Section Young Profession
 als Best Researcher Award and Best Paper Award\n\nTo acknowledge and promo
 te the remarkable achievements of Young Professionals in Hokkaido\, Japan\
 , IEEE Sapporo Section Young Professionals Affinity Group (Sapporo YP) est
 ablishes the IEEE Sapporo Section Young Professionals Best Researcher Awar
 d and Best Paper Award.\n\nEligibility Requirements:\n\nIEEE Sapporo Secti
 on Young Professionals Best Researcher Award\n\n1. The nominee must be eng
 aged with Young Professionals Affinity Group under IEEE Sapporo Section (I
 EEE member or volunteer who graduated and earned their first professional 
 degree after January 1\, 2009.)\;\n\n2. Both nomination and self-nominatio
 n are accepted.\n\nIEEE Sapporo Section Young Professionals Best Paper Awa
 rd\n\n1. The first author should fulfill the same requirements as Best Res
 earcher Award\;\n\n2. The candidate paper should be published on IEEE jour
 nals between January 1\, 2021 and December 31\, 2023 (within the past 3 ye
 ars)\;\n\nVirtual: https://events.vtools.ieee.org/m/417931
LOCATION:Virtual: https://events.vtools.ieee.org/m/417931
ORGANIZER:tksato@ist.hokudai.ac.jp
SEQUENCE:7
SUMMARY:Nomination of 2024 IEEE Sapporo YP Awards
URL;VALUE=URI:https://events.vtools.ieee.org/m/417931
X-ALT-DESC:Description: &lt;br /&gt;&lt;p class=&quot;MsoNormal&quot; style=&quot;mso-margin-top-al
 t: auto\; mso-margin-bottom-alt: auto\; text-align: justify\; text-justify
 : inter-ideograph\; line-height: normal\; background: white\;&quot;&gt;&lt;strong&gt;&lt;sp
 an lang=&quot;EN-US&quot; style=&quot;font-size: 12.0pt\; font-family: &#39;Arial&#39;\,sans-seri
 f\; mso-fareast-font-family: &#39;Times New Roman&#39;\; color: black\; mso-color-
 alt: windowtext\;&quot;&gt;Call for Nomination: 2024 IEEE Sapporo Section Young Pr
 ofessionals Best Researcher Award and Best Paper Award&lt;/span&gt;&lt;/strong&gt;&lt;/p&gt;
 \n&lt;p class=&quot;MsoNormal&quot; style=&quot;mso-margin-top-alt: auto\; mso-margin-bottom
 -alt: auto\; text-align: justify\; text-justify: inter-ideograph\; line-he
 ight: normal\; background: white\;&quot;&gt;&lt;span style=&quot;mso-bookmark: OLE_LINK4\;
 &quot;&gt;&lt;span style=&quot;mso-bookmark: OLE_LINK3\;&quot;&gt;&lt;span lang=&quot;EN-US&quot; style=&quot;font-s
 ize: 12.0pt\; font-family: &#39;Arial&#39;\,sans-serif\; mso-fareast-font-family: 
 &#39;Times New Roman&#39;\; color: black\; mso-color-alt: windowtext\;&quot;&gt;To acknowl
 edge and promote the remarkable achievements of Young Professionals in Hok
 kaido\, Japan\, IEEE Sapporo&amp;nbsp\;&lt;/span&gt;&lt;/span&gt;&lt;/span&gt;&lt;span style=&quot;mso-b
 ookmark: OLE_LINK26\;&quot;&gt;&lt;span style=&quot;mso-bookmark: OLE_LINK4\;&quot;&gt;&lt;span style
 =&quot;mso-bookmark: OLE_LINK3\;&quot;&gt;&lt;span lang=&quot;EN-US&quot; style=&quot;font-size: 12.0pt\;
  font-family: &#39;Arial&#39;\,sans-serif\; mso-fareast-font-family: &#39;Yu Gothic&#39;\;
  color: black\; mso-color-alt: windowtext\;&quot;&gt;Section &lt;/span&gt;&lt;/span&gt;&lt;/span&gt;
 &lt;/span&gt;&lt;span style=&quot;mso-bookmark: OLE_LINK26\;&quot;&gt;&lt;span style=&quot;mso-bookmark:
  OLE_LINK4\;&quot;&gt;&lt;span style=&quot;mso-bookmark: OLE_LINK3\;&quot;&gt;&lt;span lang=&quot;EN-US&quot; s
 tyle=&quot;font-size: 12.0pt\; font-family: &#39;Arial&#39;\,sans-serif\; mso-fareast-f
 ont-family: &#39;Times New Roman&#39;\; color: black\; mso-color-alt: windowtext\;
 &quot;&gt;Young Professionals Affinity Group (Sapporo YP) establishes the IEEE Sap
 poro &lt;/span&gt;&lt;/span&gt;&lt;/span&gt;&lt;/span&gt;&lt;span style=&quot;mso-bookmark: OLE_LINK26\;&quot;&gt;
 &lt;span style=&quot;mso-bookmark: OLE_LINK4\;&quot;&gt;&lt;span style=&quot;mso-bookmark: OLE_LIN
 K3\;&quot;&gt;&lt;span lang=&quot;EN-US&quot; style=&quot;font-size: 12.0pt\; font-family: &#39;Arial&#39;\,
 sans-serif\; mso-fareast-font-family: &#39;Yu Gothic&#39;\; color: black\; mso-col
 or-alt: windowtext\;&quot;&gt;Section &lt;/span&gt;&lt;/span&gt;&lt;/span&gt;&lt;/span&gt;&lt;span style=&quot;mso
 -bookmark: OLE_LINK26\;&quot;&gt;&lt;span style=&quot;mso-bookmark: OLE_LINK4\;&quot;&gt;&lt;span sty
 le=&quot;mso-bookmark: OLE_LINK3\;&quot;&gt;&lt;span lang=&quot;EN-US&quot; style=&quot;font-size: 12.0pt
 \; font-family: &#39;Arial&#39;\,sans-serif\; mso-fareast-font-family: &#39;Times New 
 Roman&#39;\; color: black\; mso-color-alt: windowtext\;&quot;&gt;Young Professionals B
 est Researcher Award and Best Paper Award.&lt;/span&gt;&lt;/span&gt;&lt;/span&gt;&lt;/span&gt;&lt;/p&gt;
 \n&lt;p class=&quot;MsoNormal&quot; style=&quot;mso-margin-top-alt: auto\; mso-margin-bottom
 -alt: auto\; text-align: justify\; text-justify: inter-ideograph\; line-he
 ight: normal\; background: white\;&quot;&gt;&lt;strong&gt;&lt;span lang=&quot;EN-US&quot; style=&quot;font
 -size: 12.0pt\; font-family: &#39;Arial&#39;\,sans-serif\; mso-fareast-font-family
 : &#39;Times New Roman&#39;\; color: black\; mso-color-alt: windowtext\;&quot;&gt;Eligibil
 ity Requirements:&lt;/span&gt;&lt;/strong&gt;&lt;/p&gt;\n&lt;p class=&quot;MsoNormal&quot; style=&quot;mso-mar
 gin-top-alt: auto\; mso-margin-bottom-alt: auto\; text-align: justify\; te
 xt-justify: inter-ideograph\; line-height: normal\; background: white\;&quot;&gt;&lt;
 em&gt;&lt;span lang=&quot;EN-US&quot; style=&quot;font-size: 12.0pt\; font-family: &#39;Arial&#39;\,san
 s-serif\; mso-fareast-font-family: &#39;Times New Roman&#39;\; color: black\; mso-
 color-alt: windowtext\;&quot;&gt;IEEE Sapporo &lt;/span&gt;&lt;/em&gt;&lt;span lang=&quot;EN-US&quot; style
 =&quot;font-size: 12.0pt\; font-family: &#39;Arial&#39;\,sans-serif\; mso-fareast-font-
 family: &#39;Yu Gothic&#39;\; color: black\; mso-color-alt: windowtext\;&quot;&gt;Section 
 &lt;/span&gt;&lt;em&gt;&lt;span lang=&quot;EN-US&quot; style=&quot;font-size: 12.0pt\; font-family: &#39;Ari
 al&#39;\,sans-serif\; mso-fareast-font-family: &#39;Times New Roman&#39;\; color: blac
 k\; mso-color-alt: windowtext\;&quot;&gt;Young Professionals Best Researcher Award
 &lt;/span&gt;&lt;/em&gt;&lt;/p&gt;\n&lt;p class=&quot;MsoNormal&quot; style=&quot;mso-margin-top-alt: auto\; m
 so-margin-bottom-alt: auto\; margin-left: 47.6pt\; text-align: justify\; t
 ext-justify: inter-ideograph\; text-indent: -18.0pt\; line-height: normal\
 ; mso-list: l0 level1 lfo1\; tab-stops: list 47.6pt\; background: white\;&quot;
 &gt;&lt;span style=&quot;mso-bookmark: OLE_LINK5\;&quot;&gt;&lt;!-- [if !supportLists]--&gt;&lt;span l
 ang=&quot;EN-US&quot; style=&quot;font-size: 12.0pt\; font-family: &#39;Arial&#39;\,sans-serif\; 
 mso-fareast-font-family: Arial\;&quot;&gt;&lt;span style=&quot;mso-list: Ignore\;&quot;&gt;1.&lt;span
  style=&quot;font: 7.0pt &#39;Times New Roman&#39;\;&quot;&gt;&amp;nbsp\;&amp;nbsp\;&amp;nbsp\; &lt;/span&gt;&lt;/sp
 an&gt;&lt;/span&gt;&lt;!--[endif]--&gt;&lt;span lang=&quot;EN-US&quot; style=&quot;font-size: 12.0pt\; font
 -family: &#39;Arial&#39;\,sans-serif\; mso-fareast-font-family: &#39;Times New Roman&#39;\
 ; color: black\; mso-color-alt: windowtext\;&quot;&gt;The nominee must be engaged 
 with Young Professionals Affinity Group under IEEE Sapporo Section (IEEE m
 ember or volunteer who graduated and earned their first professional degre
 e after January 1\, 2009.)\;&lt;/span&gt;&lt;/span&gt;&lt;/p&gt;\n&lt;p class=&quot;MsoNormal&quot; style
 =&quot;mso-margin-top-alt: auto\; mso-margin-bottom-alt: auto\; margin-left: 47
 .25pt\; text-align: justify\; text-justify: inter-ideograph\; text-indent:
  -18.0pt\; line-height: normal\; mso-list: l0 level1 lfo1\; tab-stops: lis
 t 36.0pt\; background: white\;&quot;&gt;&lt;span style=&quot;mso-bookmark: OLE_LINK6\;&quot;&gt;&lt;s
 pan style=&quot;mso-bookmark: OLE_LINK5\;&quot;&gt;&lt;!-- [if !supportLists]--&gt;&lt;span lang
 =&quot;EN-US&quot; style=&quot;font-size: 12.0pt\; font-family: &#39;Arial&#39;\,sans-serif\; mso
 -fareast-font-family: Arial\;&quot;&gt;&lt;span style=&quot;mso-list: Ignore\;&quot;&gt;2.&lt;span st
 yle=&quot;font: 7.0pt &#39;Times New Roman&#39;\;&quot;&gt;&amp;nbsp\;&amp;nbsp\;&amp;nbsp\; &lt;/span&gt;&lt;/span&gt;
 &lt;/span&gt;&lt;!--[endif]--&gt;&lt;span lang=&quot;EN-US&quot; style=&quot;font-size: 12.0pt\; font-fa
 mily: &#39;Arial&#39;\,sans-serif\; mso-fareast-font-family: &#39;Times New Roman&#39;\; c
 olor: black\; mso-color-alt: windowtext\;&quot;&gt;Both nomination and self-nomina
 tion are accepted.&lt;/span&gt;&lt;/span&gt;&lt;/span&gt;&lt;/p&gt;\n&lt;p class=&quot;MsoNormal&quot; style=&quot;m
 so-margin-top-alt: auto\; mso-margin-bottom-alt: auto\; text-align: justif
 y\; text-justify: inter-ideograph\; line-height: normal\; background: whit
 e\;&quot;&gt;&lt;em&gt;&lt;span lang=&quot;EN-US&quot; style=&quot;font-size: 12.0pt\; font-family: &#39;Arial
 &#39;\,sans-serif\; mso-fareast-font-family: &#39;Times New Roman&#39;\; color: black\
 ; mso-color-alt: windowtext\;&quot;&gt;IEEE Sapporo &lt;/span&gt;&lt;/em&gt;&lt;span lang=&quot;EN-US&quot;
  style=&quot;font-size: 12.0pt\; font-family: &#39;Arial&#39;\,sans-serif\; mso-fareast
 -font-family: &#39;Yu Gothic&#39;\; color: black\; mso-color-alt: windowtext\;&quot;&gt;Se
 ction &lt;/span&gt;&lt;em&gt;&lt;span lang=&quot;EN-US&quot; style=&quot;font-size: 12.0pt\; font-family
 : &#39;Arial&#39;\,sans-serif\; mso-fareast-font-family: &#39;Times New Roman&#39;\; color
 : black\; mso-color-alt: windowtext\;&quot;&gt;Young Professionals Best Paper Awar
 d&lt;/span&gt;&lt;/em&gt;&lt;/p&gt;\n&lt;p class=&quot;MsoNormal&quot; style=&quot;mso-margin-top-alt: auto\; 
 mso-margin-bottom-alt: auto\; margin-left: 47.25pt\; text-align: justify\;
  text-justify: inter-ideograph\; text-indent: -18.0pt\; line-height: norma
 l\; mso-list: l0 level1 lfo1\; tab-stops: list 36.0pt\; background: white\
 ;&quot;&gt;&lt;span style=&quot;mso-bookmark: OLE_LINK7\;&quot;&gt;&lt;!-- [if !supportLists]--&gt;&lt;span
  lang=&quot;EN-US&quot; style=&quot;font-size: 12.0pt\; font-family: &#39;Arial&#39;\,sans-serif\
 ; mso-fareast-font-family: Arial\;&quot;&gt;&lt;span style=&quot;mso-list: Ignore\;&quot;&gt;1.&lt;sp
 an style=&quot;font: 7.0pt &#39;Times New Roman&#39;\;&quot;&gt;&amp;nbsp\;&amp;nbsp\;&amp;nbsp\; &lt;/span&gt;&lt;/
 span&gt;&lt;/span&gt;&lt;!--[endif]--&gt;&lt;span lang=&quot;EN-US&quot; style=&quot;font-size: 12.0pt\; fo
 nt-family: &#39;Arial&#39;\,sans-serif\; mso-fareast-font-family: &#39;Times New Roman
 &#39;\; color: black\; mso-color-alt: windowtext\;&quot;&gt;The first author should fu
 lfill the same requirements as Best Researcher Award\;&lt;/span&gt;&lt;/span&gt;&lt;/p&gt;\n
 &lt;p class=&quot;MsoNormal&quot; style=&quot;mso-margin-top-alt: auto\; mso-margin-bottom-a
 lt: auto\; margin-left: 47.25pt\; text-align: justify\; text-justify: inte
 r-ideograph\; text-indent: -18.0pt\; line-height: normal\; mso-list: l0 le
 vel1 lfo1\; tab-stops: list 36.0pt\; background: white\;&quot;&gt;&lt;span style=&quot;mso
 -bookmark: OLE_LINK8\;&quot;&gt;&lt;span style=&quot;mso-bookmark: OLE_LINK7\;&quot;&gt;&lt;!-- [if !
 supportLists]--&gt;&lt;span lang=&quot;EN-US&quot; style=&quot;font-size: 12.0pt\; font-family:
  &#39;Arial&#39;\,sans-serif\; mso-fareast-font-family: Arial\;&quot;&gt;&lt;span style=&quot;mso-
 list: Ignore\;&quot;&gt;2.&lt;span style=&quot;font: 7.0pt &#39;Times New Roman&#39;\;&quot;&gt;&amp;nbsp\;&amp;nb
 sp\;&amp;nbsp\; &lt;/span&gt;&lt;/span&gt;&lt;/span&gt;&lt;!--[endif]--&gt;&lt;span lang=&quot;EN-US&quot; style=&quot;f
 ont-size: 12.0pt\; font-family: &#39;Arial&#39;\,sans-serif\; mso-fareast-font-fam
 ily: &#39;Times New Roman&#39;\; color: black\; mso-color-alt: windowtext\;&quot;&gt;The c
 andidate paper should be published on IEEE journals between January 1\, 20
 21 and December 31\, 2023 (within the past 3 years)\;&lt;/span&gt;&lt;/span&gt;&lt;/span&gt;
 &lt;/p&gt;\n&lt;p class=&quot;MsoNormal&quot; style=&quot;mso-margin-top-alt: auto\; mso-margin-bo
 ttom-alt: auto\; text-align: justify\; text-justify: inter-ideograph\; lin
 e-height: normal\; background: white\;&quot;&gt;&amp;nbsp\;&lt;/p&gt;
END:VEVENT
END:VCALENDAR

