BEGIN:VCALENDAR
VERSION:2.0
PRODID:IEEE vTools.Events//EN
CALSCALE:GREGORIAN
BEGIN:VTIMEZONE
TZID:America/Argentina/Buenos_Aires
BEGIN:DAYLIGHT
DTSTART:20380119T001407
TZOFFSETFROM:-0300
TZOFFSETTO:-0300
RRULE:FREQ=YEARLY;BYDAY=3TU;BYMONTH=1
TZNAME:-03
END:DAYLIGHT
BEGIN:STANDARD
DTSTART:20090314T230000
TZOFFSETFROM:-0200
TZOFFSETTO:-0300
RRULE:FREQ=YEARLY;BYDAY=2SA;BYMONTH=3
TZNAME:-03
END:STANDARD
END:VTIMEZONE
BEGIN:VEVENT
DTSTAMP:20241226T212036Z
UID:A31193B3-CD8F-4E02-93AE-66A6BEF841E2
DTSTART;TZID=America/Argentina/Buenos_Aires:20240419T110000
DTEND;TZID=America/Argentina/Buenos_Aires:20240419T115400
DESCRIPTION:Charla para realizar una colaboración con l auniversidad de UN
 CUYO con cursos de Python organizados por IEEE-ITBA\n\nVirtual: https://ev
 ents.vtools.ieee.org/m/417969
LOCATION:Virtual: https://events.vtools.ieee.org/m/417969
ORGANIZER:ieee@itba.edu.ar
SEQUENCE:7
SUMMARY:Reunión colaborativa con la universidad de UNCUYO
URL;VALUE=URI:https://events.vtools.ieee.org/m/417969
X-ALT-DESC:Description: &lt;br /&gt;&lt;p&gt;Charla para realizar una colaboraci&amp;oacute
 \;n con l auniversidad de UNCUYO con cursos de Python organizados por IEEE
 -ITBA&lt;/p&gt;
END:VEVENT
END:VCALENDAR

