BEGIN:VCALENDAR
VERSION:2.0
PRODID:IEEE vTools.Events//EN
CALSCALE:GREGORIAN
BEGIN:VTIMEZONE
TZID:America/Lima
BEGIN:DAYLIGHT
DTSTART:20380118T221407
TZOFFSETFROM:-0500
TZOFFSETTO:-0500
RRULE:FREQ=YEARLY;BYDAY=3MO;BYMONTH=1
TZNAME:-05
END:DAYLIGHT
BEGIN:STANDARD
DTSTART:19940331T230000
TZOFFSETFROM:-0400
TZOFFSETTO:-0500
RRULE:FREQ=YEARLY;BYDAY=-1TH;BYMONTH=3
TZNAME:-05
END:STANDARD
END:VTIMEZONE
BEGIN:VEVENT
DTSTAMP:20240427T210059Z
UID:B7F21F56-85A7-4369-9B98-CD4807A30B45
DTSTART;TZID=America/Lima:20240420T135000
DTEND;TZID=America/Lima:20240420T193000
DESCRIPTION:La Rama Estudiantil IEEE de la Universidad Nacional del Callao 
 (UNAC) realizará la Reunión Mensual de Ramas correspondiente al mes de a
 bril 2024\, donde se presentarán beneficios y oportunidades del IEEE enfo
 cado al desarrollo de las habilidades blandas.\n\nSpeaker(s): Francisco To
 rres\, Carlos Perez\, Fransheska Arias\, Maria Cruzado\, Fiorella Montalvo
 \, Karol Jurado\, Saúl Estela\n\nAgenda: \n● 1:50 pm - 2:15 pm | Recepc
 ión de asistentes\n● 2:15 pm - 2:25 pm | Palabras de inaguración\n● 
 2:25 pm - 3:25 pm | Francisco Torres - Dominando la Gestión de Eventos IE
 EE: Estrategias Efectivas y Prácticas Innovadoras\n● 3:25 pm - 3:45 pm 
 | Carlos Pérez - Dinámica: Carta de Presentación\n● 3:45 pm - 4:30 pm
  | Fransheska Arias\, Maria Cruzado - Descubriendo todo sobre ANEIMERA Y C
 ONEIMERA\n\n● 4:30 pm - 5:00 pm | Coffee break\n● 5:00 pm - 6:00 pm | 
 Fiorella Montalvo - Gestión del conocimiento y su aplicación en el volun
 tariado\n\n● 6:00 pm - 7:00 pm | Karol Jurado\, Saúl Estela - Un viaje 
 en IEEE desde miembro estudiantil a Young Professional\n● 7:00 pm - 7:20
  pm | Carlos Pérez - Dinámica: Marshmallow Challenge\n● 7:20 pm - 7:30
  pm | Palabras de cierre a cargo de Rama Estudiantil IEEE UNAC\, del embaj
 ador IEEE Education Week y a su vez Consejero de Rama Ing. Marco Cruz\n\nU
 niversidad Nacional del Callao\, Av. Juan Pablo II Nº 306\, Lima\, Callao
 \, Peru
LOCATION:Universidad Nacional del Callao\, Av. Juan Pablo II Nº 306\, Lima
 \, Callao\, Peru
ORGANIZER:ieee.unac@gmail.com
SEQUENCE:56
SUMMARY:REUNION MENSUAL DE RAMAS ABRIL - IEEE EDUCATION WEEK 2024
URL;VALUE=URI:https://events.vtools.ieee.org/m/418001
X-ALT-DESC:Description: &lt;br /&gt;&lt;p style=&quot;text-align: justify\;&quot;&gt;&lt;span style=
 &quot;font-family: tahoma\, arial\, helvetica\, sans-serif\;&quot;&gt;La Rama Estudiant
 il IEEE de la Universidad Nacional del Callao (UNAC) realizar&amp;aacute\; la 
 Reuni&amp;oacute\;n Mensual de Ramas correspondiente al mes de abril 2024\, do
 nde se presentar&amp;aacute\;n beneficios y oportunidades del IEEE enfocado al
  desarrollo de las habilidades blandas.&lt;/span&gt;&lt;/p&gt;\n&lt;p style=&quot;text-align: 
 justify\;&quot;&gt;&lt;span style=&quot;font-family: tahoma\, arial\, helvetica\, sans-ser
 if\;&quot;&gt;&lt;img src=&quot;https://events.vtools.ieee.org/vtools_ui/media/display/581
 e62f1-d78a-4ef3-b65e-4eec176d0bc7&quot; width=&quot;431&quot; height=&quot;431&quot;&gt;&lt;/span&gt;&lt;/p&gt;&lt;br
  /&gt;&lt;br /&gt;Agenda: &lt;br /&gt;&lt;div&gt;&lt;span style=&quot;font-family: tahoma\, arial\, hel
 vetica\, sans-serif\;&quot;&gt;● 1:50 pm - 2:15 pm&amp;nbsp\; | Recepci&amp;oacute\;n de
  asistentes&lt;/span&gt;&lt;/div&gt;\n&lt;div&gt;&lt;span style=&quot;font-family: tahoma\, arial\, 
 helvetica\, sans-serif\;&quot;&gt;●&amp;nbsp\;2:15 pm - 2:25 pm&amp;nbsp\; | Palabras de
  inaguraci&amp;oacute\;n&lt;/span&gt;&lt;/div&gt;\n&lt;div&gt;&lt;span style=&quot;font-family: tahoma\,
  arial\, helvetica\, sans-serif\;&quot;&gt;● 2:25 pm - 3:25 pm&amp;nbsp\; | Francisc
 o Torres - Dominando la Gesti&amp;oacute\;n de Eventos IEEE: Estrategias Efect
 ivas y Pr&amp;aacute\;cticas Innovadoras&lt;/span&gt;&lt;/div&gt;\n&lt;div&gt;&lt;span style=&quot;font-
 family: tahoma\, arial\, helvetica\, sans-serif\;&quot;&gt;● 3:25 pm - 3:45 pm&amp;n
 bsp\; | Carlos P&amp;eacute\;rez - Din&amp;aacute\;mica: Carta de Presentaci&amp;oacut
 e\;n&lt;/span&gt;&lt;/div&gt;\n&lt;div&gt;&lt;span style=&quot;font-family: tahoma\, arial\, helveti
 ca\, sans-serif\;&quot;&gt;● 3:45 pm - 4:30 pm&amp;nbsp\; | Fransheska Arias\, Maria
  Cruzado - Descubriendo todo sobre ANEIMERA Y CONEIMERA&lt;/span&gt;&lt;/div&gt;\n&lt;div
 &gt;\n&lt;div&gt;&lt;span style=&quot;font-family: tahoma\, arial\, helvetica\, sans-serif\
 ;&quot;&gt;● 4:30 pm - 5:00 pm&amp;nbsp\; | Coffee break&lt;/span&gt;&lt;/div&gt;\n&lt;div&gt;&lt;span st
 yle=&quot;font-family: tahoma\, arial\, helvetica\, sans-serif\;&quot;&gt;● 5:00 pm -
  6:00 pm&amp;nbsp\; | Fiorella Montalvo - Gesti&amp;oacute\;n del conocimiento y s
 u aplicaci&amp;oacute\;n en el voluntariado&lt;/span&gt;&lt;/div&gt;\n&lt;div&gt;\n&lt;div&gt;&lt;span st
 yle=&quot;font-family: tahoma\, arial\, helvetica\, sans-serif\;&quot;&gt;● 6:00 pm -
  7:00 pm&amp;nbsp\; | Karol Jurado\, Sa&amp;uacute\;l Estela - Un viaje en IEEE de
 sde miembro estudiantil a Young Professional&lt;/span&gt;&lt;/div&gt;\n&lt;div&gt;&lt;span styl
 e=&quot;font-family: tahoma\, arial\, helvetica\, sans-serif\;&quot;&gt;● 7:00 pm - 7
 :20 pm&amp;nbsp\; | Carlos P&amp;eacute\;rez - Din&amp;aacute\;mica: Marshmallow Chall
 enge&lt;/span&gt;&lt;/div&gt;\n&lt;div&gt;&lt;span style=&quot;font-family: tahoma\, arial\, helveti
 ca\, sans-serif\;&quot;&gt;● 7:20 pm - 7:30 pm&amp;nbsp\; | Palabras de cierre a car
 go de Rama Estudiantil IEEE UNAC\, del embajador IEEE Education Week y a s
 u vez Consejero de Rama Ing. Marco Cruz&lt;/span&gt;&lt;/div&gt;\n&lt;div&gt;\n&lt;div&gt;\n&lt;div&gt;&amp;
 nbsp\;&lt;/div&gt;\n&lt;/div&gt;\n&lt;/div&gt;\n&lt;/div&gt;\n&lt;/div&gt;
END:VEVENT
END:VCALENDAR

