BEGIN:VCALENDAR
VERSION:2.0
PRODID:IEEE vTools.Events//EN
CALSCALE:GREGORIAN
BEGIN:VTIMEZONE
TZID:Asia/Kolkata
BEGIN:STANDARD
DTSTART:19451014T230000
TZOFFSETFROM:+0630
TZOFFSETTO:+0530
TZNAME:IST
END:STANDARD
END:VTIMEZONE
BEGIN:VEVENT
DTSTAMP:20240507T200615Z
UID:6B748C82-2C03-4D30-8CC8-63B78E5A42D3
DTSTART;TZID=Asia/Kolkata:20240423T110000
DTEND;TZID=Asia/Kolkata:20240423T123000
DESCRIPTION:The Power &amp; Energy Society Day 2024\, meticulously organized by
  the Power and Energy Society Student Branch Chapter of IEEE RSCOE Student
  Branch in collaboration with the esteemed Department of Electrical Engine
 ering\, RSCOE\, served as a pivotal gathering for professionals\, academic
 s\, and students deeply entrenched in the dynamic realm of power and energ
 y. Themed &quot;Empowering Electric Mobility Innovation\,&quot; the event was meticu
 lously crafted to provide a platform for robust discussions\, insightful p
 resentations\, and invaluable networking opportunities\, aimed at dissecti
 ng the latest trends\, confronting challenges\, and exploring innovative s
 olutions within the ever-evolving landscape of the power and energy sector
 .\n\nSpeaker(s): Mr. Nandhkihor Sarolkar\n\nAgenda: \nThe Power and Energy
  Society Day 2024 epitomized the convergence of minds\, ideas\, and aspira
 tions\, symbolizing the industry&#39;s resilience and commitment to shaping a 
 sustainable future. As participants reflect on the illuminating discussion
 s and connections forged\, the event&#39;s legacy serves as a beacon of inspir
 ation\, propelling collective efforts towards realizing a greener\, more e
 fficient tomorrow.\n\nBldg: JSPMs Rajarshi SHahu Colege of Engineering\, J
 aywant Auditorium\, Pune\, Maharashtra\, India\, 411033
LOCATION:Bldg: JSPMs Rajarshi SHahu Colege of Engineering\, Jaywant Auditor
 ium\, Pune\, Maharashtra\, India\, 411033
ORGANIZER:ieee_pes@jspmrscoe.edu.in
SEQUENCE:23
SUMMARY:EV &amp; Carbon Free India
URL;VALUE=URI:https://events.vtools.ieee.org/m/418137
X-ALT-DESC:Description: &lt;br /&gt;&lt;p&gt;The Power &amp;amp\; Energy Society Day 2024\,
  meticulously organized by the Power and Energy Society Student Branch Cha
 pter of IEEE RSCOE Student Branch in collaboration with the esteemed Depar
 tment of Electrical Engineering\, RSCOE\, served as a pivotal gathering fo
 r professionals\, academics\, and students deeply entrenched in the dynami
 c realm of power and energy. Themed &quot;Empowering Electric Mobility Innovati
 on\,&quot; the event was meticulously crafted to provide a platform for robust 
 discussions\, insightful presentations\, and invaluable networking opportu
 nities\, aimed at dissecting the latest trends\, confronting challenges\, 
 and exploring innovative solutions within the ever-evolving landscape of t
 he power and energy sector.&lt;/p&gt;&lt;br /&gt;&lt;br /&gt;Agenda: &lt;br /&gt;&lt;p&gt;The Power and 
 Energy Society Day 2024 epitomized the convergence of minds\, ideas\, and 
 aspirations\, symbolizing the industry&#39;s resilience and commitment to shap
 ing a sustainable future. As participants reflect on the illuminating disc
 ussions and connections forged\, the event&#39;s legacy serves as a beacon of 
 inspiration\, propelling collective efforts towards realizing a greener\, 
 more efficient tomorrow.&lt;/p&gt;
END:VEVENT
END:VCALENDAR

