BEGIN:VCALENDAR
VERSION:2.0
PRODID:IEEE vTools.Events//EN
CALSCALE:GREGORIAN
BEGIN:VTIMEZONE
TZID:Asia/Riyadh
BEGIN:DAYLIGHT
DTSTART:20380119T061407
TZOFFSETFROM:+0300
TZOFFSETTO:+0300
RRULE:FREQ=YEARLY;BYDAY=3TU;BYMONTH=1
TZNAME:+03
END:DAYLIGHT
BEGIN:STANDARD
DTSTART:19470313T235308
TZOFFSETFROM:+0306
TZOFFSETTO:+0300
RRULE:FREQ=YEARLY;BYDAY=2TH;BYMONTH=3
TZNAME:+03
END:STANDARD
END:VTIMEZONE
BEGIN:VEVENT
DTSTAMP:20260326T133539Z
UID:4D771244-9D2D-4F12-B673-77223F67891B
DTSTART;TZID=Asia/Riyadh:20240325T225700
DTEND;TZID=Asia/Riyadh:20240326T225700
DESCRIPTION:The IEEE Yarmouk University Branch Non-Technical Activity Meeti
 ng is a session dedicated to organizing and discussing non-technical initi
 atives that enhance student engagement\, teamwork\, and professional devel
 opment within the IEEE community.\n\nThis meeting focuses on planning soci
 al events\, networking opportunities\, community service projects\, leader
 ship training\, and soft skills workshops. It provides a space for members
  to contribute ideas for activities that foster a positive and inclusive e
 nvironment beyond technical learning.\n\nAll IEEE YU Branch members are en
 couraged to attend and participate in shaping the branch’s non-technical
  initiatives\, helping to build a strong and connected student community.\
 n\nCo-sponsored by: Dr.zaid albataineh\n\nIrbid \, Jordan\, Jordan
LOCATION:Irbid \, Jordan\, Jordan
ORGANIZER:alijowahreh@gmail.com
SEQUENCE:7
SUMMARY:IEEE YU BRANCH NON-TECHNICAL ACTIVITY MEETING
URL;VALUE=URI:https://events.vtools.ieee.org/m/418237
X-ALT-DESC:Description: &lt;br /&gt;&lt;div class=&quot;flex max-w-full flex-col flex-gro
 w&quot;&gt;\n&lt;div class=&quot;min-h-8 text-message flex w-full flex-col items-end gap-2
  whitespace-normal break-words text-start [.text-message+&amp;amp\;]:mt-5&quot; dir
 =&quot;auto&quot; data-message-author-role=&quot;assistant&quot; data-message-id=&quot;3ad1c70e-53a
 2-48d9-a6cd-3ffa0c87bf77&quot; data-message-model-slug=&quot;gpt-4o&quot;&gt;\n&lt;div class=&quot;f
 lex w-full flex-col gap-1 empty:hidden first:pt-[3px]&quot;&gt;\n&lt;div class=&quot;markd
 own prose w-full break-words dark:prose-invert light&quot;&gt;\n&lt;p data-start=&quot;67&quot;
  data-end=&quot;315&quot;&gt;The &lt;strong data-start=&quot;71&quot; data-end=&quot;136&quot;&gt;IEEE Yarmouk Un
 iversity Branch Non-Technical Activity Meeting&lt;/strong&gt; is a session dedic
 ated to organizing and discussing non-technical initiatives that enhance s
 tudent engagement\, teamwork\, and professional development within the IEE
 E community.&lt;/p&gt;\n&lt;p data-start=&quot;317&quot; data-end=&quot;611&quot;&gt;This meeting focuses 
 on planning social events\, networking opportunities\, community service p
 rojects\, leadership training\, and soft skills workshops. It provides a s
 pace for members to contribute ideas for activities that foster a positive
  and inclusive environment beyond technical learning.&lt;/p&gt;\n&lt;p data-start=&quot;
 613&quot; data-end=&quot;790&quot; data-is-last-node=&quot;&quot; data-is-only-node=&quot;&quot;&gt;All IEEE YU 
 Branch members are encouraged to attend and participate in shaping the bra
 nch&amp;rsquo\;s non-technical initiatives\, helping to build a strong and con
 nected student community.&lt;/p&gt;\n&lt;p data-start=&quot;613&quot; data-end=&quot;790&quot; data-is-
 last-node=&quot;&quot; data-is-only-node=&quot;&quot;&gt;&amp;nbsp\;&lt;/p&gt;\n&lt;p data-start=&quot;613&quot; data-en
 d=&quot;790&quot; data-is-last-node=&quot;&quot; data-is-only-node=&quot;&quot;&gt;&amp;nbsp\;&lt;/p&gt;\n&lt;p data-sta
 rt=&quot;613&quot; data-end=&quot;790&quot; data-is-last-node=&quot;&quot; data-is-only-node=&quot;&quot;&gt;&lt;img src
 =&quot;https://mail.google.com/mail/u/0?ui=2&amp;amp\;ik=7a9aa2fb7f&amp;amp\;attid=0.1&amp;
 amp\;permmsgid=msg-a:r-6550210750749896541&amp;amp\;th=1952f1b78c79bac1&amp;amp\;v
 iew=fimg&amp;amp\;fur=ip&amp;amp\;permmsgid=msg-a:r-6550210750749896541&amp;amp\;sz=s0
 -l75-ft&amp;amp\;attbid=ANGjdJ84V5WL0YKpWuChtvnTQSTMtgGx5y-FFHDcvw2WsBsQkD-erx
 J5iFyq2DbKnclSDGJnR5GGVpJd8Zioc-yZiy8E_7D1ZyARCUJng_zrABgsex3scmnm8EBiepk&amp;
 amp\;disp=emb&amp;amp\;realattid=1952f1b68e424a82ee31&amp;amp\;zw&quot; width=&quot;400&quot; hei
 ght=&quot;700&quot;&gt;&lt;/p&gt;\n&lt;/div&gt;\n&lt;/div&gt;\n&lt;/div&gt;\n&lt;/div&gt;\n&lt;p&gt;&amp;nbsp\;&lt;/p&gt;\n&lt;p&gt;&amp;nbsp\;
 &lt;/p&gt;
END:VEVENT
END:VCALENDAR

