BEGIN:VCALENDAR
VERSION:2.0
PRODID:IEEE vTools.Events//EN
CALSCALE:GREGORIAN
BEGIN:VTIMEZONE
TZID:Europe/Madrid
BEGIN:DAYLIGHT
DTSTART:20240331T030000
TZOFFSETFROM:+0100
TZOFFSETTO:+0200
RRULE:FREQ=YEARLY;BYDAY=-1SU;BYMONTH=3
TZNAME:CEST
END:DAYLIGHT
BEGIN:STANDARD
DTSTART:20241027T020000
TZOFFSETFROM:+0200
TZOFFSETTO:+0100
RRULE:FREQ=YEARLY;BYDAY=-1SU;BYMONTH=10
TZNAME:CET
END:STANDARD
END:VTIMEZONE
BEGIN:VEVENT
DTSTAMP:20240523T142104Z
UID:CA39864B-2E11-460D-AF58-C5B63019A3A6
DTSTART;TZID=Europe/Madrid:20240516T180000
DTEND;TZID=Europe/Madrid:20240516T200000
DESCRIPTION:IEEE PES ESPAÑA | [Webinar(2º) 16.05.2024] | THE ENERGY TRANS
 ITION | Towards a DECARBONIZED ENERGY | An assessment of the Iberian Excep
 tion to control electricity prices\n\nEstimados Miembros del Capítulo IEE
 E PES ESPAÑA y de la comunidad de sistemas eléctricos de potencia\,\nDea
 r IEEE PES Spain Members and Colleagues from power and energy community\,\
 n\nContinuing with the [Webinar] series on the topic\n\nLA TRANSICIÓN ENE
 RGETICA | Hacia una ECONOMIA DESCARBONIZADA\nTHE ENERGY TRANSITION | Towar
 ds a DECARBONIZED ECONOMY\n\nThe energy transition towards a decarbonized 
 economy will present a relevant challenge and a crucial transformation fac
 ed by our Society\; Decelerating climate change effects is becoming a mora
 l commitment.\nAs a society\, we are part of the decarbonized energy proce
 ss that goes through the electrification of the economy and it is supporte
 d by renewables within a sustainable energy model.\nThis means a change of
  paradigm which heads towards an immediate exciting future full of challen
 ges at all levels associated with flexibility in its widest conception. It
  is assumed that a change of paradigm\, that requires changing the focus f
 rom active based asset management towards the digitalization that ensures 
 resiliency and security for the future electric systems.\nIn this context\
 , we need to contribute and stimulate the exchange of ideas from different
  perspectives and experiences\, creating a framework of reflection through
  these series of webinars. The expected benefit and impact is the identifi
 cation of opportunities within the complexity associated with the change o
 f paradigm.\n\nIn this [Webinar] Tomás Gómez and Pedro Linares (Universi
 dad Pontificia Comillas) will share with us their assessment of the Iberia
 n Exception to control electricity prices.\n\nTitle: An assessment of the 
 Iberian Exception to control electricity prices\n\nContent: The Iberian Ex
 ception\, the mechanism designed by the Spanish and Portuguese governments
  to address high electricity prices resulting from the gas price crisis in
  2021 and 2022\, has been met with controversy\, both regarding its real i
 mpact on electricity prices and also its unintended consequences\, such as
  increased (and subsidized) exports to France. In this paper we review the
  evidence on these impacts from different studies\, concluding that the me
 chanism may have produced\, depending on the assumptions\, some reductions
  in electricity prices for Iberian consumers or none at all\, but always a
 t the expense of subsidies to French consumers and also increased rents fo
 r gas combined cycles\, higher gas consumption\, and larger CO2 emissions.
  Alternative mechanisms\, such as a temporary single-buyer scheme\, might 
 have produced similar benefits without the downsides of the Exception.\n\n
 Speakers: Tomás Gómez and Pedro Linareas (Universidad Pontificia Comilla
 s)\n\nDate: May 16\, 2024\nTime: 18:00 - 20:00 (CET)\nLanguage: Spanish\n\
 nParticipation in these [Webinars] is open to everyone\, including both PE
 S Members and non-Members. However\, REGISTRATION  is necessary in order t
 o receive the [Webinar] access link and URL to WebEx. The Connection link 
 to this [Webinar(2º) 16.05.2024] will be sent to the registrants by e-mai
 l on the event day at 11:30 (CET).\n\nThe Registration closes at 11:30 (CE
 T) on May 16\, 2024. The direct access to the REGISTRATION is at\n\nhttps:
 //events.vtools.ieee.org/event/register/418724\n\nFor further information:
 \n\n[Webinar(2º) 16.05.2024]: https://events.vtools.ieee.org/m/418724\n\n
 The IEEE PES ESPAÑA System issues participation certificates in these [We
 binars] to the attendees under request. The necessary condition for the Sy
 stem to issue the certificate is that the attendee must participate with a
 t least one voice question during the question time.\n\nLooking forward to
  seeing you.\n\nKind regards\,\n\nLukas Sigrist\n[IEEE PES Spain Chapter](
 http://enotice.ieee.org/link.cfm?r=2t13DaV1ZQMWdxFUYxE9AA~~&amp;pe=2r6s6cq1ZHJ
 VREEnjcPg615Ax6pY5bB2EtOtT4-0u2m72qPy0vZwRE9mo5IxUHTUd3basEhCJ_h0e96RcJiJx
 A~~&amp;t=dWSU4qsc8D7Oq-bfMacKwQ~~)\, Treasurer\nE-mail: [lsigrist@comillas.ed
 u](mailto:xmlopez@uvigo.es)\n[https://www.iit.comillas.edu/personas/lsigri
 st](http://enotice.ieee.org/link.cfm?r=2t13DaV1ZQMWdxFUYxE9AA~~&amp;pe=witkeIz
 8LkoUZhulkk1sx9E_1rKgceS0PT-I3sEMmkolP5KhdQvJt1UgDYhS1dKffWoWT6ki6UJ7wxyrp
 cMoGA~~&amp;t=dWSU4qsc8D7Oq-bfMacKwQ~~)\n[http://www.ewh.ieee.org/soc/pes/spai
 n/](http://enotice.ieee.org/link.cfm?r=2t13DaV1ZQMWdxFUYxE9AA~~&amp;pe=6KDWid3
 3EaTBI-e5_Rs9WqK142A_ryE8sq-2yQP_PxO6C0QjIOxeNlOScNiFfqtUlnufeNysO01BgoUQ8
 lmAKA~~&amp;t=dWSU4qsc8D7Oq-bfMacKwQ~~)\n\nSpeaker(s): Tomás Gómez\, Pedro L
 inares\n\nVirtual: https://events.vtools.ieee.org/m/418724
LOCATION:Virtual: https://events.vtools.ieee.org/m/418724
ORGANIZER:lsigrist@comillas.edu
SEQUENCE:32
SUMMARY:IEEE PES ESPAÑA | [Webinar(2º) 16.05.2024] | An assessment of the
  Iberian Exception to control electricity prices
URL;VALUE=URI:https://events.vtools.ieee.org/m/418724
X-ALT-DESC:Description: &lt;br /&gt;&lt;p&gt;&amp;nbsp\;&lt;/p&gt;\n&lt;p&gt;IEEE PES ESPA&amp;Ntilde\;A | 
 [Webinar(2&amp;ordm\;) 16.05.2024] |&amp;nbsp\; &lt;strong&gt;THE ENERGY TRANSITION&lt;/str
 ong&gt; | Towards a DECARBONIZED ENERGY | &lt;strong&gt;&lt;span lang=&quot;EN-GB&quot; style=&quot;m
 so-ansi-language: EN-GB\;&quot;&gt;An assessment of the Iberian Exception to contr
 ol electricity prices&lt;/span&gt;&lt;/strong&gt;&lt;/p&gt;\n&lt;p&gt;&amp;nbsp\;&lt;/p&gt;\n&lt;p&gt;&amp;nbsp\;&lt;/p&gt;\
 n&lt;p&gt;&lt;em&gt;Estimados Miembros del Cap&amp;iacute\;tulo &lt;span style=&quot;color: #33cc0
 0\;&quot;&gt;IEEE PES ESPA&amp;Ntilde\;A&lt;/span&gt; y de la comunidad de sistemas el&amp;eacut
 e\;ctricos de potencia\,&lt;/em&gt;&lt;br&gt;Dear &lt;span style=&quot;color: #33cc00\;&quot;&gt;IEEE 
 PES Spain&lt;/span&gt; Members and Colleagues from power and energy community\,&lt;
 /p&gt;\n&lt;p&gt;&amp;nbsp\;&lt;/p&gt;\n&lt;p&gt;&amp;nbsp\;Continuing with the [Webinar] series on the
  topic&lt;/p&gt;\n&lt;p&gt;&lt;strong&gt;&lt;em&gt;LA TRANSICI&amp;Oacute\;N ENERGETICA&lt;/em&gt;&lt;/strong&gt;&amp;
 nbsp\;| &lt;em&gt;Hacia una &lt;span style=&quot;color: #3366ff\;&quot;&gt;ECONOMIA DESCARBONIZA
 DA&amp;nbsp\;&lt;/span&gt;&lt;/em&gt; &lt;strong&gt;&lt;br&gt;&lt;em&gt;THE ENERGY TRANSITION&lt;/em&gt;&lt;/strong&gt;&amp;
 nbsp\;| &lt;em&gt;Towards a &lt;span style=&quot;color: #3366ff\;&quot;&gt;DECARBONIZED&amp;nbsp\;EC
 ONOMY&lt;/span&gt;&lt;/em&gt;&lt;/p&gt;\n&lt;p&gt;&amp;nbsp\;&lt;/p&gt;\n&lt;p&gt;&lt;span style=&quot;font-size: 8pt\;&quot;&gt;T
 he energy transition towards a decarbonized economy will present a relevan
 t challenge and a crucial transformation faced by&amp;nbsp\;our Society\; Dece
 lerating climate change effects is becoming a moral commitment.&lt;br&gt;As a so
 ciety\, we are part of the decarbonized energy process that goes through t
 he &lt;strong&gt;electrification&lt;/strong&gt; of the economy and it is&amp;nbsp\;support
 ed by renewables within a sustainable energy model.&lt;br&gt;This means &lt;strong&gt;
 a change of paradigm&lt;/strong&gt; which heads towards an immediate exciting fu
 ture full of challenges at all levels associated with &lt;strong&gt;flexibility&lt;
 /strong&gt; in&amp;nbsp\;its widest conception. It is assumed that a change of pa
 radigm\, that requires changing the focus from active based asset&amp;nbsp\;ma
 nagement towards the&lt;strong&gt; digitalization&lt;/strong&gt; that ensures resilien
 cy and security for the future electric systems.&lt;br&gt;In this context\, we n
 eed to contribute and stimulate the exchange of ideas from different persp
 ectives and experiences\, creating&amp;nbsp\;a framework of reflection through
  these series of webinars. The expected benefit and impact is the identifi
 cation of opportunities&amp;nbsp\;within the complexity associated with the ch
 ange of paradigm.&lt;/span&gt;&lt;/p&gt;\n&lt;p&gt;&amp;nbsp\;&lt;/p&gt;\n&lt;p&gt;In this [Webinar]&amp;nbsp\; 
 &lt;strong&gt;Tom&amp;aacute\;s G&amp;oacute\;mez&lt;/strong&gt; &lt;strong&gt;and Pedro Linares &lt;/s
 trong&gt;(Universidad Pontificia Comillas) will share with us &lt;span lang=&quot;EN-
 GB&quot; style=&quot;mso-ansi-language: EN-GB\;&quot;&gt;their assessment of the Iberian Exc
 eption to control electricity prices.&lt;/span&gt;&lt;/p&gt;\n&lt;p&gt;Title:&amp;nbsp\;&lt;strong&gt;
 &lt;span lang=&quot;EN-GB&quot; style=&quot;mso-ansi-language: EN-GB\;&quot;&gt;An assessment of the
  Iberian Exception to control electricity prices&lt;/span&gt;&lt;/strong&gt;&lt;/p&gt;\n&lt;p&gt;&lt;
 span style=&quot;background-color: #ffffff\;&quot;&gt;Content: &amp;nbsp\;&lt;strong&gt;The Iberi
 an Exception\, the mechanism designed by the Spanish and Portuguese govern
 ments to address high electricity prices resulting from the gas price cris
 is in 2021 and 2022\, has been met with controversy\, both regarding its r
 eal impact on electricity prices and also its unintended consequences\, su
 ch as increased (and subsidized) exports to France. In this paper we revie
 w the evidence on these impacts from different studies\, concluding that t
 he mechanism may have produced\, depending on the assumptions\, some reduc
 tions in electricity prices for Iberian consumers or none at all\, but alw
 ays at the expense of subsidies to French consumers and also increased ren
 ts for gas combined cycles\, higher gas consumption\, and larger CO2 emiss
 ions. Alternative mechanisms\, such as a temporary single-buyer scheme\, m
 ight have produced similar benefits without the downsides of the Exception
 .&lt;/strong&gt;&lt;/span&gt;&lt;/p&gt;\n&lt;p&gt;Speakers: &lt;strong&gt;Tom&amp;aacute\;s G&amp;oacute\;mez an
 d Pedro Linareas&lt;/strong&gt; (Universidad Pontificia Comillas)&lt;/p&gt;\n&lt;p&gt;Date: 
 May 16\, 2024&lt;br&gt;Time: 18:00 - 20:00 (CET)&lt;br&gt;Language: Spanish&lt;/p&gt;\n&lt;p&gt;Pa
 rticipation in these [Webinars] is open to everyone\, including both PES M
 embers and non-Members. However\, &lt;strong&gt;REGISTRATION&amp;nbsp\;&lt;/strong&gt; is 
 necessary&lt;strong&gt;&amp;nbsp\;&lt;/strong&gt;in order to receive the [Webinar] access 
 link and URL to WebEx. The Connection link to this [Webinar(2&amp;ordm\;) 16.0
 5.2024] will be sent to the registrants by e-mail on the event day at 11:3
 0 (CET).&lt;/p&gt;\n&lt;p&gt;The Registration &lt;strong&gt;closes&lt;/strong&gt; &lt;strong&gt;at 11:30
 &amp;nbsp\;&lt;/strong&gt;(CET) on&lt;strong&gt; May 16\, 2024&lt;/strong&gt;. The direct access
  to the REGISTRATION is at&lt;/p&gt;\n&lt;p&gt;&lt;span style=&quot;background-color: #ffffff\
 ;&quot;&gt;&lt;a style=&quot;background-color: #ffffff\;&quot; href=&quot;https://events.vtools.ieee
 .org/event/register/418724&quot;&gt;https://events.vtools.ieee.org/event/register/
 418724&lt;/a&gt;&lt;/span&gt;&lt;/p&gt;\n&lt;p&gt;For further information:&lt;/p&gt;\n&lt;p&gt;[Webinar(2&amp;ordm
 \;) 16.05.2024]: &lt;span style=&quot;background-color: #ffffff\;&quot;&gt;&lt;a style=&quot;backg
 round-color: #ffffff\;&quot; href=&quot;https://events.vtools.ieee.org/m/418724&quot;&gt;htt
 ps://events.vtools.ieee.org/m/418724&lt;/a&gt;&lt;/span&gt;&lt;/p&gt;\n&lt;p&gt;The IEEE PES ESPA&amp;
 Ntilde\;A System issues participation certificates in these [Webinars] to 
 the attendees under request. The necessary condition for the System to iss
 ue the certificate is that the attendee must participate with at least one
  voice question during the question time.&lt;/p&gt;\n&lt;p&gt;&amp;nbsp\;&lt;/p&gt;\n&lt;p&gt;Looking 
 forward to seeing you.&lt;/p&gt;\n&lt;p&gt;&amp;nbsp\;&lt;/p&gt;\n&lt;p&gt;Kind regards\,&lt;/p&gt;\n&lt;p&gt;Luka
 s Sigrist&lt;br&gt;&lt;a href=&quot;http://enotice.ieee.org/link.cfm?r=2t13DaV1ZQMWdxFUY
 xE9AA~~&amp;amp\;pe=2r6s6cq1ZHJVREEnjcPg615Ax6pY5bB2EtOtT4-0u2m72qPy0vZwRE9mo5
 IxUHTUd3basEhCJ_h0e96RcJiJxA~~&amp;amp\;t=dWSU4qsc8D7Oq-bfMacKwQ~~&quot;&gt;IEEE PES S
 pain Chapter&lt;/a&gt;\, Treasurer&lt;br&gt;E-mail: &lt;a href=&quot;mailto:xmlopez@uvigo.es&quot;&gt;
 lsigrist@comillas.edu&lt;/a&gt;&lt;br&gt;&lt;a href=&quot;http://enotice.ieee.org/link.cfm?r=2
 t13DaV1ZQMWdxFUYxE9AA~~&amp;amp\;pe=witkeIz8LkoUZhulkk1sx9E_1rKgceS0PT-I3sEMmk
 olP5KhdQvJt1UgDYhS1dKffWoWT6ki6UJ7wxyrpcMoGA~~&amp;amp\;t=dWSU4qsc8D7Oq-bfMacK
 wQ~~&quot;&gt;https://www.iit.comillas.edu/personas/lsigrist&lt;/a&gt;&lt;br&gt;&lt;a href=&quot;http:
 //enotice.ieee.org/link.cfm?r=2t13DaV1ZQMWdxFUYxE9AA~~&amp;amp\;pe=6KDWid33EaT
 BI-e5_Rs9WqK142A_ryE8sq-2yQP_PxO6C0QjIOxeNlOScNiFfqtUlnufeNysO01BgoUQ8lmAK
 A~~&amp;amp\;t=dWSU4qsc8D7Oq-bfMacKwQ~~&quot;&gt;http://www.ewh.ieee.org/soc/pes/spain
 /&lt;/a&gt;&lt;/p&gt;
END:VEVENT
END:VCALENDAR

