BEGIN:VCALENDAR
VERSION:2.0
PRODID:IEEE vTools.Events//EN
CALSCALE:GREGORIAN
BEGIN:VTIMEZONE
TZID:America/Los_Angeles
BEGIN:DAYLIGHT
DTSTART:20240310T030000
TZOFFSETFROM:-0800
TZOFFSETTO:-0700
RRULE:FREQ=YEARLY;BYDAY=2SU;BYMONTH=3
TZNAME:PDT
END:DAYLIGHT
BEGIN:STANDARD
DTSTART:20241103T010000
TZOFFSETFROM:-0700
TZOFFSETTO:-0800
RRULE:FREQ=YEARLY;BYDAY=1SU;BYMONTH=11
TZNAME:PST
END:STANDARD
END:VTIMEZONE
BEGIN:VEVENT
DTSTAMP:20240513T033643Z
UID:FCF2D835-B152-4329-8C54-6874411EB235
DTSTART;TZID=America/Los_Angeles:20240508T173000
DTEND;TZID=America/Los_Angeles:20240508T193000
DESCRIPTION:Cheers Oceaneers!\n\nWelcome to the first in a new series of mo
 nthly meetings for the IEEE Oceanic Engineering Society (OES)\, San Diego 
 Chapter.\n\nPlease join us for networking and friendly conversation about 
 everything oceanic\, engineering\, science\, Blue Tech\, and more while en
 joying pizza and drinks. No need to be an IEEE or OES member. Everyone is 
 invited.\n\nMay 8th\, 2024\, Wednesday\n\n5:30pm-7:30pm\n\nLeucadia Pizzer
 ia &amp; Italian Restaurant\n\nUTC/La Jolla\n\n7748 Regents Rd\n\nSan Diego\, 
 CA 92122\n\nThe enclosed patio is reserved for our group.\n\nNo ticket req
 uired\, but please order something for yourself from the restaurant.\n\nMo
 nthly every 2nd Wednesday\n\nNo formal agenda yet. We want to hear from yo
 u. We want to use these meetings to gather the energy from this crowd of l
 ike-minded people and create opportunities to accomplish shared goals. In 
 the future\, we plan to have presentations\, themed events\, etc.\, but le
 t’s just start with getting everyone into the same space for an evening 
 and let the interactions commence.\n\nRSVPs are appreciated\, but not requ
 ired\, just show up!\n\nBldg: Leucadia Pizzeria &amp; Italian Restaurant\, 774
 8 Regents Rd\, San Diego\, California\, United States\, 92122
LOCATION:Bldg: Leucadia Pizzeria &amp; Italian Restaurant\, 7748 Regents Rd\, S
 an Diego\, California\, United States\, 92122
ORGANIZER:greg_laugle@yahoo.com
SEQUENCE:49
SUMMARY:Cheers Oceaneers!
URL;VALUE=URI:https://events.vtools.ieee.org/m/418939
X-ALT-DESC:Description: &lt;br /&gt;&lt;h1 style=&quot;line-height: 1\;&quot;&gt;Cheers Oceaneers
 !&lt;/h1&gt;\n&lt;p style=&quot;line-height: 1\;&quot;&gt;Welcome to the first in a new series o
 f monthly meetings for the IEEE Oceanic Engineering Society (OES)\, San Di
 ego Chapter.&lt;/p&gt;\n&lt;p style=&quot;line-height: 1\;&quot;&gt;Please join us for networkin
 g and friendly conversation about everything oceanic\, engineering\, scien
 ce\, Blue Tech\, and more while enjoying pizza and drinks.&amp;nbsp\; No need 
 to be an IEEE or OES member. Everyone is invited.&amp;nbsp\;&lt;/p&gt;\n&lt;p style=&quot;li
 ne-height: 1\;&quot;&gt;&amp;nbsp\;&lt;/p&gt;\n&lt;p style=&quot;line-height: 1\;&quot;&gt;May 8th\, 2024\, 
 Wednesday&lt;/p&gt;\n&lt;p style=&quot;line-height: 1\;&quot;&gt;5:30pm-7:30pm&lt;/p&gt;\n&lt;p style=&quot;li
 ne-height: 1\;&quot;&gt;&amp;nbsp\;&lt;/p&gt;\n&lt;p style=&quot;line-height: 1\; text-align: left\;
 &quot;&gt;Leucadia Pizzeria &amp;amp\; Italian Restaurant&lt;/p&gt;\n&lt;p style=&quot;line-height: 
 1\; text-align: left\;&quot;&gt;UTC/La Jolla&lt;/p&gt;\n&lt;p style=&quot;line-height: 1\; text-
 align: left\;&quot;&gt;7748 Regents Rd&lt;/p&gt;\n&lt;p style=&quot;line-height: 1\; text-align:
  left\;&quot;&gt;San Diego\, CA 92122&lt;/p&gt;\n&lt;p style=&quot;line-height: 1\;&quot;&gt;&amp;nbsp\;&lt;/p&gt;
 \n&lt;p style=&quot;line-height: 1\;&quot;&gt;The enclosed patio is reserved for our group
 .&amp;nbsp\;&lt;/p&gt;\n&lt;p style=&quot;line-height: 1\;&quot;&gt;No ticket required\, but please 
 order something for yourself from the restaurant.&lt;/p&gt;\n&lt;p style=&quot;line-heig
 ht: 1\;&quot;&gt;&amp;nbsp\;&lt;/p&gt;\n&lt;p style=&quot;line-height: 1\;&quot;&gt;Monthly every 2nd Wednes
 day&lt;/p&gt;\n&lt;p style=&quot;line-height: 1\;&quot;&gt;&amp;nbsp\;&lt;/p&gt;\n&lt;p style=&quot;line-height: 1
 \;&quot;&gt;No formal agenda yet. We want to hear from you. We want to use these m
 eetings to gather the energy from this crowd of like-minded people and cre
 ate opportunities to accomplish shared goals. In the future\, we plan to h
 ave presentations\, themed events\, etc.\, but let&amp;rsquo\;s just start wit
 h getting everyone into the same space for an evening and let the interact
 ions commence.&lt;/p&gt;\n&lt;p style=&quot;line-height: 1\;&quot;&gt;RSVPs are appreciated\, bu
 t not required\, just show up!&lt;/p&gt;
END:VEVENT
END:VCALENDAR

