BEGIN:VCALENDAR
VERSION:2.0
PRODID:IEEE vTools.Events//EN
CALSCALE:GREGORIAN
BEGIN:VTIMEZONE
TZID:America/Los_Angeles
BEGIN:DAYLIGHT
DTSTART:20240310T030000
TZOFFSETFROM:-0800
TZOFFSETTO:-0700
RRULE:FREQ=YEARLY;BYDAY=2SU;BYMONTH=3
TZNAME:PDT
END:DAYLIGHT
BEGIN:STANDARD
DTSTART:20241103T010000
TZOFFSETFROM:-0700
TZOFFSETTO:-0800
RRULE:FREQ=YEARLY;BYDAY=1SU;BYMONTH=11
TZNAME:PST
END:STANDARD
END:VTIMEZONE
BEGIN:VEVENT
DTSTAMP:20240526T222717Z
UID:D79AF42C-7828-48A8-9037-DE3D7E25C779
DTSTART;TZID=America/Los_Angeles:20240523T160000
DTEND;TZID=America/Los_Angeles:20240523T170000
DESCRIPTION:Meet the Consultants! Find out how we can help you achieve your
  goals and objectives.\n\nCo-sponsored by: IEEE Power and Energy Society\n
 \nAgenda: \n4:00 pm PDT IEEE Announcements\n4:02 pm PDT Meet the Consultan
 ts\n4:45 pm PDT Q&amp;A\n4:55 pm PDT Salute to the IEEE Consultants Seattle\n\
 nVirtual: https://events.vtools.ieee.org/m/418998
LOCATION:Virtual: https://events.vtools.ieee.org/m/418998
ORGANIZER:mike.brisbois@ieee.org
SEQUENCE:15
SUMMARY:Meet the IEEE Consultants Seattle
URL;VALUE=URI:https://events.vtools.ieee.org/m/418998
X-ALT-DESC:Description: &lt;br /&gt;&lt;p&gt;Meet the Consultants! Find out how we can 
 help you achieve your goals and objectives.&amp;nbsp\;&lt;/p&gt;\n&lt;p&gt;&lt;img src=&quot;https
 ://events.vtools.ieee.org/vtools_ui/media/display/c003010f-c694-4712-853d-
 e7bee3f23ad4&quot;&gt;&lt;/p&gt;&lt;br /&gt;&lt;br /&gt;Agenda: &lt;br /&gt;&lt;p&gt;4:00 pm PDT IEEE Announceme
 nts&lt;br&gt;4:02 pm PDT Meet the Consultants&lt;br&gt;4:45 pm PDT Q&amp;amp\;A&lt;br&gt;4:55 pm
  PDT Salute to the IEEE Consultants Seattle&lt;/p&gt;
END:VEVENT
END:VCALENDAR

