BEGIN:VCALENDAR
VERSION:2.0
PRODID:IEEE vTools.Events//EN
CALSCALE:GREGORIAN
BEGIN:VTIMEZONE
TZID:America/New_York
BEGIN:DAYLIGHT
DTSTART:20240310T030000
TZOFFSETFROM:-0500
TZOFFSETTO:-0400
RRULE:FREQ=YEARLY;BYDAY=2SU;BYMONTH=3
TZNAME:EDT
END:DAYLIGHT
BEGIN:STANDARD
DTSTART:20241103T010000
TZOFFSETFROM:-0400
TZOFFSETTO:-0500
RRULE:FREQ=YEARLY;BYDAY=1SU;BYMONTH=11
TZNAME:EST
END:STANDARD
END:VTIMEZONE
BEGIN:VEVENT
DTSTAMP:20240508T143247Z
UID:174E68A8-D493-4085-A9C4-0904A2711D6C
DTSTART;TZID=America/New_York:20240501T123000
DTEND;TZID=America/New_York:20240501T131500
DESCRIPTION:Electrical and Computer Engineering students at Kettering Unive
 rsity will be introduced to IEEE with a presentation\, and elections will 
 be held for a new roster of IEEE Student Branch Officers for the B-Section
  student body. Also\, in this meeting\, an open discussion will be held to
  find ways to recruit more women students in Electrical and Computer Engin
 eering. Moreover\, women students will be highly encouraged to become an o
 fficer for the Student Branch.\n\nSpeaker(s): Huseyin Hiziroglu\, \n\nRoom
 : 1-817AB\, Bldg: Academic Building \, 1700 University Avenue\, \, Flint\,
  Michigan\, United States\, 48504
LOCATION:Room: 1-817AB\, Bldg: Academic Building \, 1700 University Avenue\
 , \, Flint\, Michigan\, United States\, 48504
ORGANIZER:hhizirog@kettering.edu
SEQUENCE:6
SUMMARY:IEEE STUDENT BRANCH MEETING AT KETTERING UNIVERSITY
URL;VALUE=URI:https://events.vtools.ieee.org/m/419064
X-ALT-DESC:Description: &lt;br /&gt;&lt;p class=&quot;MsoNormal&quot;&gt;&lt;span style=&quot;font-size: 
 10.5pt\; line-height: 115%\; font-family: &#39;Open Sans&#39;\,sans-serif\; color:
  #616161\; background: white\;&quot;&gt;Electrical and Computer Engineering studen
 ts at Kettering University will be introduced to IEEE with a presentation\
 , and elections will be held for a new roster of IEEE Student Branch Offic
 ers for the B-Section student body. Also\, in this meeting\, an open discu
 ssion will be held to find ways to recruit more women students in Electric
 al and Computer Engineering. Moreover\, women students will be highly enco
 uraged to become an officer for the Student Branch.&amp;nbsp\;&lt;/span&gt;&lt;/p&gt;
END:VEVENT
END:VCALENDAR

